BEGIN:VCALENDAR
VERSION:2.0
PRODID:-//MetalExpress - ECPv6.15.19//NONSGML v1.0//EN
CALSCALE:GREGORIAN
METHOD:PUBLISH
X-WR-CALNAME:MetalExpress
X-ORIGINAL-URL:https://metalexpress.sk
X-WR-CALDESC:Udalosti pre MetalExpress
REFRESH-INTERVAL;VALUE=DURATION:PT1H
X-Robots-Tag:noindex
X-PUBLISHED-TTL:PT1H
BEGIN:VTIMEZONE
TZID:Europe/Bratislava
BEGIN:DAYLIGHT
TZOFFSETFROM:+0100
TZOFFSETTO:+0200
TZNAME:CEST
DTSTART:20220327T010000
END:DAYLIGHT
BEGIN:STANDARD
TZOFFSETFROM:+0200
TZOFFSETTO:+0100
TZNAME:CET
DTSTART:20221030T010000
END:STANDARD
BEGIN:DAYLIGHT
TZOFFSETFROM:+0100
TZOFFSETTO:+0200
TZNAME:CEST
DTSTART:20230326T010000
END:DAYLIGHT
BEGIN:STANDARD
TZOFFSETFROM:+0200
TZOFFSETTO:+0100
TZNAME:CET
DTSTART:20231029T010000
END:STANDARD
BEGIN:DAYLIGHT
TZOFFSETFROM:+0100
TZOFFSETTO:+0200
TZNAME:CEST
DTSTART:20240331T010000
END:DAYLIGHT
BEGIN:STANDARD
TZOFFSETFROM:+0200
TZOFFSETTO:+0100
TZNAME:CET
DTSTART:20241027T010000
END:STANDARD
END:VTIMEZONE
BEGIN:VEVENT
DTSTART;TZID=Europe/Bratislava:20231118T180000
DTEND;TZID=Europe/Bratislava:20231118T220000
DTSTAMP:20260421T101302
CREATED:20231109T154937Z
LAST-MODIFIED:20231110T113925Z
UID:48148-1700330400-1700344800@metalexpress.sk
SUMMARY:Animal Core Fest vol. 3
DESCRIPTION:O slovo sa po roku znovu hlási benefičná akcia na podporu OZ – Spokojná labka  Animal Core Fest s 3. pokračovaním. tento rok sa miesto konania presunulo do Žilinského Smeru 77. Budete si môcť vypočuť Oldschool Hardcore cez Black Death/Thrash až po zmesku Abióza Core. Aj tento rok sme si pre Vás znovu prichystali tombolu a ďalšie eventy. \nProgram akcie: \nVioce Of Rebellion (19:00)\nKapela pochádza z Martina. Chalani sa dali dokopy v roku 2018 a majú za sebou už pár vydarených akcií kde si idu svoj obľúbený Oldschool Hardcore. Svoju najväčšiu inšpiráciu našli práve u kapely Biohazard.\nFacebook: https://www.facebook.com/groups/VoiceOfRebelion/?ref=share\nBandzone: www.bandzone.cz/vor \nSorgoth (20:00)\nChalani svoju kapelu založili v roku 2015 v meste Bytča. Už od začiatku si prešla menšími zmenami členov. Na svojom konte majú EP Impurity z roku 2017 a dva single Paleness of Death a The Last Circle. Žánrovo sa v začiatku radili ku klasickému severskému black metalu. Postupne začali pridávať viac atmosférických a post prvkov kde kapela prešla aj svojou vizuálnou zmenou.\nFacebook: https://www.facebook.com/SorgothOfficial\nBandcamp: https://sorgoth.bandcamp.com/ \nAbióza (21:00)\nKapela vznikla v roku 2015 kde na začiatku prešla menšími zmenami v zostave. Postupom času sa menili aj po hudobnej stránke kde si prešli viacerými štýlmi až nakoniec hrajú Abiózacore.\nFacebook: https://www.facebook.com/AbiozaMT\nBandzone : https://bandzone.cz/abioza \nSaprophyte (22:00)\nKapela vznikla v roku 1995 a hrajú Oldschool Hardcore. Na scéne aj s prestávkami sú viac ako 25 rokov. V roku 2000 vydávajú 1 album Saprophyte v 2002 On The Right Side a 2009 „3″. Kapela prechádzala viacerými zmenami hlavne na poste bicích a base. Majú na konte veľa koncertov kde robili support kapelam Pro-Pain\, Born From Pain\, First Blood\, Hatebreed a podobne.\nFacebook: https://www.facebook.com/saprophytehardcorefamily\nBandzone: https://bandzone.cz/saprophyte \nKrudus (23:00)\nChalani pochádzajú z Bratislavy a hrajú výborný Death/Thrash metal.\nV roku 2020 im vyšlo vonku demo Poets Of Chaos a v roku 2022 album Self Titled.\nWithkoji: https://withkoji.com/@krudus.band \nAk by niekto chcel pomôcť aj inak ako finančne kľudne môžete nosiť pre zvieratá granule aj iné dobroty budeme vďačný aj za takúto pomoc. \nDátum: 18.11.2023\nMiesto: Smer Klub 77\, Žilina\nVstup: 10€\nFB Udalosť: https://www.facebook.com/events/133778366406370 \nText a popisky čiastočne prevzaté z FB udalosti
URL:https://metalexpress.sk/event/48148/
LOCATION:Smer Klub 77 Žilina\, R. Zaymusa 72/8\, Zilina\, Slovakia\, Žilina\, Žilina\, Slovenská republika
CATEGORIES:Kalendár,Koncerty,Udalosti
ATTACH;FMTTYPE=image/jpeg:https://metalexpress.sk/wp-content/uploads/2023/11/animal-core.jpg
END:VEVENT
BEGIN:VEVENT
DTSTART;TZID=Europe/Bratislava:20231118T180000
DTEND;TZID=Europe/Bratislava:20231118T223000
DTSTAMP:20260421T101302
CREATED:20231107T135851Z
LAST-MODIFIED:20231107T135851Z
UID:48091-1700330400-1700346600@metalexpress.sk
SUMMARY:MaňoFESTácia vol. 3
DESCRIPTION:Budúcu sobotu sa v Kanianke uskutoční už 3. MaňoFESTácia\, kde si môžete vychutnať rozmanité odnože metalu. \nDemonic-Eyed\nKapela zo Zvolena drviaca thrash/HC/crust a podobné nepekné záležitosti\, ničiaca poslucháčov svojou nekompromisnosťou a razantnosťou.\nTémy skladieb: sociálne rozpory\, mytológia\, sloboda zvierat\, šamanizmus a podobné nemainstreamové chuťovky.\nCharakteristika členov kapely: večne zamračení a nezhovorčiví\, bez empatie k popu\, hudobne na okraji.\nhttps://www.facebook.com/demoniceyed\n \nAchsar\nFanúšikovia sa môžu tešiť na ich klasické aj pevne verím\, že aj nové skladby z ich pripravovaného albumu. Ich folk metalový nádych dokáže roztancovať nie jednu nohu!\nhttps://www.facebook.com/achsarofficial\n \nMotorscream Project\nHudobný projekt založený v r. 2016 hrajúci prevažne staré skladby Motörhead – old school HeavyMetal. Dnes už „banda“ disponujúca aj vlastnými skladbami a albumom.\nhttps://www.facebook.com/profile.php?id=100040335399101\n \nMarturos\nMarturos je melodic metalová kapela z Prievidze založená v roku 2015. Päťčlenná zostava s výraznou frontmankou a jej dravým vokálom má na konte dva štúdiové albumy\, niekoľko singlov a množstvo koncertov\, aj s menami ako TÝR alebo Marco Mendoza. Vo svojej hudbe miešajú energické a moderné prvky s tými staršími. Nie vždy štandardné kompozície zaujmú aj hĺbavými textami. Svojim prirodzeným prejavom a z duše vychádzajúcim podaním svojich skladieb oslovujú širokú škálu poslucháčov. Podstatou hudby Marturos nie je len poslucháča baviť\, ale v ňom aj zanechať stopu\, ktorá ho inšpiruje\, donúti zamyslieť sa a precítiť okamih.\nhttps://www.facebook.com/marturosofficial\n \nDátum: 18.11.2023\nMiesto: Moment Klub\, Kanianka\nVstup: ?\nFB udalosť: https://www.facebook.com/events/3681125022116184 \nPopisky kapiel prebraté z FB udalosti
URL:https://metalexpress.sk/event/manofestacia-vol-3/
LOCATION:Moment Club Kanianka\, SNP 588/2\, Kanianka\, Slovakia\, Kanianka\, Prievidza\, Kanianka\, Slovakia (Slovak Republic)
CATEGORIES:Kalendár,Koncerty,Udalosti
ATTACH;FMTTYPE=image/jpeg:https://metalexpress.sk/wp-content/uploads/2023/11/mano.jpg
END:VEVENT
BEGIN:VEVENT
DTSTART;TZID=Europe/Bratislava:20231118T180000
DTEND;TZID=Europe/Bratislava:20231118T223000
DTSTAMP:20260421T101302
CREATED:20231110T163425Z
LAST-MODIFIED:20231110T163425Z
UID:48169-1700330400-1700346600@metalexpress.sk
SUMMARY:Mad Sin + The Rocket Dogz + The Crownies + The Spooky Guests
DESCRIPTION:Do Fugy sa valí horrorpunk rockabilly legenda MAD SIN\, aby rozprúdila krv vo vašich premrzlých končatinách svojimi skočnými rytmami. Spoločnosť im budú robiť nie menšie kvality ako český THE ROCKET DOGZ\, hororový THE SPOOKY GUESTS  a predstavitelia slovenskej scény THE CROWNIES. Pripravte sa na noc poriadnej rock´n´rollovej tancovačky. \nMAD SIN\n \nTHE ROCKE DOGZ\n \nTHE SPOOKY GUESTS\n \nTHE CROWNIES\n \nDátum: 18.11.2023\nMiesto: FUGA\nVstup: 20€\nPredpredaj vstupeniek: https://goout.net/sk/mad-sin%2Bsupport/szlkfvv/?fbclid=IwAR1ph6ixKWmt8mLFx9S3YosRxyxgMB1vCazEf8gnNFdXbLqvWpXe4rpBs5o\nFB Event: https://www.facebook.com/events/203654915937296
URL:https://metalexpress.sk/event/mad-sin-the-rocket-dogz-the-crownies-the-spooky-guests/
LOCATION:FUGA\, Námestie SNP 24\, Bratislava\, Bratislavský Kraj\, Slovenská republika
ATTACH;FMTTYPE=image/jpeg:https://metalexpress.sk/wp-content/uploads/2023/11/mad-sin.jpg
ORGANIZER;CN="Punk%C3%A1%C4%8Di De%C5%A5om":MAILTO:punkacidetom@gmail.com
END:VEVENT
BEGIN:VEVENT
DTSTART;TZID=Europe/Bratislava:20231118T190000
DTEND;TZID=Europe/Bratislava:20231118T223000
DTSTAMP:20260421T101302
CREATED:20231110T164727Z
LAST-MODIFIED:20231110T164727Z
UID:48177-1700334000-1700346600@metalexpress.sk
SUMMARY:Nocturnal Art 2023
DESCRIPTION:Voľné pokračovanie metalovej veselice NOCTURNAL ART\, ktorú si niektorí z Vás možno ešte pamätajú z čias dávnych\, keď bola organizovaná v kine Tatra vo Vrábloch.\nTento rok sa o večer plný dobrej hudby postarajú: \nŽriebädlo (black metal – Sereď)\n \nEmbrace the Darkness (melodic doom/death metal – Kuřim/CZ)\n \nAcid Force (thrash metal – Banská Bystrica)\n \nPeorth (melodic death metal – Vráble)\n \nDátum: 18.11.2023\nMiesto: Frankie Rock Club\, Nitra\nVstup: 6€\nFB Event: https://www.facebook.com/events/667256348636217
URL:https://metalexpress.sk/event/nocturnal-art-2023/
LOCATION:Frankie Rock Club\, Mostná 42\, Nitra\, Slovakia\, Nitra\, Nitra\, Slovenská republika
ATTACH;FMTTYPE=image/jpeg:https://metalexpress.sk/wp-content/uploads/2023/11/nocturnal-art.jpg
END:VEVENT
END:VCALENDAR