BEGIN:VCALENDAR
VERSION:2.0
PRODID:-//MetalExpress - ECPv6.15.19//NONSGML v1.0//EN
CALSCALE:GREGORIAN
METHOD:PUBLISH
X-ORIGINAL-URL:https://metalexpress.sk
X-WR-CALDESC:Udalosti pre MetalExpress
REFRESH-INTERVAL;VALUE=DURATION:PT1H
X-Robots-Tag:noindex
X-PUBLISHED-TTL:PT1H
BEGIN:VTIMEZONE
TZID:Europe/Bratislava
BEGIN:DAYLIGHT
TZOFFSETFROM:+0100
TZOFFSETTO:+0200
TZNAME:CEST
DTSTART:20220327T010000
END:DAYLIGHT
BEGIN:STANDARD
TZOFFSETFROM:+0200
TZOFFSETTO:+0100
TZNAME:CET
DTSTART:20221030T010000
END:STANDARD
BEGIN:DAYLIGHT
TZOFFSETFROM:+0100
TZOFFSETTO:+0200
TZNAME:CEST
DTSTART:20230326T010000
END:DAYLIGHT
BEGIN:STANDARD
TZOFFSETFROM:+0200
TZOFFSETTO:+0100
TZNAME:CET
DTSTART:20231029T010000
END:STANDARD
BEGIN:DAYLIGHT
TZOFFSETFROM:+0100
TZOFFSETTO:+0200
TZNAME:CEST
DTSTART:20240331T010000
END:DAYLIGHT
BEGIN:STANDARD
TZOFFSETFROM:+0200
TZOFFSETTO:+0100
TZNAME:CET
DTSTART:20241027T010000
END:STANDARD
END:VTIMEZONE
BEGIN:VEVENT
DTSTART;TZID=Europe/Bratislava:20231116T190000
DTEND;TZID=Europe/Bratislava:20231116T223000
DTSTAMP:20260423T104025
CREATED:20231113T102644Z
LAST-MODIFIED:20231113T102644Z
UID:48195-1700161200-1700173800@metalexpress.sk
SUMMARY:FFUD Show: Whoresnation (Fr) / Abortion / Sangre De Idiotas / Ruineum
DESCRIPTION:Volný deň pred víkendom ? Žiadny problém\, ak si struhneš večer predtým hlučný koncert. V overenom priestore DKaffé v seredskom kulturáku zahrajú tieto bandy : \nWHORESNATION – pochádzajú z francúzskeho mesta Besançon a fungujú od roku 2009. Na konte majú tri veľké platne (plus samozrejme nejaké tie 7″ splitká a single) nekompromisného grindcore nasiaknutého deathmetalovou brutaltou. Intenzívne výplachy podporené blastbeatmi vytvárajú dojem čistej deštrukcie všetkého naokolo\, veď si vypočuj posledný album Dearth (2022) a vieš čo očakávať. Svoju eardestruction show predstavili už aj v našich končinách a po roku sa na SVK opať vracajú s jednou zastávkou na svojom turné. Pre fandov tohto žánru povinnosť !\nhttps://whoresnation.bandcamp.com/album/dearth \nABORTION – legendárna grindcore parta fungujúca od roku 1989\, ktorá vobec nezvoľnuje tempo a stále šlape ako dobre namazaný stroj. Kritické texty sú odľahčené patričnou dávkou humoru a počúvať príhovory pred skladbami je väčší zážitok ako hocijaká standup show. Gulometné bicie\, nabrúsené gitary a spev čo ti prejde hlavou ako vŕtačka\, ťa nenechajú stratiť pozornosť počas celého ich setu. Takto sa to robí doboha.\nhttps://abortionofficial.bandcamp.com/ \nSANGRE DE IDIOTAS – ostrielané duo\, ktoré vrthlo na scénu ako barbarský nájazd na mierumilovnú osadu. Taký nájeb aký dokáže spraviť zbústrovaná basa a bicie sa len tak nevidí. Intenzita setu je taká vysoká\, že na konci budeš viac unavený ako samotní hudobníci. Špina\, surovosť\, hluk\, intenzita. To sú nástroje\, ktorými ťa rozsekajú na padrť.\nhttps://sangredeidiotas.bandcamp.com/ \nRUINEUM – pomerne mladá kref zo Zvolena spraví radosť všetkým fandom smrc metalu. A to presne takého\, aký máme všetci radi. Oldschool death páchnuci hnilobou a záhrobím\, čo v posledných rokoch zažíva renesanciu. Takže back to the roots priatelia.\nhttps://ruineum.bandcamp.com/album/demo-2022 \nDátum: 16.11.2023\nMiesto: DKaffé\, Sereď\nVstup: 5€\nFB Event: https://www.facebook.com/events/1017631972690217
URL:https://metalexpress.sk/event/ffud-show-whoresnation-fr-abortion-sangre-de-idiotas-ruineum/
LOCATION:DKaffe\, Školská 118/1\, Sereď\, 926 01\, Slovenská republika
ATTACH;FMTTYPE=image/jpeg:https://metalexpress.sk/wp-content/uploads/2023/11/whoresnation.jpg
END:VEVENT
END:VCALENDAR