BEGIN:VCALENDAR
VERSION:2.0
PRODID:-//MetalExpress - ECPv6.15.19//NONSGML v1.0//EN
CALSCALE:GREGORIAN
METHOD:PUBLISH
X-WR-CALNAME:MetalExpress
X-ORIGINAL-URL:https://metalexpress.sk
X-WR-CALDESC:Udalosti pre MetalExpress
REFRESH-INTERVAL;VALUE=DURATION:PT1H
X-Robots-Tag:noindex
X-PUBLISHED-TTL:PT1H
BEGIN:VTIMEZONE
TZID:Europe/Bratislava
BEGIN:DAYLIGHT
TZOFFSETFROM:+0100
TZOFFSETTO:+0200
TZNAME:CEST
DTSTART:20220327T010000
END:DAYLIGHT
BEGIN:STANDARD
TZOFFSETFROM:+0200
TZOFFSETTO:+0100
TZNAME:CET
DTSTART:20221030T010000
END:STANDARD
BEGIN:DAYLIGHT
TZOFFSETFROM:+0100
TZOFFSETTO:+0200
TZNAME:CEST
DTSTART:20230326T010000
END:DAYLIGHT
BEGIN:STANDARD
TZOFFSETFROM:+0200
TZOFFSETTO:+0100
TZNAME:CET
DTSTART:20231029T010000
END:STANDARD
BEGIN:DAYLIGHT
TZOFFSETFROM:+0100
TZOFFSETTO:+0200
TZNAME:CEST
DTSTART:20240331T010000
END:DAYLIGHT
BEGIN:STANDARD
TZOFFSETFROM:+0200
TZOFFSETTO:+0100
TZNAME:CET
DTSTART:20241027T010000
END:STANDARD
END:VTIMEZONE
BEGIN:VEVENT
DTSTART;TZID=Europe/Bratislava:20231112T180000
DTEND;TZID=Europe/Bratislava:20231112T223000
DTSTAMP:20260421T101229
CREATED:20231105T153002Z
LAST-MODIFIED:20231105T153002Z
UID:48003-1699812000-1699828200@metalexpress.sk
SUMMARY:CARPENTER BRUT a PERTURBATOR v Prahe!
DESCRIPTION:CARPENTER BRUT\, PERTURBATOR\, HO99O9\n12. 11. 2023 – Praha\, Forum Karlín\nFB event: https://fb.me/e/T4ejCzCr\nPředprodej: https://ticketmaster.cz/event/carpenter-brut-perturbator-ho99o9-vstupenky/47193  \nKdyž se řekne synthwave\, napadnou vás dvě jména. PERTURBATOR a CARPENTER BRUT. Prvně jmenovaný je v synth-subkultuře nejznámější jméno\, které temný retro-futuristický zvuk inspirovaný sci-fi/horor filmy 80. let zpopularizovalo\, druhý je v současnosti zas nejžhavějším darksynth/synthwave želízkem v ohni. Koncerty obou interpretů v Praze byly naposledy vyprodány\, a tak je jejich spojení na turné Leather Sacraments rozhodně událost. James Perturbator Kent\, dnes už slavný umělec\, začal svou hudební kariéru jako kytarista v blackmetalových projektech\, ale nakonec se tento Pařížan nechal svést svou vášní k cyberpunk kultuře\, s níž slaví úspěchy v rámci milionových poslechů a ve vyprodaných klubech. Ale PERTURBATOR nestojí na místě a svou temnou elektronickou hudbu inspirovanou retro stylem dnes vymaňuje ze všech synthwave-klišé. Jestliže EP  „New Model“ (2017) v jeho tvorbě signalizovalo drastický zvukový odklon\, album „Lustful Sacraments“ je důkazem dalšího přerodu – zavádí fanoušky do hlubších neprobádaných teritorií a představuje zároveň dosud nejvyzrálejší dílo PERTURBATOR\, které spojuje temné syntetické tóny s klasickým post-punkem\, gotikou a těžkými techno rytmy. Na albu se proplétá klasická filmová atmosféra s dunivými bicími\, jemnými elektronickými melodiemi a kytarovými kudrlinkami.\nPERTURBATOR tísnivými\, temně elektronickými tóny na poslední desce „Final Light“ pokračuje v nihilistickém zkoumání světů budoucnosti\, které se týkají nevyhnutelného pádu lidstva. \nTo CARPENTER BRUT stále čerpá své vlivy z televizních pořadů a béčkových filmů 80. let nabitých syntezátory – zejména z osmdesátkových slasher flicků\, jejichž atmosféru zhudebňují pomocí temné retro synthwave muziky\, jakou jsme v minulosti znali od Perturbatora.\nTajemný a nenápadný muž za pentagonem či brutagramem\, jak by ho nazvali jeho fanoušci – evokuje setkání retrobeatů s vesmírem Johna Carpentera. Při poslechu jeho nahrávek by si však člověk vsadil spíše na metalistický původ\, zamilovanost do italského giallo mistra Daria Argenta a násilím podávanou náboženskou výchovu. To by vysvětlovalo jeho zálibu v okultismu\, vášeň pro kýčovité zvuky a zbožňování všech druhů požitků.\nAle příběh\, který CARPENTER BRUT napsal a složil\, nabírá nový směr. Bret Halford se stává krvežíznivým sériovým vrahem\, touží po pomstě a turné se svou kapelou Leather Patrol využívá k lovu všech\, kdo ho v pubertě šikanovali. S vražednými riffy a metalovými bicími CARPENTER BRUT jasně deklaruje svou lásku k thrash metalu osmdesátých let\, zatímco zpěv nyní ve skladbách zaujímá důležitější roli. Novinka je stejně silná jako chytlavá\, kombinace obojího vede k hudbě elektrizující jako nikdy předtím.\nCARPENTER BRUT vzdává hold kultuře\, která tehdy položila základy elektra a metalu\, aby nám poskytla a připomenula jedinečný\, násilný a šílený zvuk 80. let. \nPředkapelou na turné bude HO99O9\, jejichž industriální revolta tepe punkem\, ale též hiphopovým kazatelstvím. HO99O9 jsou hluční\, agresivní a vstřebávají všechny turbulence dnešního světa. Je to hudba pro konec světa\, která vás v něm zároveň drží naživu.
URL:https://metalexpress.sk/event/carpenter-brut-a-perturbator-v-prahe/
LOCATION:Forum Karlin\, Pernerova 51\, Prague\, Czech Republic\, Praha\, Praha\, Česká republika
CATEGORIES:Koncerty,Udalosti
ATTACH;FMTTYPE=image/jpeg:https://metalexpress.sk/wp-content/uploads/2023/11/inet1.mailadmin.jpg
END:VEVENT
END:VCALENDAR