BEGIN:VCALENDAR
VERSION:2.0
PRODID:-//MetalExpress - ECPv6.15.19//NONSGML v1.0//EN
CALSCALE:GREGORIAN
METHOD:PUBLISH
X-WR-CALNAME:MetalExpress
X-ORIGINAL-URL:https://metalexpress.sk
X-WR-CALDESC:Udalosti pre MetalExpress
REFRESH-INTERVAL;VALUE=DURATION:PT1H
X-Robots-Tag:noindex
X-PUBLISHED-TTL:PT1H
BEGIN:VTIMEZONE
TZID:Europe/Bratislava
BEGIN:DAYLIGHT
TZOFFSETFROM:+0100
TZOFFSETTO:+0200
TZNAME:CEST
DTSTART:20220327T010000
END:DAYLIGHT
BEGIN:STANDARD
TZOFFSETFROM:+0200
TZOFFSETTO:+0100
TZNAME:CET
DTSTART:20221030T010000
END:STANDARD
BEGIN:DAYLIGHT
TZOFFSETFROM:+0100
TZOFFSETTO:+0200
TZNAME:CEST
DTSTART:20230326T010000
END:DAYLIGHT
BEGIN:STANDARD
TZOFFSETFROM:+0200
TZOFFSETTO:+0100
TZNAME:CET
DTSTART:20231029T010000
END:STANDARD
BEGIN:DAYLIGHT
TZOFFSETFROM:+0100
TZOFFSETTO:+0200
TZNAME:CEST
DTSTART:20240331T010000
END:DAYLIGHT
BEGIN:STANDARD
TZOFFSETFROM:+0200
TZOFFSETTO:+0100
TZNAME:CET
DTSTART:20241027T010000
END:STANDARD
END:VTIMEZONE
BEGIN:VEVENT
DTSTART;TZID=Europe/Bratislava:20231111T180000
DTEND;TZID=Europe/Bratislava:20231111T223000
DTSTAMP:20260421T101251
CREATED:20231109T121446Z
LAST-MODIFIED:20231109T121446Z
UID:48139-1699725600-1699741800@metalexpress.sk
SUMMARY:CHOROSIA - JÓB - UNDERDOSE - AS THEY RISE - vo Fuge!
DESCRIPTION:Viedeňskí riff majstri 𝗖𝗛𝗢𝗥𝗢𝗦𝗜𝗔\, sebavedomo a progresívne balansujúci medzi doomom\, sludgeom\, grindom a old-school death metalom\, vydali 15. septembra v poradí ich tretí album “Stray Dogs” a po juhoslovanskom turné zablúdia po druhýkrát na Slovensko. Vďaka ochote experimentovať a syntetickému tvorivému prístupu dokážu produkovať relevantnú\, neopočúvanú hudbu a posúvajú limity žánrov\, ktoré majú tendenciu zaseknúť sa v minulosti. Vďaka tomu stihli zdieľať pódium s kapelami ako Crowbar\, Dopelord\, Yob\, či Neurosis. Nerobia žiadne kompromisy na ceste k poslucháčovi a 11. 11. doletia do Fugy z ich domovskej Iommisféry roztaviť Ti tvár.\nhttps://chorosia.bandcamp.com/music\nhttps://www.facebook.com/chorosia\n\n\nSupport:\nJ͢ó͢b͢\nInštrumentálni post-metaloví poéti\, ktorí za seba nechávajú rozprávať komplexné\, úprimným sentimentom presiaknuté sonické príbehy. Metricky vyzreté mantry k nemému filmu o osude dnešného človeka\, naživo synesteticky umocnené vizuálnou projekciou. Introvertský eargasm.\nhttps://linktr.ee/Job.band.job\nhttps://jobband.bandcamp.com/album/mmxix-ep\n\n\nU͢n͢d͢e͢r͢d͢o͢s͢e͢\nGroovy dad sludge partička\, vracajúca sa po dlhšej odmlke spôsobenej otcovskými povinnosťami. Pomalší\, hĺbavejší a tvrdší\, ako si ich (možno) pamätáte. V novej tvorbe s láskou a nostalgiou spomínajú na svoje vlasaté grungeové a nu-metalové korene\, ale nenechávajú sa nimi obmedzovať pri koketovaní s elektronikou\, lyrickom laškovaní s morbiditou a bezbožným uctievaním frygických sekúnd.\nhttps://underdosesk.bandcamp.com/music\nhttps://www.facebook.com/UnderdoseSK/\nhttps://www.youtube.com/channel/UCukG_5CERBXVG3Nbmn9kjtw\nA͢s͢ ͢T͢h͢e͢y͢ ͢R͢i͢s͢e͢\nDie-hard\, in-your-face mosh core komando s odvážnymi odbočkami do djentu. Najživelnejšia a najpriamočiarejšia kapela večera. Neodporúča sa stáť s pivom pod pódiom\, lebo zostaneš ‚oláty‘ a s črepom namiesto pohára v ruke. True story.\nhttps://astheyrise.bandcamp.com/music\nhttps://www.facebook.com/astheyriseofficial/\n \n𝐊𝐞𝐝𝐲: 11. November 2023 (sobota)\n𝐊𝐝𝐞: FUGA\, Bratislava\n𝐕𝐬𝐭𝐮𝐩: 8€\n𝐒𝐭𝐚𝐫𝐭: 19:00\nFB Udalosť: https://www.facebook.com/events/3470068236575481/  \nPoužitý text pochádza z FB udalosti
URL:https://metalexpress.sk/event/chorosia-job-underdose-as-they-rise-vo-fuge/
LOCATION:FUGA\, Námestie SNP 24\, Bratislava\, Bratislavský Kraj\, Slovenská republika
CATEGORIES:Udalosti
ATTACH;FMTTYPE=image/jpeg:https://metalexpress.sk/wp-content/uploads/2023/11/387849616_842883077837693_5671450007802569857_n.jpg
END:VEVENT
BEGIN:VEVENT
DTSTART;TZID=Europe/Bratislava:20231111T190000
DTEND;TZID=Europe/Bratislava:20231111T220000
DTSTAMP:20260421T101251
CREATED:20231106T161604Z
LAST-MODIFIED:20231106T161604Z
UID:48046-1699729200-1699740000@metalexpress.sk
SUMMARY:WASTED STRUGGLE - MÖR - DRUGS v Bardejove!
DESCRIPTION:Pozývame Vás na ďalší koncert duševnej očisty v podobe hluku. Tentokrát k nám zavítajú 3 kapely z troch krajín: \nWASTED STRUGGLE – maďarská kapela z hlavného mesta\, hrajúca chaotic hard core s prvkami metalu.\nhttps://wastedstruggle.bandcamp.com/album/agenda-of-fear \nMÖR – poľská kapela z Jasla. zložená z členov kapiel S.A.T.A.N. alebo Burn the Cross (ktoré u nás už neraz hrali)\, je čerstvá novinka\, zatiaľ bez materiálu na prezentovanie sa\, no z inklinácií ich členov je jasné\, že ich muzika sa bude pohybovať na pomedzí najtemnejšieho metalu a najextrémnejšieho hardcore punku. \nDRUGS – naše farby slovenské bude zastupovať zemplínsko/košicko/rusnácka hudobná skupina\, ktorá ostane žánrovo v rytmoch večera.\nhttps://drogy.bandcamp.com/album/bude-hor-ie \nDátum: 11.11.2023\nMiesto: BAŠTA\, Bardejov\nVstup: 5 €\nFB Udalosť: https://www.facebook.com/events/3736950543220100/ \nZ verejných zdrojov podporil Fond na podporu umenia. \nPoužitý text pochádza z FB udalosti
URL:https://metalexpress.sk/event/wasted-struggle-mor-drugs-v-bardejove/
LOCATION:BAŠTA – kultúrno-komunitné centrum\, Na hradbách 94/3 \, Bardejov\, Slovakia\, Bardejov\, Slovenská republika
CATEGORIES:Udalosti
ATTACH;FMTTYPE=image/jpeg:https://metalexpress.sk/wp-content/uploads/2023/11/396261291_729590699198074_706810311961601119_n.jpg
END:VEVENT
BEGIN:VEVENT
DTSTART;TZID=Europe/Bratislava:20231111T190000
DTEND;TZID=Europe/Bratislava:20231111T223000
DTSTAMP:20260421T101251
CREATED:20231106T161019Z
LAST-MODIFIED:20231106T161019Z
UID:48043-1699729200-1699741800@metalexpress.sk
SUMMARY:Last Days of Jesus - 30 Years and Happy Ending Show
DESCRIPTION:The Last Days of Jesus … 30 výročie vzniku\, posledný koncert v Bratislave a rozlúčková párty s kamarátmi. The Last Days of Jesus je slovenská gothic rocková kapela. Za 30 rokov svojej existencie vydali 7 albumov a odohrali nespočet koncertov v 19 krajinách sveta\, od San Francisca po Voronež\, od Tampere po Neapol. Ich hudba sa objavila vo filme\, divadle i cirkuse a je čas ukončiť túto éru veľkou šou. V sobotu 11. novembra zahrajú svoj posledný bratislavský koncert na lodi Pink Whale\, priamo pod hradom. Kto nepríde\, bude ho to celý zvyšok života mrzieť!\nLast Days of Jesus\nhttps://thelastdaysofjesus.bandcamp.com/\nŠpeciálni hostia:\nBratislavské Dievčatá\nhttps://papagajuvhlasatelrecords.bandcamp.com/\nPhosgene Girls\nhttps://phosgenegirls.bandcamp.com/album/93-single\nŠony The DJ (afterpárty)\nhttps://www.facebook.com/ShonyTheDJ/ \nKde: Pink Whale\, Bratislava\nKedy: 11.11.2023\nFB Udalosť: https://www.facebook.com/events/694816442706382/ \nText prebratý z FB udalosti
URL:https://metalexpress.sk/event/last-days-of-jesus-30-years-and-happy-ending-show/
LOCATION:Pink Whale\, Nábrežie armádneho generála Ludvíka Svobodu 1868rkm\, 811 02 Staré Mesto\, Bratislava\, Slovakia 0911 177 172\, Bratislava\, Bratislava\, 81102\, Slovenská republika
CATEGORIES:Udalosti
ATTACH;FMTTYPE=image/jpeg:https://metalexpress.sk/wp-content/uploads/2023/11/387059725_655885723190792_4721138752452524880_n.jpg
END:VEVENT
BEGIN:VEVENT
DTSTART;TZID=Europe/Bratislava:20231111T190000
DTEND;TZID=Europe/Bratislava:20231111T223000
DTSTAMP:20260421T101251
CREATED:20231106T162339Z
LAST-MODIFIED:20231106T162339Z
UID:48051-1699729200-1699741800@metalexpress.sk
SUMMARY:SEKEROMLAT - PAKOSTEŇ - OTRAS na Werande!
DESCRIPTION:Do Bratislavy mieri v rámci svojho mini turné po Česku a Slovensku trojica kapiel v rôznom blackovom štýle. Z Českej republiky sa predstaví Sekeromlat a Pakosteň. Dvojica Pakosteň a Otras už na tomto istom mieste odohrala pred rokom koncert\, takže si to môžete zopakovať spolu s nami. Viac o jednotlivých kapelách nájdete nižšie \nSekeromlat (CZ) – Raw black metal\nhttps://sekeromlat.bandcamp.com/album/dr-py-a-tes-ky\nSurový black metal z Prahy prvý krát na Slovensku! Raw záležitosť v tradícii českého blacku na prelome tisícročí. \nPakosteň (CZ) – Chain black metal\nhttps://pakosten.bandcamp.com/album/iv-bi\nV lete 2022 spevák spieval v grile a strašil cyklistov\, tento krát si Pakosteň dajú reťazový kúpeľ v interiéry Werandy. Moja zima nikdy nekončí! \nOtras (SK) – Black metal punx\nhttps://otraspunx.bandcamp.com/album/otras-pakoste-split\nKošickí true pekelníci s novým bubeníkom a druhou gitarou po roku a pol na Werande! Ak si nevidel/a posledný vydarený koncert s Mystifier\, toto je príležitosť na reparát. \nPlagát: Seerus \nDátum: 11.11.2023\nMiesto: Weranda\, Bratislava\nVstup: 8 – 10 €\nFB Udalosť: https://www.facebook.com/events/1634738283683098/ \nPopisky ku kapelám prebraté z FB udalosti
URL:https://metalexpress.sk/event/sekeromlat-pakosten-otras-na-werande/
LOCATION:Weranda\, Májová 3303/23\, 851 01 Bratislava-Petržalka\, Bratislava\, Slovenská republika
CATEGORIES:Udalosti
ATTACH;FMTTYPE=image/jpeg:https://metalexpress.sk/wp-content/uploads/2023/11/394247072_818484363399277_8860076627368682094_n.jpg
END:VEVENT
END:VCALENDAR