BEGIN:VCALENDAR
VERSION:2.0
PRODID:-//MetalExpress - ECPv6.15.19//NONSGML v1.0//EN
CALSCALE:GREGORIAN
METHOD:PUBLISH
X-ORIGINAL-URL:https://metalexpress.sk
X-WR-CALDESC:Udalosti pre MetalExpress
REFRESH-INTERVAL;VALUE=DURATION:PT1H
X-Robots-Tag:noindex
X-PUBLISHED-TTL:PT1H
BEGIN:VTIMEZONE
TZID:Europe/Bratislava
BEGIN:DAYLIGHT
TZOFFSETFROM:+0100
TZOFFSETTO:+0200
TZNAME:CEST
DTSTART:20220327T010000
END:DAYLIGHT
BEGIN:STANDARD
TZOFFSETFROM:+0200
TZOFFSETTO:+0100
TZNAME:CET
DTSTART:20221030T010000
END:STANDARD
BEGIN:DAYLIGHT
TZOFFSETFROM:+0100
TZOFFSETTO:+0200
TZNAME:CEST
DTSTART:20230326T010000
END:DAYLIGHT
BEGIN:STANDARD
TZOFFSETFROM:+0200
TZOFFSETTO:+0100
TZNAME:CET
DTSTART:20231029T010000
END:STANDARD
BEGIN:DAYLIGHT
TZOFFSETFROM:+0100
TZOFFSETTO:+0200
TZNAME:CEST
DTSTART:20240331T010000
END:DAYLIGHT
BEGIN:STANDARD
TZOFFSETFROM:+0200
TZOFFSETTO:+0100
TZNAME:CET
DTSTART:20241027T010000
END:STANDARD
END:VTIMEZONE
BEGIN:VEVENT
DTSTART;TZID=Europe/Bratislava:20231109T180000
DTEND;TZID=Europe/Bratislava:20231109T220000
DTSTAMP:20260421T100659
CREATED:20231018T104750Z
LAST-MODIFIED:20231018T104750Z
UID:47759-1699552800-1699567200@metalexpress.sk
SUMMARY:Štyri ročné obdobia SIGH napovedajú\, kedy zomrieť!
DESCRIPTION:SIGH\, LASTER\n9. 11. 2023 – Praha\, Underdogs‘\nFB event: https://fb.me/e/KwtPazKV\ne-TICKET: https://obscure.cz/cs/tickets/detail/id/624 \nKdyž se mezi undergroundovými maniaky řekne jméno SIGH\, padají přídomky jako kult nebo legendy. Vystrčíme-li hlavu z podzemí\, povědomí bude asi ve stylu ‘ta divná kapela z Japonska\, co hraje avantgardní black metal.‘ Obě názorové větve platí. SIGH vznikli na přelomu let 1989 a 1990 a jejich mistrovský debut „Scorn Defeat“ byl nahrán pro Euronymův (zavražděný kytarista Mayhem) label Deathlike Silence Productions\, takže hned od svých začátků byli jedním z nejzásadnějších exportních artiklů v zemi. Jejich hudba ale není klasický black metal. Silnou měrou v jejich zvuku promlouvá temné okultní heavy (vliv Celtic Frost)\, především ale podivnost\, psychedelie\, avantgarda a eklektická směsice různých stylů hozených do experimentálního hávu\, ač z hudby prolézají jejich oldschool kořeny. Přes to vše\, i dnes po 33 letech SIGH zůstávají vitální\, o čemž přesvědčují poslední deskou „Shiki“. Ta obsahuje nejtěžší a nejtemnější materiál za několik posledních let\, ačkoli je na albu použita celá řada nástrojů\, které mu dávají další texturu\, dynamiku i atmosféru. Však i slovo ‚Shiki‘ má v japonštině různé významy: čtyři roční období\, čas umírání (tyto dva jsou pro Sigh zásadní)\, dirigování orchestru\, obřad\, motivaci\, barvu. SIGH v minulosti v ČR už vystoupili na festivalu Brutal Assault\, nadcházející koncert v Praze však bude jejich tuzemskou klubovou premiérou. Jejich speciálním hostem budou experimentující atmo blackers LASTER z holandského Utrechtu. \nVidea SIGH\n\n\n \nPředprodej viz e-TICKET výše\, dle místa konání dále v sítích GoOut a Ticketmaster. \nTlačová správa Obscure Promotion
URL:https://metalexpress.sk/event/styri-rocne-obdobia-sigh-napovedaju-kedy-zomriet/
LOCATION:Under Dogs Praha\, Nádražní 3\, Prague\, Czech Republic\, Praha\, Česká republika
CATEGORIES:Udalosti
ATTACH;FMTTYPE=image/jpeg:https://metalexpress.sk/wp-content/uploads/2023/10/poster-sigh-2023-praha.jpg
END:VEVENT
BEGIN:VEVENT
DTSTART;TZID=Europe/Bratislava:20231109T180000
DTEND;TZID=Europe/Bratislava:20231109T220000
DTSTAMP:20260421T100659
CREATED:20231031T082242Z
LAST-MODIFIED:20231031T082322Z
UID:47918-1699552800-1699567200@metalexpress.sk
SUMMARY:AMORPHIS / Sólstafir / Lost Society
DESCRIPTION:Od vydania ostatného albumu fínskych AMORPHIS s názvom „Halo“\, už ubehlo nejaký čas aby album dozrel v našich ušiach a konečne nastal čas vychutnať si ho naživo aj u nás ! \nNahrávke sa dostalo nadšených recenzií z celého sveta a bol zvolený na prvé miesta redaktorských rebríčkov popredných metalových magazínov ako napríklad Metal Hammer (D)\, Rock Hard (D)\, Legacy (D)\, Spark (CZ)\, atď. Dychberúci 14. štúdiový album kapely svojou čistou hĺbkou a muzikálnosťou presahuje hranice metalu a rocku. Vzhľadom na tri desaťročia trvajúcu cestu kapely na čele inovatívnej metalovej hudby je ťažké pochopiť\, ako sa AMORPHIS darí znova a znova dvíhať povestnú latku a predstaviť viac než dôstojné finále trilógie\, ktorá sa začala v roku 2015 albumom „Under the Red Cloud“ a po ňom v roku 2018 „Queen of Time“. \nAMORPHIS vyrazili na jesenné európske turné na podporu práve ostatného albumu „Halo“ a na Slovensku sa vďaka agentúre DOUBLE HEAD MUSIC predstavia hneď dvakrát. Jedna zastávka bude v bratislavskom MMC klube a tá druhá v košickom klube Collosseum už v prvej polovici novembra. \nFínskym  veteránom metalovej scény na európskom turné predskakuje islandská stálica SÓLSTAFIR. Títo muzikanti zväčša odetí ako „severský kovboji“ predstavia svoju originálnu zmes štýlov od black metalu\, post-metalu až po rock’n’roll. Ich snové často zádumčivé melódie sa budú skvelo dopĺňať so sychravým jesenným obdobím\, ktoré vládne vonku. Verím\, že vďaka ich setu sa nachvíľu presunieme na ďaleký Island\, ktorého atmosféru sa im podarilo zachytiť vo svojej osobitej hudobnej produkcii. Ako druhý hosť na turné sa predstaví fínske mladé zoskupenie LOST SOCIETY. Kapela má na konte už päť dlhohrajúcich albumov\, ten posledný „If the Sky Came Down“ im vyšiel minulý rok a sú na ňom cítiť silné metalcorové\, či groove metalové vplyvy.
URL:https://metalexpress.sk/event/amorphis-solstafir-lost-society/
LOCATION:Collosseum\, Dominikánske námestie 35\, Košice\, Košice\, 04001\, Slovenská republika
CATEGORIES:Kalendár,Udalosti
ATTACH;FMTTYPE=image/jpeg:https://metalexpress.sk/wp-content/uploads/2023/10/plagat-1.jpg
ORGANIZER;CN="Double Head Music":MAILTO:raymond@doubleheadpro.com
END:VEVENT
END:VCALENDAR