BEGIN:VCALENDAR
VERSION:2.0
PRODID:-//MetalExpress - ECPv6.15.19//NONSGML v1.0//EN
CALSCALE:GREGORIAN
METHOD:PUBLISH
X-ORIGINAL-URL:https://metalexpress.sk
X-WR-CALDESC:Udalosti pre MetalExpress
REFRESH-INTERVAL;VALUE=DURATION:PT1H
X-Robots-Tag:noindex
X-PUBLISHED-TTL:PT1H
BEGIN:VTIMEZONE
TZID:Europe/Bratislava
BEGIN:DAYLIGHT
TZOFFSETFROM:+0100
TZOFFSETTO:+0200
TZNAME:CEST
DTSTART:20220327T010000
END:DAYLIGHT
BEGIN:STANDARD
TZOFFSETFROM:+0200
TZOFFSETTO:+0100
TZNAME:CET
DTSTART:20221030T010000
END:STANDARD
BEGIN:DAYLIGHT
TZOFFSETFROM:+0100
TZOFFSETTO:+0200
TZNAME:CEST
DTSTART:20230326T010000
END:DAYLIGHT
BEGIN:STANDARD
TZOFFSETFROM:+0200
TZOFFSETTO:+0100
TZNAME:CET
DTSTART:20231029T010000
END:STANDARD
BEGIN:DAYLIGHT
TZOFFSETFROM:+0100
TZOFFSETTO:+0200
TZNAME:CEST
DTSTART:20240331T010000
END:DAYLIGHT
BEGIN:STANDARD
TZOFFSETFROM:+0200
TZOFFSETTO:+0100
TZNAME:CET
DTSTART:20241027T010000
END:STANDARD
END:VTIMEZONE
BEGIN:VEVENT
DTSTART;TZID=Europe/Bratislava:20231107T180000
DTEND;TZID=Europe/Bratislava:20231107T220000
DTSTAMP:20260421T100542
CREATED:20231020T202110Z
LAST-MODIFIED:20231020T210008Z
UID:47805-1699380000-1699394400@metalexpress.sk
SUMMARY:DOG EAT DOG\, GROVE STREET\, KINGS NEVER DIE
DESCRIPTION:DOG EAT DOG s novým albem v Praze a Brně opět na samostatných koncertech \n4. 11. 2023 – Praha\, Rock Café\nEvent: https://fb.me/e/1lbZpl32b\nPředprodej: https://obscure.cz/cs/tickets/detail/id/631 \n7. 11. 2023 – Brno\, První Patro\nEvent: https://fb.me/e/4nxPpWk7R\nPředprodej: https://obscure.cz/cs/tickets/detail/id/632 \nDOG EAT DOG se v 90. letech s vydáním své kultovní desky „All Boro Kings“ stali zásadní kapelou a charakteristickým odrazem své doby\, kdy vládla svoboda\, muzika a párty. Svůj původní entuziasmus si ale Američané uchovali dodnes a je ho plná i nová deska „Free Radicals“\, která je po dlouhých 17 letech dalším dlouhohrajícím přírůstkem jejich diskografie. Tak v Praze a Brně!\nAmeričtí DOG EAT DOG se svým vznikem v roce 90 už před třemi lety překročili třičítku. Jejich přelomový debut „All Boro Kings“ se v roce 1994 stal charakteristickým odrazem doby\, kterou definuje přerod socialismu\, vznik nových hnutí i technologií. Pád železné opony a přerod světa byl cítit všude.\nTo mělo vliv i na v té době dospělost nabývající teenagery plácající se v přicházející životní svobodě\, která vyústila ve vznik pouličního mixu muziky\, jež tehdejší mládež bavila. Hardcore\, hip hop\, rap\, ska\, funk a saxofon. To vše se přirozeně dostalo do drážek desky\, která zůstává aktuální i dnes\, a to nejen díky megahitům „No Fronts“ nebo „Who‘s the King“. \n\nDOG EAT DOG dnes ale nejsou jen odrazem této desky. Oni si svůj původní entuziasmus uchovali dodnes a je ho plná i nová deska „Free Radicals“\, takže není divu\, že se tahle parta i po víc než třech dekádách stále těší popularitě. Bývalí teenageři\, kteří stáli u jejich vzniku\, dnes už rodiče\, tu jejich neskutečnou energii dále přenášejí na své děti.\nV roli předkapel se v Praze i Brně můžete těšit na dvě free hardcore partičky: Anglány GROVE STREET a Amíky KINGS NEVER DIE. \nVstupenky dále v předprodejních sítích Ticketmaster a GoOut.
URL:https://metalexpress.sk/event/47805/
LOCATION:První patro\, Brno\, Dominikánská 342/19\, Brno-střed\, Česká republika\, 602 00
CATEGORIES:Kalendár,Udalosti
ATTACH;FMTTYPE=image/jpeg:https://metalexpress.sk/wp-content/uploads/2023/10/instagram-DOG-EAT-DOG-2023-both.jpg
ORGANIZER;CN="Obscure Promotion":MAILTO:filip@obscure.cz
END:VEVENT
END:VCALENDAR