BEGIN:VCALENDAR
VERSION:2.0
PRODID:-//MetalExpress - ECPv6.15.19//NONSGML v1.0//EN
CALSCALE:GREGORIAN
METHOD:PUBLISH
X-WR-CALNAME:MetalExpress
X-ORIGINAL-URL:https://metalexpress.sk
X-WR-CALDESC:Udalosti pre MetalExpress
REFRESH-INTERVAL;VALUE=DURATION:PT1H
X-Robots-Tag:noindex
X-PUBLISHED-TTL:PT1H
BEGIN:VTIMEZONE
TZID:Europe/Bratislava
BEGIN:DAYLIGHT
TZOFFSETFROM:+0100
TZOFFSETTO:+0200
TZNAME:CEST
DTSTART:20220327T010000
END:DAYLIGHT
BEGIN:STANDARD
TZOFFSETFROM:+0200
TZOFFSETTO:+0100
TZNAME:CET
DTSTART:20221030T010000
END:STANDARD
BEGIN:DAYLIGHT
TZOFFSETFROM:+0100
TZOFFSETTO:+0200
TZNAME:CEST
DTSTART:20230326T010000
END:DAYLIGHT
BEGIN:STANDARD
TZOFFSETFROM:+0200
TZOFFSETTO:+0100
TZNAME:CET
DTSTART:20231029T010000
END:STANDARD
BEGIN:DAYLIGHT
TZOFFSETFROM:+0100
TZOFFSETTO:+0200
TZNAME:CEST
DTSTART:20240331T010000
END:DAYLIGHT
BEGIN:STANDARD
TZOFFSETFROM:+0200
TZOFFSETTO:+0100
TZNAME:CET
DTSTART:20241027T010000
END:STANDARD
END:VTIMEZONE
BEGIN:VEVENT
DTSTART;TZID=Europe/Bratislava:20231102T190000
DTEND;TZID=Europe/Bratislava:20231102T220000
DTSTAMP:20260421T083113
CREATED:20231027T063651Z
LAST-MODIFIED:20231027T063651Z
UID:47845-1698951600-1698962400@metalexpress.sk
SUMMARY:BLITZKID a THE CRIMSON GHOSTS v Českých Budejoviciach!
DESCRIPTION:Dve svetové ikony horror punku na společném tour. Tento koncert je jediným českým koncertom v rámci tohoto tour!\nBLITZKID (USA) – Americká kultovní horror punková formace\nhttps://www.facebook.com/BlitzkidOfficial\n\nTHE CRIMSON GHOSTS (DE) – Německá horror punk/rocková legenda\nhttps://www.facebook.com/thecrimsonghosts\n \n\nDátum: 02.11.2023\nMiesto: MC Fabrika\, České Budejovice\nVstup: Předprodej ve vlnách na Xticket.cz: 1 vlna 390 Kč\n* Limitovaná edice 50 ks VIP Meet and greet lístků za 1200 Kč\n* VIP lístek zahrnuje:\nVstup hodinu před oficiální otevírací dobou (18:00)\nSeznámení s kapelou\nExkluzivní možnost focení s kapelou\nPodepsaný tour plakát\nMožnost podepsání merchandise\nMožnost zakoupení oficiálního merchandise před oficiálním otevřením klubu\nFB Event: https://www.facebook.com/events/1292379221639393/\nOtvorenie klubu: 19:00\nKoncert: 20:00
URL:https://metalexpress.sk/event/blitzkid-a-the-crimson-ghosts-v-ceskych-budejoviciach/
LOCATION:MC Fabrika\, Jeronýmova 6\, Ceske Budejovice\, Czech Republic\, České Budejovice\, Česká republika
CATEGORIES:Udalosti
ATTACH;FMTTYPE=image/jpeg:https://metalexpress.sk/wp-content/uploads/2023/10/363816041_694499422491848_4442536227445649891_n.jpg
END:VEVENT
END:VCALENDAR