BEGIN:VCALENDAR
VERSION:2.0
PRODID:-//MetalExpress - ECPv6.15.19//NONSGML v1.0//EN
CALSCALE:GREGORIAN
METHOD:PUBLISH
X-WR-CALNAME:MetalExpress
X-ORIGINAL-URL:https://metalexpress.sk
X-WR-CALDESC:Udalosti pre MetalExpress
REFRESH-INTERVAL;VALUE=DURATION:PT1H
X-Robots-Tag:noindex
X-PUBLISHED-TTL:PT1H
BEGIN:VTIMEZONE
TZID:Europe/Bratislava
BEGIN:DAYLIGHT
TZOFFSETFROM:+0100
TZOFFSETTO:+0200
TZNAME:CEST
DTSTART:20220327T010000
END:DAYLIGHT
BEGIN:STANDARD
TZOFFSETFROM:+0200
TZOFFSETTO:+0100
TZNAME:CET
DTSTART:20221030T010000
END:STANDARD
BEGIN:DAYLIGHT
TZOFFSETFROM:+0100
TZOFFSETTO:+0200
TZNAME:CEST
DTSTART:20230326T010000
END:DAYLIGHT
BEGIN:STANDARD
TZOFFSETFROM:+0200
TZOFFSETTO:+0100
TZNAME:CET
DTSTART:20231029T010000
END:STANDARD
BEGIN:DAYLIGHT
TZOFFSETFROM:+0100
TZOFFSETTO:+0200
TZNAME:CEST
DTSTART:20240331T010000
END:DAYLIGHT
BEGIN:STANDARD
TZOFFSETFROM:+0200
TZOFFSETTO:+0100
TZNAME:CET
DTSTART:20241027T010000
END:STANDARD
END:VTIMEZONE
BEGIN:VEVENT
DTSTART;TZID=Europe/Bratislava:20231030T180000
DTEND;TZID=Europe/Bratislava:20231030T223000
DTSTAMP:20260421T083122
CREATED:20231027T174144Z
LAST-MODIFIED:20231027T174144Z
UID:47869-1698688800-1698705000@metalexpress.sk
SUMMARY:WALTARI v pondelok v Randal Music Clube
DESCRIPTION:Vo Fínsku usadení mimozemšťania WALTARI sa po rokoch chystajú opätovne pristáť v Bratislave. Pionieri avantgardeného a alternatívneho metalu združení okolo kapitána Kartsyho Hatakku s takmer 40 ročnou históriou vystúpili na Slovensku už niekoľko krát\, pričom vždy išlo o absolútne nezabudnuteľný a jedinečný zážitok. Na pokračovanie sa môžete tešiť 30. októbra 2023 v bratislavskom Randale. Očakávať nemožno nič menej než bohatý a vysokoenergetický kokteil namiešaný z 20 štúdiových albumov Waltari\, ktoré zahŕňajú také perly ako So Fine\, Space Avenue\, svojské verzie popových songov\, či kultovú death metalovú symfóniu Yeah! Yeah! Die! Die! Inter-galaktický večer budú mať tú česť otvoriť domáci eklektici CASTAWAY\, pre ktorých pôjde o prvú možnosť predstaviť niekoľko svojich najčerstvejších noviniek. Otváracou kapelou budu rockeri z Fínska MOON SHOT\, s basgitaristom slávnych CHILDREN OF BODOM.\nCena vstupenky v predpredaji je 25\,- EUR a na mieste bude 30\,- EUR \n \nDátum: 30.10.2023\nMiesto: Randal Music Club\, Bratislava\nVstup: 25 €\nFB Udalosť: https://www.facebook.com/events/775747627196269/ \nText prebratý z udalosti na FB
URL:https://metalexpress.sk/event/waltari-v-pondelok-v-randal-music-clube/
LOCATION:Randal Music Club\, Karpatská 2\, Bratislava\, Bratislava\, Bratislavský Kraj\, 81105\, Slovenská republika
CATEGORIES:Udalosti
ATTACH;FMTTYPE=image/jpeg:https://metalexpress.sk/wp-content/uploads/2023/10/342484317_1447209232756543_3661985213937247901_n.jpg
END:VEVENT
END:VCALENDAR