BEGIN:VCALENDAR
VERSION:2.0
PRODID:-//MetalExpress - ECPv6.15.19//NONSGML v1.0//EN
CALSCALE:GREGORIAN
METHOD:PUBLISH
X-WR-CALNAME:MetalExpress
X-ORIGINAL-URL:https://metalexpress.sk
X-WR-CALDESC:Udalosti pre MetalExpress
REFRESH-INTERVAL;VALUE=DURATION:PT1H
X-Robots-Tag:noindex
X-PUBLISHED-TTL:PT1H
BEGIN:VTIMEZONE
TZID:Europe/Bratislava
BEGIN:DAYLIGHT
TZOFFSETFROM:+0100
TZOFFSETTO:+0200
TZNAME:CEST
DTSTART:20220327T010000
END:DAYLIGHT
BEGIN:STANDARD
TZOFFSETFROM:+0200
TZOFFSETTO:+0100
TZNAME:CET
DTSTART:20221030T010000
END:STANDARD
BEGIN:DAYLIGHT
TZOFFSETFROM:+0100
TZOFFSETTO:+0200
TZNAME:CEST
DTSTART:20230326T010000
END:DAYLIGHT
BEGIN:STANDARD
TZOFFSETFROM:+0200
TZOFFSETTO:+0100
TZNAME:CET
DTSTART:20231029T010000
END:STANDARD
BEGIN:DAYLIGHT
TZOFFSETFROM:+0100
TZOFFSETTO:+0200
TZNAME:CEST
DTSTART:20240331T010000
END:DAYLIGHT
BEGIN:STANDARD
TZOFFSETFROM:+0200
TZOFFSETTO:+0100
TZNAME:CET
DTSTART:20241027T010000
END:STANDARD
END:VTIMEZONE
BEGIN:VEVENT
DTSTART;TZID=Europe/Bratislava:20231012T170000
DTEND;TZID=Europe/Bratislava:20231012T200000
DTSTAMP:20260423T163038
CREATED:20231003T130049Z
LAST-MODIFIED:20231003T130049Z
UID:47671-1697130000-1697140800@metalexpress.sk
SUMMARY:Uznávaní stoner doom DOPELORD v Prahe!
DESCRIPTION:DOPELORD\, TRAHIR\n12. 10. 2023 – Praha\, Modrá Vopice\nFB event: https://fb.me/e/Ff7QZImr\ne-TICKET: https://obscure.cz/cs/tickets/detail/id/587 \nNěkdo z přítomných nepozorovaně strhnul ceduli „Zákaz kouření“ a do už tak zatuchlého prostoru Vopice se vedral dusivý kouř. Kdosi se rozkašlal jak na třetí desce Sabbatů a DOPELORD v ten moment hrábli do strun podladěných do tónin kouzelnými bylinami začouzených prádelních šňůr…\nTak nějak\, až na scénu se zákazem kouření\, by to mohlo vypadat v říjnu v oblíbené chatrči v Modré Vopici\, kam přijedou uznávaní stoner doomaři z Polska. DOPELORD na kontě za víc než dekádu nahráli čtyři desky\, epko a odehráli stovky koncertů. Jeden z nich proběhl teď na konci dubna v Brně\, a tak přišel čas roztáhnout plicní komůrky i v Praze!\nStejně jako Dopelord\, i „pražští“ TRAHIR\, kteří před Poláky vystoupí\, mají rádi Sabaty a starej poctivej heavy metal\, kde to smrdí stoner doomem a tajemnem. Ale našinci čím dál víc propadají melodice NWOBHM\, aniž by ztratili svůj esprit. \nPředprodej i v sítích Goout a Ticketmaster. \nTlačová správa Obscure Promotion
URL:https://metalexpress.sk/event/uznavani-stoner-doom-dopelord-v-prahe/
LOCATION:Modrá Vopice\, K Žižkovu 1 19000 Prague\, Czech Republic\, Praha\, Praha\, Česká republika
CATEGORIES:Udalosti
ATTACH;FMTTYPE=image/jpeg:https://metalexpress.sk/wp-content/uploads/2023/10/poster-dopelord-2023-praha-final.jpg
END:VEVENT
END:VCALENDAR