BEGIN:VCALENDAR
VERSION:2.0
PRODID:-//MetalExpress - ECPv6.15.19//NONSGML v1.0//EN
CALSCALE:GREGORIAN
METHOD:PUBLISH
X-ORIGINAL-URL:https://metalexpress.sk
X-WR-CALDESC:Udalosti pre MetalExpress
REFRESH-INTERVAL;VALUE=DURATION:PT1H
X-Robots-Tag:noindex
X-PUBLISHED-TTL:PT1H
BEGIN:VTIMEZONE
TZID:Europe/Bratislava
BEGIN:DAYLIGHT
TZOFFSETFROM:+0100
TZOFFSETTO:+0200
TZNAME:CEST
DTSTART:20220327T010000
END:DAYLIGHT
BEGIN:STANDARD
TZOFFSETFROM:+0200
TZOFFSETTO:+0100
TZNAME:CET
DTSTART:20221030T010000
END:STANDARD
BEGIN:DAYLIGHT
TZOFFSETFROM:+0100
TZOFFSETTO:+0200
TZNAME:CEST
DTSTART:20230326T010000
END:DAYLIGHT
BEGIN:STANDARD
TZOFFSETFROM:+0200
TZOFFSETTO:+0100
TZNAME:CET
DTSTART:20231029T010000
END:STANDARD
BEGIN:DAYLIGHT
TZOFFSETFROM:+0100
TZOFFSETTO:+0200
TZNAME:CEST
DTSTART:20240331T010000
END:DAYLIGHT
BEGIN:STANDARD
TZOFFSETFROM:+0200
TZOFFSETTO:+0100
TZNAME:CET
DTSTART:20241027T010000
END:STANDARD
END:VTIMEZONE
BEGIN:VEVENT
DTSTART;TZID=Europe/Bratislava:20231011T170000
DTEND;TZID=Europe/Bratislava:20231011T210000
DTSTAMP:20260423T124948
CREATED:20231003T063518Z
LAST-MODIFIED:20231003T063518Z
UID:47658-1697043600-1697058000@metalexpress.sk
SUMMARY:Death metalová streda v podpalubí lode Pink Whale!
DESCRIPTION:V rámci svojho európskeho turné mieri do Bratislavy death doom metalom napáchnutá kapela Cryptic Brood. Na turné ich doprevádzajú aj black death metalová fínska kapela Sepulchral Curse. Ako support sa predstaví ešte stále viac menej nová kapela pozostávajúca aj z členov Krudus\, no o poznanie hnilobnejšia s doomovými prvkami a príznačným názvom Hrob. Neváhajte a príďte si na loď užiť death metal v stredu! \nCryptic Brood\nhttps://crypticbrood.bandcamp.com/\nhttps://www.facebook.com/CrypticBrood\nSepulchral Curse\nhttps://sepulchralcurse.bandcamp.com/…/howl-of-the-cursed\nhttps://www.facebook.com/SepulchralCurse\nHrob\nhttps://hrob.bandcamp.com/album/hrob-demo \n \nDátum: 11.10.2023\nMiesto: Pink Whale\, Bratislava\nFB Udalosť: https://www.facebook.com/events/1059466695177508/
URL:https://metalexpress.sk/event/death-metalova-streda-v-podpalubi-lode-pink-whale/
LOCATION:Pink Whale\, Nábrežie armádneho generála Ludvíka Svobodu 1868rkm\, 811 02 Staré Mesto\, Bratislava\, Slovakia 0911 177 172\, Bratislava\, Bratislava\, 81102\, Slovenská republika
CATEGORIES:Udalosti
ATTACH;FMTTYPE=image/jpeg:https://metalexpress.sk/wp-content/uploads/2023/10/380600982_337502285324037_7090030595722806663_n.jpg
END:VEVENT
BEGIN:VEVENT
DTSTART;TZID=Europe/Bratislava:20231011T170000
DTEND;TZID=Europe/Bratislava:20231011T213000
DTSTAMP:20260423T124948
CREATED:20231003T064016Z
LAST-MODIFIED:20231003T064016Z
UID:47662-1697043600-1697059800@metalexpress.sk
SUMMARY:MUERTO - STOOM a BRAIN DEALERS v Mariatchi v Nitre!
DESCRIPTION:Jesennú sezónu začíname naozaj metalovo. Na svojom európskom turné sa u nás zastavia:\nMUERTO post black metal z Mexika so ženským vokálom.\nhttps://www.facebook.com/muertoband\nhttps://muertomx.bandcamp.com/…/the-settling-fire-upon-us \nĎalšou kapelou z Mexika budú STOOM hrajúci stoner sludge doom.\nhttps://www.facebook.com/Stoomband/ \nSlovensko budú zastupovať nominanti Radio_Head Awards BRAIN DEALERS zo Zvolena. Chalani si u nás zahrajú opäť po roku.\nhttps://www.facebook.com/braindealers/ \nDátum: 11.10.2023\nMiesto: Mariatchi\, Nitra\nVstup: 10 €\nFB Udalosť: https://www.facebook.com/events/688634919972694/\n\nText prebratý z udalosti na FB
URL:https://metalexpress.sk/event/muerto-stoom-a-brain-dealers-v-mariatchi-v-nitre/
LOCATION:Mariatchi Nitra\, Mostná 35\, Nitra\, Slovakia\, Nitra\, Slovenská republika
CATEGORIES:Udalosti
ATTACH;FMTTYPE=image/jpeg:https://metalexpress.sk/wp-content/uploads/2023/10/371912971_778706897594749_6921448784196591180_n.jpg
END:VEVENT
END:VCALENDAR