BEGIN:VCALENDAR
VERSION:2.0
PRODID:-//MetalExpress - ECPv6.15.19//NONSGML v1.0//EN
CALSCALE:GREGORIAN
METHOD:PUBLISH
X-ORIGINAL-URL:https://metalexpress.sk
X-WR-CALDESC:Udalosti pre MetalExpress
REFRESH-INTERVAL;VALUE=DURATION:PT1H
X-Robots-Tag:noindex
X-PUBLISHED-TTL:PT1H
BEGIN:VTIMEZONE
TZID:Europe/Bratislava
BEGIN:DAYLIGHT
TZOFFSETFROM:+0100
TZOFFSETTO:+0200
TZNAME:CEST
DTSTART:20220327T010000
END:DAYLIGHT
BEGIN:STANDARD
TZOFFSETFROM:+0200
TZOFFSETTO:+0100
TZNAME:CET
DTSTART:20221030T010000
END:STANDARD
BEGIN:DAYLIGHT
TZOFFSETFROM:+0100
TZOFFSETTO:+0200
TZNAME:CEST
DTSTART:20230326T010000
END:DAYLIGHT
BEGIN:STANDARD
TZOFFSETFROM:+0200
TZOFFSETTO:+0100
TZNAME:CET
DTSTART:20231029T010000
END:STANDARD
BEGIN:DAYLIGHT
TZOFFSETFROM:+0100
TZOFFSETTO:+0200
TZNAME:CEST
DTSTART:20240331T010000
END:DAYLIGHT
BEGIN:STANDARD
TZOFFSETFROM:+0200
TZOFFSETTO:+0100
TZNAME:CET
DTSTART:20241027T010000
END:STANDARD
END:VTIMEZONE
BEGIN:VEVENT
DTSTART;TZID=Europe/Bratislava:20231007T160000
DTEND;TZID=Europe/Bratislava:20231007T203000
DTSTAMP:20260423T131806
CREATED:20230920T111507Z
LAST-MODIFIED:20231004T105627Z
UID:47483-1696694400-1696710600@metalexpress.sk
SUMMARY:Košice - Collosseum Club - BURN KOŠICE BURN
DESCRIPTION:BURN KOŠICE BURN – 7.10.2023 – KOŠICE – COLLOSSEUM CLUB – LYRRE – APRIL WEEPS – GLOOM – OHEN \nBurn Booking a kapela Ohen vás pozývajú na koncert skvelých metalových kapiel BURN KOŠICE BURN. Večer 7.10. sa v Košickom Collosseu predstavia poľská kapela LYRRE a slovenské kapely GLOOM\, APRIL WEEPS a OHEN. \nLYRRE (PL) – medieval folk dark metal\nHlavným hosťom večera budú excelentní poľskí LYRRE so speváčkou Michalinou Malisz\, ktorá svojho času pôsobila ako hráčka na hurdy-gurdy v Eluveitie. Michalina a jej manžel Piotr Martuś spájajú v Lyrre folkový zvuk ninery s temnými gitarovými riffmi a moderným zvukom či elektronickými prvkami. V marci tohto roku vydali debutový album Not All Who Dream Are Asleep. \nhttps://www.facebook.com/lyrreofficial\nhttps://www.instagram.com/lyrre_official\nhttps://lyrre.bandcamp.com/ \nGLOOM – Gothic metal\nVeteráni gotického metalu sa vracajú po pandemickej pauze s novými posilami v plnej koncertnej sile. Zatiaľ posledný album Awaken vyšiel v roku 2020 a silné melodické skladby zazneli tento rok aj na viacerých festivaloch. Vy si môžete prísť vychutnať skvelú gotickú atmosféru v klubovom prostredí. \nhttps://www.gloom.sk\nhttps://www.facebook.com/gloomslovakia/\nhttps://gloomsk.bandcamp.com/ \nAPRIL WEEPS – Atmospheric metal\nSlovenským atmosferikom APRIL WEEPS vyšiel minulý rok tretí radový album „Cataclastic“\, ktorý je koncepčným dielom pojednávajúcom o životnom príbehu jednotlivca v súčasnej modernej dobe\, tlačiacej jeho potreby do úzadia. Kapela na tomto albume ešte viac prehĺbila rôznorodosť predošlej tvorby\, vstúpila do doteraz neprebádaných sfér\, zachovávajúc si však stále značne dravý a emočný náboj. \nhttps://www.facebook.com/AprilWeeps\nhttps://www.instagram.com/aprilweepsofficial/\nhttps://aprilweeps.bandcamp.com/album/cataclastic \nOHEN – Blackened dark metal\nPo trojročnej prestávke sa kapela v roku 2022 vrátila v novom zložení a na jeseň 2023 vydá prvý singel z pripravovaného druhého albumu. Introspektívne texty v angličtine a slovenčine\, hudobné inovácie\, moderný zvuk a nespútaná energia – to je OHEN\, ako ho môžete zažiť počas blížiacich sa jesenných vystúpení. \nwww.pecatjezlomena.sk\nhttps://www.facebook.com/ohen.band\nhttps://www.instagram.com/ohen_theband \nPredpredaj v klube: 10 €\nVstupné na mieste: 13 € \nLink na facebook event: https://www.facebook.com/events/1891856047874541 \nline-up: \n17:30 Doors  \n18:00 OHEN  \n19:00 GLOOM  \n20:00 APRIL WEEPS  \n21:00 LYRRE \nTlačová správa Burn Booking
URL:https://metalexpress.sk/event/47483/
LOCATION:Collosseum\, Dominikánske námestie 35\, Košice\, Košice\, 04001\, Slovenská republika
CATEGORIES:Udalosti
ATTACH;FMTTYPE=image/jpeg:https://metalexpress.sk/wp-content/uploads/2023/09/374970923_3862111640682587_1991342926972139558_n-scaled.jpg
ORGANIZER;CN="BURN_Booking":MAILTO:ohen.band@gmail.com
END:VEVENT
END:VCALENDAR