BEGIN:VCALENDAR
VERSION:2.0
PRODID:-//MetalExpress - ECPv6.15.19//NONSGML v1.0//EN
CALSCALE:GREGORIAN
METHOD:PUBLISH
X-WR-CALNAME:MetalExpress
X-ORIGINAL-URL:https://metalexpress.sk
X-WR-CALDESC:Udalosti pre MetalExpress
REFRESH-INTERVAL;VALUE=DURATION:PT1H
X-Robots-Tag:noindex
X-PUBLISHED-TTL:PT1H
BEGIN:VTIMEZONE
TZID:Europe/Bratislava
BEGIN:DAYLIGHT
TZOFFSETFROM:+0100
TZOFFSETTO:+0200
TZNAME:CEST
DTSTART:20220327T010000
END:DAYLIGHT
BEGIN:STANDARD
TZOFFSETFROM:+0200
TZOFFSETTO:+0100
TZNAME:CET
DTSTART:20221030T010000
END:STANDARD
BEGIN:DAYLIGHT
TZOFFSETFROM:+0100
TZOFFSETTO:+0200
TZNAME:CEST
DTSTART:20230326T010000
END:DAYLIGHT
BEGIN:STANDARD
TZOFFSETFROM:+0200
TZOFFSETTO:+0100
TZNAME:CET
DTSTART:20231029T010000
END:STANDARD
BEGIN:DAYLIGHT
TZOFFSETFROM:+0100
TZOFFSETTO:+0200
TZNAME:CEST
DTSTART:20240331T010000
END:DAYLIGHT
BEGIN:STANDARD
TZOFFSETFROM:+0200
TZOFFSETTO:+0100
TZNAME:CET
DTSTART:20241027T010000
END:STANDARD
END:VTIMEZONE
BEGIN:VEVENT
DTSTART;TZID=Europe/Bratislava:20231005T170000
DTEND;TZID=Europe/Bratislava:20231005T170000
DTSTAMP:20260421T100348
CREATED:20230927T124745Z
LAST-MODIFIED:20230927T124745Z
UID:47608-1696525200-1696525200@metalexpress.sk
SUMMARY:HEART OF A COWARD a GHOST IRIS v Modré Vopici
DESCRIPTION:Agentúra OBSCURE PROMOTION prináša do Prahy koncert troch djentovo ladených\, progresívnych kapiel HEART OF A COWARD\, GHOST IRIS\, THECITYISOURS. \ne-TICKET: https://obscure.cz/cs/tickets/detail/id/615 \nAnglickí HEART OF A COWARD sú prostredníctvom svojho bubeníka spriaznení s djentovými pioniermi FELLSILENT a zároveň v ich radách pôsobí Kaan Tasan\, spevák už nefungujúcich progresívcov NO CONSEQUENCE. Aj HEART OF A COWARD si idú na progresívnej vlne metalcoru\, deathcoru a djentu\, ale silne sa v ich tvorbe objavuje progresívna moderna odkazujúca niekam k TEXTURES alebo projektom Devina Townsenda vrátane Strapping Young Lad. Aj keď je zvuk heavy a agresívny\, HEART OF A COWARD do svojich piesní začleňujú aj melodické prvky\, čím svoju tvorbu dostávajú do rovnováhy. \nTo GHOST IRIS pochádzajú z Dánska a sú na metalcorovej scéne jednou z najnekompromisnejších a najsľubnejších kapiel. V hudbe sa vrhajú do rozmanitých nálad a atmosfér\, napriek tomu však nestrácajú údernosť a chytlavosť. Svojím intenzívnym a energickým koncertovaním si GHOST IRIS na svoju stranu získali mnoho fanúšikov po celom svete\, a tí s otvorenou náručou čakajú na ich návrat. \nTHECITYISOURS pocházajú z Londýna. Päťčlenná parta hrá melodický metalcore a jeho chytlavosťou\, dôrazom na groove a detail a budovaní silných hymnických spevov si rýchlo získali pozornosť nielen publika ale i novinárskej obce\, ale zároveň tým získali silnú podporu od spriaznených kapiel a predovšetkým zmluvu s Arising Empire\, ktorí majú na dobré kapely čuch. \nTlačová správa Obscure Promotion
URL:https://metalexpress.sk/event/heart-of-a-coward-a-ghost-iris-v-modre-vopici/
LOCATION:Modrá Vopice\, K Žižkovu 1 19000 Prague\, Czech Republic\, Praha\, Praha\, Česká republika
CATEGORIES:Kalendár,Udalosti
ATTACH;FMTTYPE=image/jpeg:https://metalexpress.sk/wp-content/uploads/2023/09/instagram-heart-of-a-coward-2023-praha.jpg
ORGANIZER;CN="Obscure Promotion":MAILTO:filip@obscure.cz
END:VEVENT
BEGIN:VEVENT
DTSTART;TZID=Europe/Bratislava:20231005T170000
DTEND;TZID=Europe/Bratislava:20231005T200000
DTSTAMP:20260421T100348
CREATED:20230927T124535Z
LAST-MODIFIED:20230927T124535Z
UID:47618-1696525200-1696536000@metalexpress.sk
SUMMARY:SKARNIO a BLAMAGE - Garáže pod Prístavným mostom!
DESCRIPTION:Na Garážach pod Prístavným mostom zahrá legenda Brazilského surového crust/punku\, SKARNIO! Kapela funguje od 1986. V Európe\, na Slovensku a v Bratislave vystúpi po prvý krát. Pred nedávnom vydali split LP s ďalšími legendami\, z Fínska\, Forca Macabra a istotne si pre vás pripravia drsný E.N.T. crust/punk set. Sekundovať im budú žánrovo spriaznení\, Bratislavskí\, BLAMAGE!\nSKARNIO\nhttps://skarnio.bandcamp.com\nhttps://www.facebook.com/skarnio86\nhttps://www.instagram.com/skarnio.official/ \nBLAMAGE\nhttps://blamage.bandcamp.com\nhttps://www.instagram.com/blamage.crust/\nhttps://www.facebook.com/profile.php?id=100076845524399 \nNa mieste\, klasicky\, alko/nealko/vegan bar/toyka. \nInformácie:\nDátum: 05.10.2023\nMiesto: Garáže pod Prístavným mostom\, Bratislava\nVstup: 5-8 €\nFB Udalosť: https://www.facebook.com/events/603546841941417/ \nText prebratý z udalosti na FB
URL:https://metalexpress.sk/event/skarnio-a-blamage-garaze-pod-pristavnym-mostom/
LOCATION:Garáže pod Prístavným mostom Bratislava\, Prístavná 9\, Bratislava\, Bratislava\, Bratislava\, Slovenská republika
CATEGORIES:Udalosti
ATTACH;FMTTYPE=image/jpeg:https://metalexpress.sk/wp-content/uploads/2023/09/366030418_696141215888659_2983314362502802401_n.jpg
END:VEVENT
END:VCALENDAR