BEGIN:VCALENDAR
VERSION:2.0
PRODID:-//MetalExpress - ECPv6.15.19//NONSGML v1.0//EN
CALSCALE:GREGORIAN
METHOD:PUBLISH
X-ORIGINAL-URL:https://metalexpress.sk
X-WR-CALDESC:Udalosti pre MetalExpress
REFRESH-INTERVAL;VALUE=DURATION:PT1H
X-Robots-Tag:noindex
X-PUBLISHED-TTL:PT1H
BEGIN:VTIMEZONE
TZID:Europe/Bratislava
BEGIN:DAYLIGHT
TZOFFSETFROM:+0100
TZOFFSETTO:+0200
TZNAME:CEST
DTSTART:20220327T010000
END:DAYLIGHT
BEGIN:STANDARD
TZOFFSETFROM:+0200
TZOFFSETTO:+0100
TZNAME:CET
DTSTART:20221030T010000
END:STANDARD
BEGIN:DAYLIGHT
TZOFFSETFROM:+0100
TZOFFSETTO:+0200
TZNAME:CEST
DTSTART:20230326T010000
END:DAYLIGHT
BEGIN:STANDARD
TZOFFSETFROM:+0200
TZOFFSETTO:+0100
TZNAME:CET
DTSTART:20231029T010000
END:STANDARD
BEGIN:DAYLIGHT
TZOFFSETFROM:+0100
TZOFFSETTO:+0200
TZNAME:CEST
DTSTART:20240331T010000
END:DAYLIGHT
BEGIN:STANDARD
TZOFFSETFROM:+0200
TZOFFSETTO:+0100
TZNAME:CET
DTSTART:20241027T010000
END:STANDARD
END:VTIMEZONE
BEGIN:VEVENT
DTSTART;TZID=Europe/Bratislava:20230926T170000
DTEND;TZID=Europe/Bratislava:20230926T210000
DTSTAMP:20260421T100653
CREATED:20230926T055918Z
LAST-MODIFIED:20230926T060025Z
UID:47558-1695747600-1695762000@metalexpress.sk
SUMMARY:Woe Unto Me a Ciemra v Banskej Bystrici
DESCRIPTION:Skvelé bieloruské zoskupenia Woe Unto Me a Ciemra si spravia v rámci svojho The Pivot of Darkness Tour zastávku v Banskej Bystrici v Klube 77. \nWOE UNTO ME – Bielorusko\, Grodno\n(funeral doom metal)\nFB: http://www.facebook.com/woeuntome\nIG: https://www.instagram.com/woeuntome/\nBC: woeuntome.bandcamp.com\nYT: http://www.youtube.com/woeuntomeband\nWOE UNTO ME založili v roku 2008 v Grodne dvaja gitaristi Dzmitry Shchyhlinski a Artyom Serdyuk (známy aj z pôsobenia v kapelách ako: Deathbringer\, Thy Disease\, Disloyal\, Amentia). V roku 2013 Woe Unto Me podpísali zmluvu so SOLITUDE Productions. V januári 2014 vyšiel debutový album s názvom „A Step Into The Waters Of Forgetfulness“. Bolo to naozaj dobre prijaté\, čo dokazujú vynikajúce recenzie z celého sveta. Woe Unto Me okamžite vyrazili na turné propagujúce vydanie spolu s lotyšskou doom/death metalovou kapelou FRAILTY. Toto turné zahŕňalo Litvu\, Lotyšsko\, Estónsko\, Rusko a Bielorusko. WOE UNTO ME je skupina oddaných hudobníkov\, ktorí sa venujú nielen nahrávaniu\, ale aj profesionálnym živým vystúpeniam so špeciálnou video vizualizáciou\, ktorá je synchronizovaná s audio predstaveniami\, ktoré celkovo zanechávajú v divákoch nezabudnuteľný dojem. \nCIEMRA – Bielorusko\, Minsk\n(black metal)\nFB: https://www.facebook.com/ciemra\nIG: https://www.instagram.com/ciemraofficial/\nBC: https://ciemra.bandcamp.com/\nYT: https://www.youtube.com/channel/UCGPFy9oj9msggtmC-qUeBzg \nCiemra\, čo v bieloruštine znamená „Temnota“\, je blackmetalová kapela z Minska\, ktorá ožila v roku 2019\, keď sa päť esencií vynorilo z priepasti do závojov noci v predvečer konca čias\, aby zožali živých\, uspokojili hlad temnoty a vyživili loná temných bohov.\nBieloruský kvintet prináša rýchly\, chladný a čistý black metal\, ktorý sa pozerá na klasický európsky zvuk aj na jeho modernejšie interpretácie. Nájdete tu množstvo riffov\, ako aj zvláštne sóla a melodický háčik\, ktorý vás bude neúprosne ťahať smerom k temnote.\nIch debut The Tread Of Darkness je založený na popretí zvyčajných základov sveta\, na najtemnejších prejavoch ľudskej činnosti a na energiách skrytých za temnou priepasťou. Deväť skladieb albumu nerobí žiadnu záhadu svojej antireligióznosti\, ktorú Ciemra mení na čistú čiernu hmotu. \nDátum: 26.09.2023\nMiesto: Club 77\, Banská Bystrica\nDvere: 19:00\nZačiatok koncertu: 20:00\nVstup: 10€\nFB Udalosť: https://www.facebook.com/events/196851073279305/ \nText pochádza z FB udalosti
URL:https://metalexpress.sk/event/woe-unto-me-a-ciemra-v-banskej-bystrici/
LOCATION:Klub 77 Banská Bystrica\, Horná 54\, Banská Bystrica\, Slovakia\, Banská Bystrica\, Banskobystrický kraj
CATEGORIES:Udalosti
ATTACH;FMTTYPE=image/jpeg:https://metalexpress.sk/wp-content/uploads/2023/09/375736527_855894695912004_7727413517183496129_n.jpg
END:VEVENT
END:VCALENDAR