BEGIN:VCALENDAR
VERSION:2.0
PRODID:-//MetalExpress - ECPv6.15.19//NONSGML v1.0//EN
CALSCALE:GREGORIAN
METHOD:PUBLISH
X-WR-CALNAME:MetalExpress
X-ORIGINAL-URL:https://metalexpress.sk
X-WR-CALDESC:Udalosti pre MetalExpress
REFRESH-INTERVAL;VALUE=DURATION:PT1H
X-Robots-Tag:noindex
X-PUBLISHED-TTL:PT1H
BEGIN:VTIMEZONE
TZID:Europe/Bratislava
BEGIN:DAYLIGHT
TZOFFSETFROM:+0100
TZOFFSETTO:+0200
TZNAME:CEST
DTSTART:20220327T010000
END:DAYLIGHT
BEGIN:STANDARD
TZOFFSETFROM:+0200
TZOFFSETTO:+0100
TZNAME:CET
DTSTART:20221030T010000
END:STANDARD
BEGIN:DAYLIGHT
TZOFFSETFROM:+0100
TZOFFSETTO:+0200
TZNAME:CEST
DTSTART:20230326T010000
END:DAYLIGHT
BEGIN:STANDARD
TZOFFSETFROM:+0200
TZOFFSETTO:+0100
TZNAME:CET
DTSTART:20231029T010000
END:STANDARD
BEGIN:DAYLIGHT
TZOFFSETFROM:+0100
TZOFFSETTO:+0200
TZNAME:CEST
DTSTART:20240331T010000
END:DAYLIGHT
BEGIN:STANDARD
TZOFFSETFROM:+0200
TZOFFSETTO:+0100
TZNAME:CET
DTSTART:20241027T010000
END:STANDARD
END:VTIMEZONE
BEGIN:VEVENT
DTSTART;TZID=Europe/Bratislava:20230925T170000
DTEND;TZID=Europe/Bratislava:20230925T210000
DTSTAMP:20260421T101159
CREATED:20230920T115143Z
LAST-MODIFIED:20230920T115143Z
UID:47498-1695661200-1695675600@metalexpress.sk
SUMMARY:Pražským Rock Café zamávajú emócie!
DESCRIPTION:THIS WILL DESTROY YOU\, THE OCEAN\, EF\n25. 9. 2023 – Praha\, Rock Café\nevent: https://fb.me/e/2OftlJIp7\ne-TICKET: https://obscure.cz/cs/tickets/detail/id/607  \nExperimentální rockeři THIS WILL DESTROY YOU skládají dlouhé\, atmosférické instrumentální skladby a využívají k tomu vrstvy nejrůzněji naefektovaných kytar\, čímž v jejich kaskádovité cinematic hudbě a táhlých plochách posluchače unášejí do skrytých světů jeho mysli. Jejich zvuk má různobarevné spektrum a obsahuje vlivy shoegaze\, ambientu\, doom metal a post-rocku. Kromě svých alb THIS WILL DESTROY YOU složili a nahráli hudbu k řadě celovečerních filmů\, dokumentů a uměleckých instalací. \nKapela z Kalifornie navíc od roku 2018 nekoncertovala v Evropě\, a beztak poslední rozsáhlé turné absolvovala v roce 2014\, takže mnoho měst starého kontinentu čeká na jejich návrat. A ten se blíží. V pondělí přijedou s berlínským kolektivem THE OCEAN. Hutný progresivní metal v podání THE OCEAN je diametrálně odlišný od běžně vnímané podoby žánru. De facto jde o třaskavou heavy srážku post-metalu a temného hardcore\, takže progresivní metal tu ustupuje přímočaré intenzitě sdělení\, aby vyexplodovával ven\, když přijde jeho čas.\nNež heroická instrumentace jsou hybnou silou těžké a důmyslné rytmy\, promyšlené konstrukce písní a hrátky s aranžemi a melodií. Důležitá je gradace a stupňování napětí s dusivou atmosférou a smyslem pro dramatično. A pak je tu ještě Loïc Rossetti\, který ze svého hrdla dokáže vyloudit snad cokoli. Muzika THE OCEAN je strhující a nevytrácí se z ní sdělení ani po mnoha posleších.\nRole předkapely se ujmou švédští post-rockeři EF. \nTlačová správa Obscure Promotion
URL:https://metalexpress.sk/event/prazskym-rock-cafe-zamavaju-emocie/
LOCATION:Rock Café Praha\, Národní 20\, Praha 1\, Prague\, Czech Republic\, Praha\, Praha 1\, Česká republika
CATEGORIES:Udalosti
ATTACH;FMTTYPE=image/jpeg:https://metalexpress.sk/wp-content/uploads/2023/09/story-this-will-destroy-you-2023-praha-FINAL-1.jpg
ORGANIZER;CN="Obscure Promotion":MAILTO:filip@obscure.cz
END:VEVENT
BEGIN:VEVENT
DTSTART;TZID=Europe/Bratislava:20230925T173000
DTEND;TZID=Europe/Bratislava:20230925T210000
DTSTAMP:20260421T101159
CREATED:20230920T114520Z
LAST-MODIFIED:20230920T114520Z
UID:47492-1695663000-1695675600@metalexpress.sk
SUMMARY:Rockový bavič FROG LEAP do roka a do dne opäť na mieste činu!
DESCRIPTION:Leo Moracchioli & FROG LEAP\n25. 9. 2023 – Praha\, Lucerna Music Bar\nFB event: https://fb.me/e/43JXIHo1s\ne-TICKET: https://obscure.cz/cs/tickets/detail/id/561\nDoba je těžká\, lidé se potřebují bavit. A to jim příští pondělí charismatický a davy bavící rocker Leo Moracchioli známý jako FROG LEAP se svou frenetickou show plnou osobitě pojatých bangerů nabídne. Heslo pro vstup: Party! FROG LEAP je společně s TENACIOUS D asi nejznámější hudební bavič\, kterého rocková scéna má. Tento multiinstrumentalista a producent prorazil na YouTubu svými osobitě pojatými i natočenými covery\, které nejenže kompletně přearanžovává a celé nahrává\, ale ještě u nich stojí za kamerou\, ve střižně i na režijní stoličce. Ale „jen“ přenahrávat známé a úspěšné písně nestačí. Úspěch vyžaduje permanentní akci a kreativitu\, které zmlsaného a přehlceného posluchače/diváka udrží na příjmu. Jenže Leo ke všemu navíc přidává i svůj osobitý humor\, takže není divu\, že jeho videa/písně mají na streamovacích platformách desetimiliony zhlédnutí. Živá kapela FROG LEAP\, jež poprvé v Praze vyprodala Lucernu\, pak zazářila na festivalech Brutal Assault a Basinfire\, aby poté naplnila Forum Karlín\, se po tomto úspěchu do roka a do dne vrací zpět. Ale zpět pěkně na začátek do pražské Lucerny. Zde si Leo s diváky zas tváří v tvář vytvoří osobní kontakt\, který se na velkém pódiu loni trochu vytratil.\nFROG LEAP – bavič ve skořápce tvrdého rockera\, co strhává davy a boří hranice hudebních žánrů – se v pondělí vrací do Prahy! \n007 Skyfall\n\nAdele\n\nGhostbusters\n\nToto\n\nLady Gaga\n \nVstupenky viz e-ticket výše\, dále v síti Ticketmaster a GoOut. \nTlačová správa Obscure Promotion
URL:https://metalexpress.sk/event/rockovy-bavic-frog-leap-do-roka-a-do-dne-opat-na-mieste-cinu/
LOCATION:Lucerna Music Bar Praha\, Vodičkova 36\, Prague\, Czech Republic\, Praha\, Praha\, Česká republika
CATEGORIES:Udalosti
ATTACH;FMTTYPE=image/jpeg:https://metalexpress.sk/wp-content/uploads/2023/09/poster-frog-leap-2023-praha-LMB.jpg
ORGANIZER;CN="Obscure Promotion":MAILTO:filip@obscure.cz
END:VEVENT
END:VCALENDAR