BEGIN:VCALENDAR
VERSION:2.0
PRODID:-//MetalExpress - ECPv6.15.19//NONSGML v1.0//EN
CALSCALE:GREGORIAN
METHOD:PUBLISH
X-ORIGINAL-URL:https://metalexpress.sk
X-WR-CALDESC:Udalosti pre MetalExpress
REFRESH-INTERVAL;VALUE=DURATION:PT1H
X-Robots-Tag:noindex
X-PUBLISHED-TTL:PT1H
BEGIN:VTIMEZONE
TZID:Europe/Bratislava
BEGIN:DAYLIGHT
TZOFFSETFROM:+0100
TZOFFSETTO:+0200
TZNAME:CEST
DTSTART:20220327T010000
END:DAYLIGHT
BEGIN:STANDARD
TZOFFSETFROM:+0200
TZOFFSETTO:+0100
TZNAME:CET
DTSTART:20221030T010000
END:STANDARD
BEGIN:DAYLIGHT
TZOFFSETFROM:+0100
TZOFFSETTO:+0200
TZNAME:CEST
DTSTART:20230326T010000
END:DAYLIGHT
BEGIN:STANDARD
TZOFFSETFROM:+0200
TZOFFSETTO:+0100
TZNAME:CET
DTSTART:20231029T010000
END:STANDARD
BEGIN:DAYLIGHT
TZOFFSETFROM:+0100
TZOFFSETTO:+0200
TZNAME:CEST
DTSTART:20240331T010000
END:DAYLIGHT
BEGIN:STANDARD
TZOFFSETFROM:+0200
TZOFFSETTO:+0100
TZNAME:CET
DTSTART:20241027T010000
END:STANDARD
END:VTIMEZONE
BEGIN:VEVENT
DTSTART;TZID=Europe/Bratislava:20230923T160000
DTEND;TZID=Europe/Bratislava:20230923T203000
DTSTAMP:20260423T132301
CREATED:20230921T084840Z
LAST-MODIFIED:20230921T084840Z
UID:47511-1695484800-1695501000@metalexpress.sk
SUMMARY:Chliev #4 x Slovenská Tepláreň túto sobotu v Košiciach!
DESCRIPTION:CHLIEV #4 x Slovenská Tepláreň\n23/09/2023\n777 – Collosseum Club\, Košice \nTentoraz na podporu kampane Slovenská Tepláreň\nhttps://www.slovenskateplaren.sk/ \nBESNA (post-black metal\, Bratislava) – 21:10\nhttps://besna.bandcamp.com\nhttps://www.facebook.com/BesnaBand \nS.A.T.A.N. (extreme grindcore/hardcore punk\, Poľsko) – 20:10\nhttps://satanextremepunk.bandcamp.com\nhttps://www.facebook.com/profile.php?id=100063633753641 \nRANA (post-metal/emo hardcore\, Bratislava) – 19:20\nhttps://rana.bandcamp.com/\nhttps://www.facebook.com/RanaBandOfficial \nRAID SIREN (stoner metal/crust punk\, Bratislava) – 18:30\nhttps://raidsiren.bandcamp.com \nVSTUP: 5-12€ (rozhodni sa podľa seba\, maš cca predstavu koľko na take akcie chodi ľudi)\nNÁKLADY:\n– 350€ kapely\n– 200€ klub\, ubytovanie..\n– 180€ chalo pre kapely\, chalo pre vás\n– na koncerte bude k dispozícii navareného plno jedla\, za ktoré ak zaplatíš\, pomôžeš tomu\, aby akcia nebola v strate\n– nefajčiarska akcia (ani vape\, ani zahrievaky)\, na akcii sa konzumuje jedlo a žije zdravo\, tak si to tam nesmraďme.. tentoraz vyskúšame aj experiment so zatiahnutou plachtou cez cely balkón\, dobre bude! \n– GNWP\n– prečítaj si „manifest“ Chliev-u (v info sekcii FB stránky Chliev) a Slovenskej Teplárne \nInformácie sú prebraté z FB udalosti
URL:https://metalexpress.sk/event/chliev-4-x-slovenska-teplaren-tuto-sobotu-v-kosiciach/
LOCATION:Collosseum\, Dominikánske námestie 35\, Košice\, Košice\, 04001\, Slovenská republika
CATEGORIES:Udalosti
END:VEVENT
BEGIN:VEVENT
DTSTART;TZID=Europe/Bratislava:20230923T180000
DTEND;TZID=Europe/Bratislava:20230923T213000
DTSTAMP:20260423T132301
CREATED:20230919T082720Z
LAST-MODIFIED:20230919T082720Z
UID:47470-1695492000-1695504600@metalexpress.sk
SUMMARY:Koncert a vernisáž fotografií vo Zvolene!
DESCRIPTION:Večer plný metalovej hudby a audiovizuálnych zážitkov. Podporte zvolenské metalové kapely a príďte v sobotu na koncerty Demonic Eyed\, Brain Dealers\, Raznutra a Ruineum. \nČaká vás aj vernisáž fotografií k projektu Mária Magdaléna združenia Sick Minded Cult. Nebude chýbať ani audiovizuálna forma\, premiéra klipu k skladbe Inkvizícia od kapely Demonic Eyed\, ktorý vznikol na motívy príbehu Márie Magdalény. Okrem toho kopec hudby\, merch\, pivo a dobrá atmosféra. Vernisáž fotografií je súčasťou Fotofestivalu 2023.\nVstup na koncerty: 5€ v predpredaji/ 7€ na mieste. \nKoncerty:\nRaznutra\nhttps://www.facebook.com/Raznutra\nRuineum\nhttps://www.facebook.com/profile.php?id=100087913184171\nBrain Dealers\nhttps://www.facebook.com/braindealers\nDemonic Eyed\nhttps://www.facebook.com/demoniceyed \nText pochádza z FB udalosti. Pre viac informácií sledujte posty v udalosti.
URL:https://metalexpress.sk/event/koncert-a-vernisaz-fotografii-vo-zvolene/
LOCATION:Dom Kultúry ŽSR Zvolen\, 69 Sokolská 960 01 Zvolen\, Zvolen\, 96001\, Slovenská republika
CATEGORIES:Udalosti
ATTACH;FMTTYPE=image/jpeg:https://metalexpress.sk/wp-content/uploads/2023/09/374730758_789403236526164_1536218287001090897_n.jpg
END:VEVENT
END:VCALENDAR