BEGIN:VCALENDAR
VERSION:2.0
PRODID:-//MetalExpress - ECPv6.15.19//NONSGML v1.0//EN
CALSCALE:GREGORIAN
METHOD:PUBLISH
X-WR-CALNAME:MetalExpress
X-ORIGINAL-URL:https://metalexpress.sk
X-WR-CALDESC:Udalosti pre MetalExpress
REFRESH-INTERVAL;VALUE=DURATION:PT1H
X-Robots-Tag:noindex
X-PUBLISHED-TTL:PT1H
BEGIN:VTIMEZONE
TZID:Europe/Bratislava
BEGIN:DAYLIGHT
TZOFFSETFROM:+0100
TZOFFSETTO:+0200
TZNAME:CEST
DTSTART:20220327T010000
END:DAYLIGHT
BEGIN:STANDARD
TZOFFSETFROM:+0200
TZOFFSETTO:+0100
TZNAME:CET
DTSTART:20221030T010000
END:STANDARD
BEGIN:DAYLIGHT
TZOFFSETFROM:+0100
TZOFFSETTO:+0200
TZNAME:CEST
DTSTART:20230326T010000
END:DAYLIGHT
BEGIN:STANDARD
TZOFFSETFROM:+0200
TZOFFSETTO:+0100
TZNAME:CET
DTSTART:20231029T010000
END:STANDARD
BEGIN:DAYLIGHT
TZOFFSETFROM:+0100
TZOFFSETTO:+0200
TZNAME:CEST
DTSTART:20240331T010000
END:DAYLIGHT
BEGIN:STANDARD
TZOFFSETFROM:+0200
TZOFFSETTO:+0100
TZNAME:CET
DTSTART:20241027T010000
END:STANDARD
END:VTIMEZONE
BEGIN:VEVENT
DTSTART;TZID=Europe/Bratislava:20230916T170000
DTEND;TZID=Europe/Bratislava:20230916T203000
DTSTAMP:20260423T132215
CREATED:20230913T104614Z
LAST-MODIFIED:20230913T104614Z
UID:47443-1694883600-1694896200@metalexpress.sk
SUMMARY:HOTEN TOTEN - DIMENZIA X - IQ:60 v sobotu vo FUGE!
DESCRIPTION:Po dlhšej dobe zahrá HOTEN TOTEN v Bratislave\, spolu s domácou peckou Dimenzia X a oldschool-punk bandou z Havířova IQ:60.\nHoten Toten\nhttps://www.facebook.com/profile.php?id=100046788765690\nDimenzia X\nhttps://www.facebook.com/dimenziax.bratislava\nIQ:60\nhttps://www.facebook.com/IQ60band \nKomu by bolo málo kultúry\, veľmi vrelo odporúčam afterku na Werande\, kde bude vernisáž fotografií Braňa Vartovníka\, talentovaného a výnimočného fotografa alternatívnej muziky.\nVác info čoskoro.\nDojdite si navzájom rozšlapať boty a poliať sa pivom!\n\nText z FB udalosti
URL:https://metalexpress.sk/event/hoten-toten-dimenzia-x-iq60-v-sobotu-vo-fuge/
LOCATION:FUGA\, Námestie SNP 24\, Bratislava\, Bratislavský Kraj\, Slovenská republika
CATEGORIES:Udalosti
ATTACH;FMTTYPE=image/jpeg:https://metalexpress.sk/wp-content/uploads/2023/09/368003998_679757270845534_153512936995710435_n.jpg
END:VEVENT
END:VCALENDAR