BEGIN:VCALENDAR
VERSION:2.0
PRODID:-//MetalExpress - ECPv6.15.19//NONSGML v1.0//EN
CALSCALE:GREGORIAN
METHOD:PUBLISH
X-WR-CALNAME:MetalExpress
X-ORIGINAL-URL:https://metalexpress.sk
X-WR-CALDESC:Udalosti pre MetalExpress
REFRESH-INTERVAL;VALUE=DURATION:PT1H
X-Robots-Tag:noindex
X-PUBLISHED-TTL:PT1H
BEGIN:VTIMEZONE
TZID:Europe/Bratislava
BEGIN:DAYLIGHT
TZOFFSETFROM:+0100
TZOFFSETTO:+0200
TZNAME:CEST
DTSTART:20220327T010000
END:DAYLIGHT
BEGIN:STANDARD
TZOFFSETFROM:+0200
TZOFFSETTO:+0100
TZNAME:CET
DTSTART:20221030T010000
END:STANDARD
BEGIN:DAYLIGHT
TZOFFSETFROM:+0100
TZOFFSETTO:+0200
TZNAME:CEST
DTSTART:20230326T010000
END:DAYLIGHT
BEGIN:STANDARD
TZOFFSETFROM:+0200
TZOFFSETTO:+0100
TZNAME:CET
DTSTART:20231029T010000
END:STANDARD
BEGIN:DAYLIGHT
TZOFFSETFROM:+0100
TZOFFSETTO:+0200
TZNAME:CEST
DTSTART:20240331T010000
END:DAYLIGHT
BEGIN:STANDARD
TZOFFSETFROM:+0200
TZOFFSETTO:+0100
TZNAME:CET
DTSTART:20241027T010000
END:STANDARD
END:VTIMEZONE
BEGIN:VEVENT
DTSTART;TZID=Europe/Bratislava:20230914T170000
DTEND;TZID=Europe/Bratislava:20230914T170000
DTSTAMP:20260423T132216
CREATED:20230913T103130Z
LAST-MODIFIED:20230913T103130Z
UID:47431-1694710800-1694710800@metalexpress.sk
SUMMARY:NOCONTROL - BREAKING THE TAROT - SLIGHT LIE - v Stromoradí v Prešove!
DESCRIPTION:Príďte si užiť skvelý metalový večer s troma výbornými slovenskými kapelami. Na pódiu v klube Stromoradie to roztočia NoControl\, Breaking the Tarot a Slight Lie. \nHeadlinerov NOCONTROL netreba zvlášť predstavovať. Meno Jimi Cimbala je na Slovensku pojem a samotná kapela vďaka vynikajúcim koncertom oprávnene stúpa k vrcholu slovenskej rock/metalovej scény. K ich najnovšiemu singlu Moje Planéty skupina natočila pôsobivý videoklip. Viac informácii ohľadom #Controlky prinesieme neskôr. \nTešiť sa môžete aj na stále populárnejších metalcoreistov BREAKING THE TAROT. Košičania majú nachystaný natlakovaný playlist zložený zo skladieb nového albumu. Ten je už nahraný\, zmixovaný a v lete vyjde pod hlavičkou Gothoom Productions. \nVečer otvoria domáci SLIGHT LIE\, ktorí pre vás taktiež majú prichystaných zopár prekvapení\, takže príďte načas a nenechajte si ich energickú šou ujsť. \nDátum: 14.09.2023\nMiesto: Stromoradie\, Prešov\nVstup: 8 €\nFB Udalosť: https://www.facebook.com/events/961520211822165/\n\nText pochádza z FB udalosti
URL:https://metalexpress.sk/event/nocontrol-breaking-the-tarot-slight-lie-v-stromoradi-v-presove/
LOCATION:Stromoradie\, Kmeťovo stromoradie\, Presov\, Slovakia\, Prešov\, Prešov\, Slovenská republika
CATEGORIES:Udalosti
ATTACH;FMTTYPE=image/jpeg:https://metalexpress.sk/wp-content/uploads/2023/09/368019739_10233010037339862_9171351568037998908_n.jpg
END:VEVENT
BEGIN:VEVENT
DTSTART;TZID=Europe/Bratislava:20230914T170000
DTEND;TZID=Europe/Bratislava:20230914T213000
DTSTAMP:20260423T132216
CREATED:20230913T105218Z
LAST-MODIFIED:20230913T105218Z
UID:47446-1694710800-1694727000@metalexpress.sk
SUMMARY:HLUK MESTA zajtra v Nitre!
DESCRIPTION:HLUK MESTA je názov pre sériu multižánrových koncertov pod hlavičkou skupiny JÓB\, ktoré majú oživiť verejný priestor mesta Nitra a priniesť kultivovaný hluk na tradičné aj menej tradične koncertné miesta. Prvý ročník sa bude konať vo vyhľadávanom priestore trendov a pomalej módy v Sekáči\, ktorý má ambíciu etablovať sa ako nové kultúrne centrum v srdci mesta.\n~ 14. 9. 2023 od 19:30\n~ Sekáč\, Nitra\n~ odporúčané vstupné: 10 € \nČAD (turbo metal/Svätý Jur)\nRadosť a neplecha alebo metalová alternatívna k našľapovaniu na lego bosou nohou. Kapela\, ktorá si je na scéne sebe sama konkurenciu už 30 rokov. Aj preto dnes už ČAD neoznačí žiadny fanušík inak ako turbo metal.\nJÓB (post-metal/Nitra)\nKolíska emócií a hudobný súboj s sedemhlavým drakom nerestí vedený cukrom aj bičom\, intenzívnym hlukom aj (ne)pokojným tichom.\nLØAN (post-rock/Zlaté Moravce)\nDžentlmeni s vycibreným vkusom\, ktorí veria v silu hudby bez slov a pozlátka. \nLØAN 19:30 -20:10\nJÓB 20:30 – 21:20\nČAD 21:45 – 22:30\nplagát: Andrej Hutira alias Soske \nDátum: 14.09.2023\nMiesto: Sekáč\, Nitra\nVstup: 10 €\nFB Udalosť: https://www.facebook.com/events/1339510686659650 \nPoužitý text pochádza z FB udalosti
URL:https://metalexpress.sk/event/hluk-mesta-zajtra-v-nitre/
LOCATION:Sekáč\, Kupecká 11\, Nitra\, Slovakia\, Nitra\, Slovenská republika
CATEGORIES:Udalosti
ATTACH;FMTTYPE=image/jpeg:https://metalexpress.sk/wp-content/uploads/2023/09/374272823_833629924923479_2161217350618361732_n.jpg
END:VEVENT
END:VCALENDAR