BEGIN:VCALENDAR
VERSION:2.0
PRODID:-//MetalExpress - ECPv6.15.19//NONSGML v1.0//EN
CALSCALE:GREGORIAN
METHOD:PUBLISH
X-WR-CALNAME:MetalExpress
X-ORIGINAL-URL:https://metalexpress.sk
X-WR-CALDESC:Udalosti pre MetalExpress
REFRESH-INTERVAL;VALUE=DURATION:PT1H
X-Robots-Tag:noindex
X-PUBLISHED-TTL:PT1H
BEGIN:VTIMEZONE
TZID:Europe/Bratislava
BEGIN:DAYLIGHT
TZOFFSETFROM:+0100
TZOFFSETTO:+0200
TZNAME:CEST
DTSTART:20220327T010000
END:DAYLIGHT
BEGIN:STANDARD
TZOFFSETFROM:+0200
TZOFFSETTO:+0100
TZNAME:CET
DTSTART:20221030T010000
END:STANDARD
BEGIN:DAYLIGHT
TZOFFSETFROM:+0100
TZOFFSETTO:+0200
TZNAME:CEST
DTSTART:20230326T010000
END:DAYLIGHT
BEGIN:STANDARD
TZOFFSETFROM:+0200
TZOFFSETTO:+0100
TZNAME:CET
DTSTART:20231029T010000
END:STANDARD
BEGIN:DAYLIGHT
TZOFFSETFROM:+0100
TZOFFSETTO:+0200
TZNAME:CEST
DTSTART:20240331T010000
END:DAYLIGHT
BEGIN:STANDARD
TZOFFSETFROM:+0200
TZOFFSETTO:+0100
TZNAME:CET
DTSTART:20241027T010000
END:STANDARD
END:VTIMEZONE
BEGIN:VEVENT
DTSTART;TZID=Europe/Bratislava:20230909T150000
DTEND;TZID=Europe/Bratislava:20230909T213000
DTSTAMP:20260423T132212
CREATED:20230904T082733Z
LAST-MODIFIED:20230904T082733Z
UID:47339-1694271600-1694295000@metalexpress.sk
SUMMARY:Dožinky: Spomienka na Vlkana a Wolkogniva v Brezne!
DESCRIPTION:Začiatkom septembra si koncertom pripomenieme našich priateľov Vlkana (Mateja Králika) a Wolkogniva (Samuela Čárskeho)\, ktorí nás opustili počas letných dní\, Vlkan 2021\, Wolkogniv 2017. Obaja boli dôležitou súčasťou našich životov a domácej metalovej scény. \nZahrajú:\nKrajiny Hmly (pagan black metal)\nhttps://www.facebook.com/krajinyhmlysk\nhttps://krajinyhmly.bandcamp.com/ \nSolipsism (urban black metal)\nhttps://www.facebook.com/solipsismband\nhttps://solipsismband.bandcamp.com/music \nBerstuk (melodic black metal)\nhttps://berstuk.bandcamp.com/album/ke-korene-vyra-ia\nhttps://www.youtube.com/channel/UCZoG59BHFYzgGeozQpajvRg \nSlavibor – skupina oživujúca históriu ranostredovekých Slovanov z obdobia Veľkej Moravy \nPoužitý text pochádza z FB udalosti
URL:https://metalexpress.sk/event/dozinky-spomienka-na-vlkana-a-wolkogniva-v-brezne/
LOCATION:1. DART CLUB BREZNO\, Nám. M. R. Štefánika 34\, Brezno\, Brezno\, Slovenská republika
CATEGORIES:Udalosti
ATTACH;FMTTYPE=image/jpeg:https://metalexpress.sk/wp-content/uploads/2023/09/369688647_631362179095397_5863509690142529350_n.jpg
END:VEVENT
BEGIN:VEVENT
DTSTART;TZID=Europe/Bratislava:20230909T170000
DTEND;TZID=Europe/Bratislava:20230909T203000
DTSTAMP:20260423T132212
CREATED:20230904T150352Z
LAST-MODIFIED:20230904T150352Z
UID:47374-1694278800-1694291400@metalexpress.sk
SUMMARY:33 years of pure massacre alebo 33 rokov kapely Contempt!
DESCRIPTION:Už túto sobotu sa v Košiciach uskutoční oslava 33 ročného pôsobenia slovenskej brutal death metalovej legendy CONTEMPT. Hoci zostava sa počas rokov trochu obmenila a dokonca jeden čas bola kapela neaktívna\, momentálne sú v plnej sile a predvedú sa na výročnom koncert ako inak v Košiciach! Na tento večer si zavolali ako hostí REALMS OF CHAOS a poľskú death grindovu kapelu I REFUSE. Koncert sa uskutoční ako inak v košickom Collosseum klube.  \nCONTEMPT [SK] / brutal death metal\nhttps://bandzone.cz/contempt\nhttps://www.facebook.com/profile.php?id=100063491193835\n\n \nREALMS OF CHAOS [SK] / death metal\nhttps://bandzone.cz/realmsofchaos\nhttps://www.facebook.com/RealmsOfChaosSVK/\nhttps://www.instagram.com/realmsofchaosband/\n\n \nI REFUSE [PL] / death metal/grind\nhttps://irefuse2004.bandcamp.com/album/dead-innocence\nhttps://www.facebook.com/I.REFUSE1/\n\nhttps://www.youtube.com/watch?v=LcqNIaI_Io4… \nDÁTUM: 09.09.2023\nMIESTO: Collosseum Club\, Košice\nVSTUP: 10 €\nFB Udalosť: https://www.facebook.com/events/1390287081553890/
URL:https://metalexpress.sk/event/33-years-of-pure-massacre-alebo-33-rokov-kapely-contempt/
LOCATION:Collosseum\, Dominikánske námestie 35\, Košice\, Košice\, 04001\, Slovenská republika
CATEGORIES:Udalosti
ATTACH;FMTTYPE=image/jpeg:https://metalexpress.sk/wp-content/uploads/2023/09/367970895_784767510316282_5318174179721013072_n.jpg
END:VEVENT
END:VCALENDAR