BEGIN:VCALENDAR
VERSION:2.0
PRODID:-//MetalExpress - ECPv6.15.19//NONSGML v1.0//EN
CALSCALE:GREGORIAN
METHOD:PUBLISH
X-WR-CALNAME:MetalExpress
X-ORIGINAL-URL:https://metalexpress.sk
X-WR-CALDESC:Udalosti pre MetalExpress
REFRESH-INTERVAL;VALUE=DURATION:PT1H
X-Robots-Tag:noindex
X-PUBLISHED-TTL:PT1H
BEGIN:VTIMEZONE
TZID:Europe/Bratislava
BEGIN:DAYLIGHT
TZOFFSETFROM:+0100
TZOFFSETTO:+0200
TZNAME:CEST
DTSTART:20220327T010000
END:DAYLIGHT
BEGIN:STANDARD
TZOFFSETFROM:+0200
TZOFFSETTO:+0100
TZNAME:CET
DTSTART:20221030T010000
END:STANDARD
BEGIN:DAYLIGHT
TZOFFSETFROM:+0100
TZOFFSETTO:+0200
TZNAME:CEST
DTSTART:20230326T010000
END:DAYLIGHT
BEGIN:STANDARD
TZOFFSETFROM:+0200
TZOFFSETTO:+0100
TZNAME:CET
DTSTART:20231029T010000
END:STANDARD
BEGIN:DAYLIGHT
TZOFFSETFROM:+0100
TZOFFSETTO:+0200
TZNAME:CEST
DTSTART:20240331T010000
END:DAYLIGHT
BEGIN:STANDARD
TZOFFSETFROM:+0200
TZOFFSETTO:+0100
TZNAME:CET
DTSTART:20241027T010000
END:STANDARD
END:VTIMEZONE
BEGIN:VEVENT
DTSTART;TZID=Europe/Bratislava:20230908T170000
DTEND;TZID=Europe/Bratislava:20230908T170000
DTSTAMP:20260423T132220
CREATED:20230904T080359Z
LAST-MODIFIED:20230904T080359Z
UID:47326-1694192400-1694192400@metalexpress.sk
SUMMARY:Metalová Nitra vol. 4
DESCRIPTION:Ďalšie vydanie\, našej obľúbenej akcie v Mariatchi\, tentokrát v čisto thrashovom kabáte!\nNakoľko sa koná v piatok\, a treba skončiť do desiatej\, zahrajú len dve kapely\, ale muziky bude aj tak plno! Za 5 evry viac ako dosť! 🙂\nTešíme sa na Vás! \nMANYAC\nhttps://www.youtube.com/@manyacband\nhttps://www.facebook.com/manyacband/ \nTechnology Of Death\nhttps://www.youtube.com/@technologyofdeath4748\nhttps://www.facebook.com/technologyofdeath \nZa krásny blasfemický plagát ďakujeme Blekwolf-ovi.  \nInformácie:\nDátum: 08.09.2023\nMiesto: Mariatchi\, Nitra\nVstup: 5 €\nFB Udalosť: https://www.facebook.com/events/3595411787358588/\n\nPoužitý text pochádza z FB udalosti
URL:https://metalexpress.sk/event/metalova-nitra-vol-4/
LOCATION:Mariatchi Nitra\, Mostná 35\, Nitra\, Slovakia\, Nitra\, Slovenská republika
CATEGORIES:Udalosti
ATTACH;FMTTYPE=image/jpeg:https://metalexpress.sk/wp-content/uploads/2023/09/362233279_959397215128056_1798837546501142145_n.jpg
END:VEVENT
END:VCALENDAR