BEGIN:VCALENDAR
VERSION:2.0
PRODID:-//MetalExpress - ECPv6.15.19//NONSGML v1.0//EN
CALSCALE:GREGORIAN
METHOD:PUBLISH
X-ORIGINAL-URL:https://metalexpress.sk
X-WR-CALDESC:Udalosti pre MetalExpress
REFRESH-INTERVAL;VALUE=DURATION:PT1H
X-Robots-Tag:noindex
X-PUBLISHED-TTL:PT1H
BEGIN:VTIMEZONE
TZID:Europe/Bratislava
BEGIN:DAYLIGHT
TZOFFSETFROM:+0100
TZOFFSETTO:+0200
TZNAME:CEST
DTSTART:20220327T010000
END:DAYLIGHT
BEGIN:STANDARD
TZOFFSETFROM:+0200
TZOFFSETTO:+0100
TZNAME:CET
DTSTART:20221030T010000
END:STANDARD
BEGIN:DAYLIGHT
TZOFFSETFROM:+0100
TZOFFSETTO:+0200
TZNAME:CEST
DTSTART:20230326T010000
END:DAYLIGHT
BEGIN:STANDARD
TZOFFSETFROM:+0200
TZOFFSETTO:+0100
TZNAME:CET
DTSTART:20231029T010000
END:STANDARD
BEGIN:DAYLIGHT
TZOFFSETFROM:+0100
TZOFFSETTO:+0200
TZNAME:CEST
DTSTART:20240331T010000
END:DAYLIGHT
BEGIN:STANDARD
TZOFFSETFROM:+0200
TZOFFSETTO:+0100
TZNAME:CET
DTSTART:20241027T010000
END:STANDARD
END:VTIMEZONE
BEGIN:VEVENT
DTSTART;TZID=Europe/Bratislava:20230907T170000
DTEND;TZID=Europe/Bratislava:20230907T210000
DTSTAMP:20260423T115346
CREATED:20230904T081015Z
LAST-MODIFIED:20230904T081015Z
UID:47331-1694106000-1694120400@metalexpress.sk
SUMMARY:Heavy metal na lodi PINK WHALE v Bratislave!
DESCRIPTION:Heavy metal maniacs žijete ešte? Epic heavy metal zažíva renesanciu a tento koncert bude toho príkladom. Podpalubie Pink Whale prídu totižto ovládnuť kanadsko-fínski Smoulder so svojim tohtoročným albumom Violent Creed of Vengeance! Vo svojej tvorbe využívajú tradíciu kapiel ako Omen\, Blind Guardian\, Solitude Aeternus\, či Fates Warning. Skrátka\, do tohto sa bude metať hlavou jedna radosť!\nSmoulder – Violent Creed of Vengeance\nhttps://open.spotify.com/album/4P1eHrCZdcwKUNnLmRZWcu… \nOkrem Smoulder sa predstavia aj domácie reprezentácie heavy metalu. Kapelu MotorscreaM Project ste už v podpalubí raz mohli vidieť a bolo to výborné! Motorkový heavy metal a lá Chrome Division alebo Motorhead\, yes!\nMotorscreaM Project – Chrome Intruder\n\nA poslednou kapelou sú absolútni heavy metal maniacs Old Hämmer od Trenčína.\nOld Hämmer – demo\n \nDátum: 07.09.2023\nMiesto: Pink Whale\, Bratislava\nVstup: 10 EUR v Predpredaji\nFB Udalosť: https://www.facebook.com/events/638690338225841/ \nPoužitý text pochádza z FB udalosti
URL:https://metalexpress.sk/event/heavy-metal-na-lodi-pink-whale-v-bratislave/
LOCATION:Pink Whale\, Nábrežie armádneho generála Ludvíka Svobodu 1868rkm\, 811 02 Staré Mesto\, Bratislava\, Slovakia 0911 177 172\, Bratislava\, Bratislava\, 81102\, Slovenská republika
CATEGORIES:Udalosti
ATTACH;FMTTYPE=image/jpeg:https://metalexpress.sk/wp-content/uploads/2023/09/364751339_311270314613901_1913594844612097885_n.jpg
END:VEVENT
END:VCALENDAR