BEGIN:VCALENDAR
VERSION:2.0
PRODID:-//MetalExpress - ECPv6.15.19//NONSGML v1.0//EN
CALSCALE:GREGORIAN
METHOD:PUBLISH
X-ORIGINAL-URL:https://metalexpress.sk
X-WR-CALDESC:Udalosti pre MetalExpress
REFRESH-INTERVAL;VALUE=DURATION:PT1H
X-Robots-Tag:noindex
X-PUBLISHED-TTL:PT1H
BEGIN:VTIMEZONE
TZID:Europe/Bratislava
BEGIN:DAYLIGHT
TZOFFSETFROM:+0100
TZOFFSETTO:+0200
TZNAME:CEST
DTSTART:20220327T010000
END:DAYLIGHT
BEGIN:STANDARD
TZOFFSETFROM:+0200
TZOFFSETTO:+0100
TZNAME:CET
DTSTART:20221030T010000
END:STANDARD
BEGIN:DAYLIGHT
TZOFFSETFROM:+0100
TZOFFSETTO:+0200
TZNAME:CEST
DTSTART:20230326T010000
END:DAYLIGHT
BEGIN:STANDARD
TZOFFSETFROM:+0200
TZOFFSETTO:+0100
TZNAME:CET
DTSTART:20231029T010000
END:STANDARD
BEGIN:DAYLIGHT
TZOFFSETFROM:+0100
TZOFFSETTO:+0200
TZNAME:CEST
DTSTART:20240331T010000
END:DAYLIGHT
BEGIN:STANDARD
TZOFFSETFROM:+0200
TZOFFSETTO:+0100
TZNAME:CET
DTSTART:20241027T010000
END:STANDARD
END:VTIMEZONE
BEGIN:VEVENT
DTSTART;TZID=Europe/Bratislava:20230906T170000
DTEND;TZID=Europe/Bratislava:20230906T213000
DTSTAMP:20260423T115347
CREATED:20230904T143033Z
LAST-MODIFIED:20230904T143132Z
UID:47356-1694019600-1694035800@metalexpress.sk
SUMMARY:Keijo Niinimaa hutne\, pomaly\, ale aj drtivo. S MORBID EVILS na 007
DESCRIPTION:MORBID EVILS\, RATO TRISTE\n6. 9. 2023 – Praha\, Strahov 007\nFB event: https://fb.me/e/3Lpg4ctUl\ne-TICKET: https://obscure.cz/cs/tickets/detail/id/622  \nV roce 1989 se jednoho krásného dne odtrhl Lee Dorrian od mateřského prsu grindcorových Napalm Death\, otřel si ležérně ústa a založil doomové Cathedral. Keijo Niinimaa\, zpěvák Rotten Sound\, se ale odnikud odtrhávat nechce a paralelně zvládá jak svůj post v čele finských grinderů\, tak i svou další doom/sludge kapelu MORBID EVILS. \nTu se svými přáteli založil v roce 2014\, kdy od té doby stihli vydat už tři studiová alba\, z čehož to poslední vyšlo u aktivního indického labelu Transcending Obscurity\, a jen tak pro zajímavost dodáme\, že ti vydali i poslední alba českých Godless Truth\, Et Moriemur nebo Cutterred Flesh. \nPokud však od MORBID EVILS očekáváte sludge\, se kterým se v posledních letech roztrhl pytel\, budete zklamáni. MORBID EVILS jdou totiž úmyslně a tvrdohlavě proti proudu a ve svém rezavém lisu drtí jak tradiční doom\, tak sludge i death metal. Mazání celého soukolí je husté\, sladce hořké a při větším kontaktu s pokožkou může být i jedovaté. A že něco podobného znáte od Khanate? Tak to asi nebude jen náhoda.\nPřijďte na Sedmičku včas\, večer otevřou lokální RATO TRISTE!
URL:https://metalexpress.sk/event/keijo-niinimaa-hutne-pomaly-ale-aj-drtivo-s-morbid-evils-na-007/
LOCATION:007 Praha\, Chaloupeckého 1903 / Blok 7\, Praha\, Česká republika
CATEGORIES:Udalosti
ATTACH;FMTTYPE=image/jpeg:https://metalexpress.sk/wp-content/uploads/2023/09/ticket-622-1690970575.jpeg
ORGANIZER;CN="Obscure Promotion":MAILTO:filip@obscure.cz
END:VEVENT
END:VCALENDAR