BEGIN:VCALENDAR
VERSION:2.0
PRODID:-//MetalExpress - ECPv6.15.19//NONSGML v1.0//EN
CALSCALE:GREGORIAN
METHOD:PUBLISH
X-ORIGINAL-URL:https://metalexpress.sk
X-WR-CALDESC:Udalosti pre MetalExpress
REFRESH-INTERVAL;VALUE=DURATION:PT1H
X-Robots-Tag:noindex
X-PUBLISHED-TTL:PT1H
BEGIN:VTIMEZONE
TZID:Europe/Bratislava
BEGIN:DAYLIGHT
TZOFFSETFROM:+0100
TZOFFSETTO:+0200
TZNAME:CEST
DTSTART:20220327T010000
END:DAYLIGHT
BEGIN:STANDARD
TZOFFSETFROM:+0200
TZOFFSETTO:+0100
TZNAME:CET
DTSTART:20221030T010000
END:STANDARD
BEGIN:DAYLIGHT
TZOFFSETFROM:+0100
TZOFFSETTO:+0200
TZNAME:CEST
DTSTART:20230326T010000
END:DAYLIGHT
BEGIN:STANDARD
TZOFFSETFROM:+0200
TZOFFSETTO:+0100
TZNAME:CET
DTSTART:20231029T010000
END:STANDARD
BEGIN:DAYLIGHT
TZOFFSETFROM:+0100
TZOFFSETTO:+0200
TZNAME:CEST
DTSTART:20240331T010000
END:DAYLIGHT
BEGIN:STANDARD
TZOFFSETFROM:+0200
TZOFFSETTO:+0100
TZNAME:CET
DTSTART:20241027T010000
END:STANDARD
END:VTIMEZONE
BEGIN:VEVENT
DTSTART;TZID=Europe/Bratislava:20230827T170000
DTEND;TZID=Europe/Bratislava:20230827T213000
DTSTAMP:20260424T014823
CREATED:20230824T102603Z
LAST-MODIFIED:20230824T102603Z
UID:47322-1693155600-1693171800@metalexpress.sk
SUMMARY:Escuela Grind (USA) & Cameleon & Gágor na lodi Pink Whale!
DESCRIPTION:Absolútna last minute bomba! Už o 2 týždne sa v podpalubí udeje táto nedeľná power violence grind omša. Rozkývať loď nám prídu Escuela Grind sameriky\, ktorých doplnia domáce zostavy Cameleon a Gágor. Bude to kruté! \nESCUELA GRIND\nhttps://escuelagrind.bandcamp.com/album/memory-theater \nCAMELEON\nhttps://cameleon1.bandcamp.com/album/demo-2021 \nGÁGOR\nhttps://www.facebook.com/profile.php?id=100087047835954 \nDátum: 24.08.2023\nMiesto: Pink Whale\, Bratislava\nVstup: 10 € v predpredaji\nFB Udalosť: https://www.facebook.com/events/674001434282455/675199977495934/ \nText prebratý z udalosti na FB
URL:https://metalexpress.sk/event/escuela-grind-usa-cameleon-gagor-na-lodi-pink-whale/
LOCATION:Pink Whale\, Nábrežie armádneho generála Ludvíka Svobodu 1868rkm\, 811 02 Staré Mesto\, Bratislava\, Slovakia 0911 177 172\, Bratislava\, Bratislava\, 81102\, Slovenská republika
CATEGORIES:Udalosti
ATTACH;FMTTYPE=image/jpeg:https://metalexpress.sk/wp-content/uploads/2023/08/369187986_321250823615850_5521470423743028920_n.jpg
END:VEVENT
END:VCALENDAR