BEGIN:VCALENDAR
VERSION:2.0
PRODID:-//MetalExpress - ECPv6.15.19//NONSGML v1.0//EN
CALSCALE:GREGORIAN
METHOD:PUBLISH
X-WR-CALNAME:MetalExpress
X-ORIGINAL-URL:https://metalexpress.sk
X-WR-CALDESC:Udalosti pre MetalExpress
REFRESH-INTERVAL;VALUE=DURATION:PT1H
X-Robots-Tag:noindex
X-PUBLISHED-TTL:PT1H
BEGIN:VTIMEZONE
TZID:Europe/Bratislava
BEGIN:DAYLIGHT
TZOFFSETFROM:+0100
TZOFFSETTO:+0200
TZNAME:CEST
DTSTART:20220327T010000
END:DAYLIGHT
BEGIN:STANDARD
TZOFFSETFROM:+0200
TZOFFSETTO:+0100
TZNAME:CET
DTSTART:20221030T010000
END:STANDARD
BEGIN:DAYLIGHT
TZOFFSETFROM:+0100
TZOFFSETTO:+0200
TZNAME:CEST
DTSTART:20230326T010000
END:DAYLIGHT
BEGIN:STANDARD
TZOFFSETFROM:+0200
TZOFFSETTO:+0100
TZNAME:CET
DTSTART:20231029T010000
END:STANDARD
BEGIN:DAYLIGHT
TZOFFSETFROM:+0100
TZOFFSETTO:+0200
TZNAME:CEST
DTSTART:20240331T010000
END:DAYLIGHT
BEGIN:STANDARD
TZOFFSETFROM:+0200
TZOFFSETTO:+0100
TZNAME:CET
DTSTART:20241027T010000
END:STANDARD
END:VTIMEZONE
BEGIN:VEVENT
DTSTART;TZID=Europe/Bratislava:20230825T160000
DTEND;TZID=Europe/Bratislava:20230825T200000
DTSTAMP:20260423T224443
CREATED:20230821T100303Z
LAST-MODIFIED:20230821T100403Z
UID:47294-1692979200-1692993600@metalexpress.sk
SUMMARY:Koncerty na garážach Poprad - (UDÅNDE (DK/SK)\, ZATRATA (PL)\, BERSTUK)!
DESCRIPTION:Tohtoročné finále na garážach sa blíži. Tentokrát sa budeme pohybovať viac v metalových vodách. Príďte ešte užiť kvalitné kapely: \nUDÅNDE\n-atmo black metal\, Bratislava\nhttps://udande.bandcamp.com/\n \nZATRATA\n-crust death metal\, Wrocław\, Polska\nhttps://zatrata.bandcamp.com/album/zatrata\n \nBERSTUK\n-black metal\, Poprad/Ružomberok\nhttps://berstuk.bandcamp.com/album/ke-korene-vyra-ia\n \nDátum: 25.08.2023\nMiesto: Garáže Poprad\, Poprad – mapa\nVstup: bude upresnené na mieste\nFB Udalosť: https://www.facebook.com/events/125777907269333/\nZačiatok: 18:00\nKoniec: 22:00\nWecko (plastová kabínka) zabezpečené.\nNa mieste bude aj naďalej zakázaná konzumácia tvrdého alkoholu a príchod v opitosti. \nPoužitý text – FB udalosť
URL:https://metalexpress.sk/event/koncerty-na-garazach-poprad-udande-dk-sk-zatrata-pl-berstuk/
LOCATION:Garáže Poprad\, Ludvika Slobodu 40\, Poprad\, Slovenská republika
CATEGORIES:Udalosti
ATTACH;FMTTYPE=image/jpeg:https://metalexpress.sk/wp-content/uploads/2023/08/367973379_780427907218727_3999146178755096331_n.jpg
END:VEVENT
BEGIN:VEVENT
DTSTART;TZID=Europe/Bratislava:20230825T170000
DTEND;TZID=Europe/Bratislava:20230825T213000
DTSTAMP:20260423T224443
CREATED:20230821T141427Z
LAST-MODIFIED:20230821T141427Z
UID:47306-1692982800-1692999000@metalexpress.sk
SUMMARY:ANTARES / CIRCULAR SAW / PLASTERY v piatok na Garážach v Bratislave!
DESCRIPTION:Tento piatok budete mať možnosť užiť si na Garážach koncert troch slovenských kapiel. Zbystriť pozornosť odporúčame hlavne death metalistom\, pretože väčšina kapiel má niečo dočinenia s týmto žánrom. Ako obvykle\, bude k dispozícii aj občerstvenie a nápoje.  \nANTARES\nmelodeath matadors / Martin\nhttps://youtube.com/@antaresdeathmetal4721 \nPLASTERY\ndeath metal kadečo / Zvolen\nhttps://plastery.bandcamp.com/ \nCIRCULAR SAW\ncirkularka death metal / Šurany\nhttps://circularsawsurany.bandcamp.com/ \nDátum: 25.08.2023\nMiesto: Garáže pod Prístavným Mostom\, Bratislava\nVstup: 5-7 €\nFB Udalosť: https://www.facebook.com/events/3431506140442652/
URL:https://metalexpress.sk/event/antares-circular-saw-plastery-v-piatok-na-garazach-v-bratislave/
LOCATION:Garáže pod Prístavným mostom Bratislava\, Prístavná 9\, Bratislava\, Bratislava\, Bratislava\, Slovenská republika
CATEGORIES:Udalosti
ATTACH;FMTTYPE=image/jpeg:https://metalexpress.sk/wp-content/uploads/2023/08/362967904_776361917611522_4503661035585042638_n.jpg
END:VEVENT
END:VCALENDAR