BEGIN:VCALENDAR
VERSION:2.0
PRODID:-//MetalExpress - ECPv6.15.19//NONSGML v1.0//EN
CALSCALE:GREGORIAN
METHOD:PUBLISH
X-ORIGINAL-URL:https://metalexpress.sk
X-WR-CALDESC:Udalosti pre MetalExpress
REFRESH-INTERVAL;VALUE=DURATION:PT1H
X-Robots-Tag:noindex
X-PUBLISHED-TTL:PT1H
BEGIN:VTIMEZONE
TZID:Europe/Bratislava
BEGIN:DAYLIGHT
TZOFFSETFROM:+0100
TZOFFSETTO:+0200
TZNAME:CEST
DTSTART:20220327T010000
END:DAYLIGHT
BEGIN:STANDARD
TZOFFSETFROM:+0200
TZOFFSETTO:+0100
TZNAME:CET
DTSTART:20221030T010000
END:STANDARD
BEGIN:DAYLIGHT
TZOFFSETFROM:+0100
TZOFFSETTO:+0200
TZNAME:CEST
DTSTART:20230326T010000
END:DAYLIGHT
BEGIN:STANDARD
TZOFFSETFROM:+0200
TZOFFSETTO:+0100
TZNAME:CET
DTSTART:20231029T010000
END:STANDARD
BEGIN:DAYLIGHT
TZOFFSETFROM:+0100
TZOFFSETTO:+0200
TZNAME:CEST
DTSTART:20240331T010000
END:DAYLIGHT
BEGIN:STANDARD
TZOFFSETFROM:+0200
TZOFFSETTO:+0100
TZNAME:CET
DTSTART:20241027T010000
END:STANDARD
END:VTIMEZONE
BEGIN:VEVENT
DTSTART;TZID=Europe/Bratislava:20230815T170000
DTEND;TZID=Europe/Bratislava:20230815T200000
DTSTAMP:20260423T175524
CREATED:20230811T120036Z
LAST-MODIFIED:20230811T120036Z
UID:47254-1692118800-1692129600@metalexpress.sk
SUMMARY:ARTIFICIAL BRAIN\, DEVOID OF THOUGHT\, HOMO PRIMITIVE na Garážach!
DESCRIPTION:Brázdiac Európu nám na vesmírnych lodiach z Brutal Assault festivalu pripravia drsný metal večer: \nARTIFICIAL BRAIN\npokrtútený progressive black/death metal z Profound Lore recs. sameriky s členmi\, kerých bolo vidno v Pyrexii\, Myrkur\, Revocation alebo s Abbathom. A je to jedno\, bo hrajú úplne inak!\nhttps://www.facebook.com/ArtificialBrainMusic\nhttps://profoundlorerecords.bandcamp.com/…/artificial.. \nDEVOID OF THOUGHT\nTaliansko-kozmický death metal orbitujúcich kolo Morbid Angel\, Blood Incantation\, Voivod a pod. na Everlasting Spew recs.\nhttps://www.facebook.com/DevoidOfThought666\nhttps://devoidofthought.bandcamp.com/ \nHOMO PRIMITIVE\nlokál thrash metal s bubeníkom z Pigúra – zverina!\nhttps://www.instagram.com/homo_primitive/ \nDátum: 15.08.2023\nMiesto: Garáže pod Prístavným mostom\, Bratislava\nVstup: 5 – 10 €\nFB Event: https://www.facebook.com/events/1331467941105635/ \nNa mieste vegan občerstvenie\, alko/nealko\nWC\nKoniec do 22.00! – začína sa presne!!!
URL:https://metalexpress.sk/event/artificial-brain-devoid-of-thought-homo-primitive-na-garazach/
LOCATION:Garáže pod Prístavným mostom Bratislava\, Prístavná 9\, Bratislava\, Bratislava\, Bratislava\, Slovenská republika
CATEGORIES:Udalosti
ATTACH;FMTTYPE=image/jpeg:https://metalexpress.sk/wp-content/uploads/2023/07/358115541_670328258469955_2017888045207337329_n.jpg
END:VEVENT
END:VCALENDAR