BEGIN:VCALENDAR
VERSION:2.0
PRODID:-//MetalExpress - ECPv6.15.19//NONSGML v1.0//EN
CALSCALE:GREGORIAN
METHOD:PUBLISH
X-WR-CALNAME:MetalExpress
X-ORIGINAL-URL:https://metalexpress.sk
X-WR-CALDESC:Udalosti pre MetalExpress
REFRESH-INTERVAL;VALUE=DURATION:PT1H
X-Robots-Tag:noindex
X-PUBLISHED-TTL:PT1H
BEGIN:VTIMEZONE
TZID:Europe/Bratislava
BEGIN:DAYLIGHT
TZOFFSETFROM:+0100
TZOFFSETTO:+0200
TZNAME:CEST
DTSTART:20220327T010000
END:DAYLIGHT
BEGIN:STANDARD
TZOFFSETFROM:+0200
TZOFFSETTO:+0100
TZNAME:CET
DTSTART:20221030T010000
END:STANDARD
BEGIN:DAYLIGHT
TZOFFSETFROM:+0100
TZOFFSETTO:+0200
TZNAME:CEST
DTSTART:20230326T010000
END:DAYLIGHT
BEGIN:STANDARD
TZOFFSETFROM:+0200
TZOFFSETTO:+0100
TZNAME:CET
DTSTART:20231029T010000
END:STANDARD
BEGIN:DAYLIGHT
TZOFFSETFROM:+0100
TZOFFSETTO:+0200
TZNAME:CEST
DTSTART:20240331T010000
END:DAYLIGHT
BEGIN:STANDARD
TZOFFSETFROM:+0200
TZOFFSETTO:+0100
TZNAME:CET
DTSTART:20241027T010000
END:STANDARD
END:VTIMEZONE
BEGIN:VEVENT
DTSTART;TZID=Europe/Bratislava:20230809T170000
DTEND;TZID=Europe/Bratislava:20230809T210000
DTSTAMP:20260423T194124
CREATED:20230809T070314Z
LAST-MODIFIED:20230809T070314Z
UID:47230-1691600400-1691614800@metalexpress.sk
SUMMARY:KUROKUMA // Samūhaya // K A L na Garážach v Bratislave!
DESCRIPTION:KUROKUMA \, Sheffield\, UK\nHypnotic/hallucinogenic heavy metal\nhttps://kurokumauk.bandcamp.com/ \nK A L \, kalné bažiny\, Brno\nAlternativBlackCrustMetal\nhttps://kal-metal.bandcamp.com/ \nSamūhaya \, bolesť a mizéria z NR\nblack/doom/drone\nhttps://samuhaya.bandcamp.com/ \nDátum: 09.08.2023\nMiesto: Garáže pod Prístavným mostom v Bratislave\nVstup: 5 – 8 €\nFB Udalosť: https://www.facebook.com/events/301312149130929/
URL:https://metalexpress.sk/event/kurokuma-samuhaya-k-a-l-na-garazach-v-bratislave/
LOCATION:Garáže pod Prístavným mostom Bratislava\, Prístavná 9\, Bratislava\, Bratislava\, Bratislava\, Slovenská republika
CATEGORIES:Udalosti
ATTACH;FMTTYPE=image/jpeg:https://metalexpress.sk/wp-content/uploads/2023/08/363428230_771613758086338_7590546532844947526_n.jpg
END:VEVENT
END:VCALENDAR