BEGIN:VCALENDAR
VERSION:2.0
PRODID:-//MetalExpress - ECPv6.15.19//NONSGML v1.0//EN
CALSCALE:GREGORIAN
METHOD:PUBLISH
X-WR-CALNAME:MetalExpress
X-ORIGINAL-URL:https://metalexpress.sk
X-WR-CALDESC:Udalosti pre MetalExpress
REFRESH-INTERVAL;VALUE=DURATION:PT1H
X-Robots-Tag:noindex
X-PUBLISHED-TTL:PT1H
BEGIN:VTIMEZONE
TZID:Europe/Bratislava
BEGIN:DAYLIGHT
TZOFFSETFROM:+0100
TZOFFSETTO:+0200
TZNAME:CEST
DTSTART:20220327T010000
END:DAYLIGHT
BEGIN:STANDARD
TZOFFSETFROM:+0200
TZOFFSETTO:+0100
TZNAME:CET
DTSTART:20221030T010000
END:STANDARD
BEGIN:DAYLIGHT
TZOFFSETFROM:+0100
TZOFFSETTO:+0200
TZNAME:CEST
DTSTART:20230326T010000
END:DAYLIGHT
BEGIN:STANDARD
TZOFFSETFROM:+0200
TZOFFSETTO:+0100
TZNAME:CET
DTSTART:20231029T010000
END:STANDARD
BEGIN:DAYLIGHT
TZOFFSETFROM:+0100
TZOFFSETTO:+0200
TZNAME:CEST
DTSTART:20240331T010000
END:DAYLIGHT
BEGIN:STANDARD
TZOFFSETFROM:+0200
TZOFFSETTO:+0100
TZNAME:CET
DTSTART:20241027T010000
END:STANDARD
END:VTIMEZONE
BEGIN:VEVENT
DTSTART;TZID=Europe/Bratislava:20230519T180000
DTEND;TZID=Europe/Bratislava:20230519T213000
DTSTAMP:20260424T014819
CREATED:20230514T145412Z
LAST-MODIFIED:20230514T145412Z
UID:46813-1684519200-1684531800@metalexpress.sk
SUMMARY:Do Čadce zavítajú v piatok Squash Bowels!
DESCRIPTION:Grind Paradise v Čadci!\nSquash Bowels – goregrind / PL\nhttps://squash-bowels.bandcamp.com/\n\nSangre De Idiotas – grindcore / SK\nhttps://sangredeidiotas.bandcamp.com/album/demo-21\nSoul Massacre – death metal / CZ\nhttp://www.soulmassacre.com/\n \nDátum: 19.05.2023\nMiesto: Deja Vu\, Čadca\nZačiatok: 20:00\nFB Udalosť: https://www.facebook.com/events/5968220669908234/
URL:https://metalexpress.sk/event/do-cadce-zavitaju-v-piatok-squash-bowels/
LOCATION:Déjà Vu Čadca\, Námestie Slobody 60\, Cadca\, Slovakia\, Čadca\, Slovenská republika
CATEGORIES:Udalosti
ATTACH;FMTTYPE=image/jpeg:https://metalexpress.sk/wp-content/uploads/2023/05/325676213_1180361382870322_572205249452504491_n.jpg
END:VEVENT
END:VCALENDAR