BEGIN:VCALENDAR
VERSION:2.0
PRODID:-//MetalExpress - ECPv6.15.19//NONSGML v1.0//EN
CALSCALE:GREGORIAN
METHOD:PUBLISH
X-ORIGINAL-URL:https://metalexpress.sk
X-WR-CALDESC:Udalosti pre MetalExpress
REFRESH-INTERVAL;VALUE=DURATION:PT1H
X-Robots-Tag:noindex
X-PUBLISHED-TTL:PT1H
BEGIN:VTIMEZONE
TZID:Europe/Bratislava
BEGIN:DAYLIGHT
TZOFFSETFROM:+0100
TZOFFSETTO:+0200
TZNAME:CEST
DTSTART:20220327T010000
END:DAYLIGHT
BEGIN:STANDARD
TZOFFSETFROM:+0200
TZOFFSETTO:+0100
TZNAME:CET
DTSTART:20221030T010000
END:STANDARD
BEGIN:DAYLIGHT
TZOFFSETFROM:+0100
TZOFFSETTO:+0200
TZNAME:CEST
DTSTART:20230326T010000
END:DAYLIGHT
BEGIN:STANDARD
TZOFFSETFROM:+0200
TZOFFSETTO:+0100
TZNAME:CET
DTSTART:20231029T010000
END:STANDARD
BEGIN:DAYLIGHT
TZOFFSETFROM:+0100
TZOFFSETTO:+0200
TZNAME:CEST
DTSTART:20240331T010000
END:DAYLIGHT
BEGIN:STANDARD
TZOFFSETFROM:+0200
TZOFFSETTO:+0100
TZNAME:CET
DTSTART:20241027T010000
END:STANDARD
END:VTIMEZONE
BEGIN:VEVENT
DTSTART;TZID=Europe/Bratislava:20230515T170000
DTEND;TZID=Europe/Bratislava:20230515T170000
DTSTAMP:20260424T014822
CREATED:20230511T111640Z
LAST-MODIFIED:20230511T111640Z
UID:46809-1684170000-1684170000@metalexpress.sk
SUMMARY:DISTANT / EXTORTIONIST / DAGGER THREAT / ABBIE FALLS vo Fuge!
DESCRIPTION:Holandský teror DISTANT sa vracia do Bratislavy\, aby predstavili ich nový album nesúci názov ‚HERITAGE‚! Na cestách po Európe ich budú sprevádzať americkí deathcoristi EXTORTIONIST\, hardcoristi z Nemecka DAGGER THREAT a od našich severozápadných susedov ABBIE FALLS!\n____________________________________________\nDISTANT (NL/SK) – Down-Tempo/Deathcore\nFB: https://www.facebook.com/DistantOfficial\n\n____________________________________________\nEXTORTIONIST (USA) – Deathcore\nFB: https://www.facebook.com/ExtortionistBand\n\n____________________________________________\nDAGGER THREAT (DE) – Hardcore-Metal\nFB: https://www.facebook.com/daggerthreat\n\n____________________________________________\nABBIE FALLS (CZ) – Deathcore\nFB: https://www.facebook.com/abbiefallsband\n\n____________________________________________\nPredpredaj: https://predpredaj.zoznam.sk/…/distant-extortionist…/\nFB udalosť: https://www.facebook.com/events/899786194496329/ \nUž v pondelok! Program je nasledovný:\nVstup: 19:00\n19:30-20:00 Abbie Falls\n20:15-20:45 Dagger Threat\n21:00-21:40 Extortionist\n22:00-23:00 DISTANT\nLístky sa dajú zakúpiť do 14.5\, potom budú lístky dostupné iba na mieste! \nText prebratý z FB Eventu
URL:https://metalexpress.sk/event/distant-extortionist-dagger-threat-abbie-falls-vo-fuge/
LOCATION:FUGA\, Námestie SNP 24\, Bratislava\, Bratislavský Kraj\, Slovenská republika
CATEGORIES:Udalosti
ATTACH;FMTTYPE=image/jpeg:https://metalexpress.sk/wp-content/uploads/2023/05/324029747_918353179189575_8988632753014287964_n.jpg
END:VEVENT
END:VCALENDAR