BEGIN:VCALENDAR
VERSION:2.0
PRODID:-//MetalExpress - ECPv6.15.19//NONSGML v1.0//EN
CALSCALE:GREGORIAN
METHOD:PUBLISH
X-ORIGINAL-URL:https://metalexpress.sk
X-WR-CALDESC:Udalosti pre MetalExpress
REFRESH-INTERVAL;VALUE=DURATION:PT1H
X-Robots-Tag:noindex
X-PUBLISHED-TTL:PT1H
BEGIN:VTIMEZONE
TZID:Europe/Bratislava
BEGIN:DAYLIGHT
TZOFFSETFROM:+0100
TZOFFSETTO:+0200
TZNAME:CEST
DTSTART:20220327T010000
END:DAYLIGHT
BEGIN:STANDARD
TZOFFSETFROM:+0200
TZOFFSETTO:+0100
TZNAME:CET
DTSTART:20221030T010000
END:STANDARD
BEGIN:DAYLIGHT
TZOFFSETFROM:+0100
TZOFFSETTO:+0200
TZNAME:CEST
DTSTART:20230326T010000
END:DAYLIGHT
BEGIN:STANDARD
TZOFFSETFROM:+0200
TZOFFSETTO:+0100
TZNAME:CET
DTSTART:20231029T010000
END:STANDARD
BEGIN:DAYLIGHT
TZOFFSETFROM:+0100
TZOFFSETTO:+0200
TZNAME:CEST
DTSTART:20240331T010000
END:DAYLIGHT
BEGIN:STANDARD
TZOFFSETFROM:+0200
TZOFFSETTO:+0100
TZNAME:CET
DTSTART:20241027T010000
END:STANDARD
END:VTIMEZONE
BEGIN:VEVENT
DTSTART;TZID=Europe/Bratislava:20230513T170000
DTEND;TZID=Europe/Bratislava:20230513T200000
DTSTAMP:20260424T014822
CREATED:20230508T092436Z
LAST-MODIFIED:20230508T092436Z
UID:46763-1683997200-1684008000@metalexpress.sk
SUMMARY:Thalidomide/ Märnø/ Samorast/ Pivnica na GARÁŽACH v Bratislave!
DESCRIPTION:V sobotu na Bratislavských Garážach zaobstarajú štyri kapely\, ktoré potešia hlavne HC\, crust punkovo založených ľudí. Dve české a dve slovenské kapely. Nebude chýbať ani vegánske občerstvenie a bar. Popisky k jednotlivým kapelám nájdete nižšie: \nThalidomide /hardcorepunk\, CZ/\nhttps://thalidomide.bandcamp.com\nMarnø /neocrust\, CZ/\nhttps://marnocrust.bandcamp.com/\nSamorast /emo hardcorepunk\, BB/\nhttps://samorast.bandcamp.com/\nPivnica /hardcorepunk\, BB/\nhttps://pivnica.bandcamp.com/ \nDátum: 13.05.2023\nMiesto: Garáže pod Prístavným mostom\, Bratislava\nVstup: 5/7/10e\nFB Udalosť: https://www.facebook.com/events/242555944920141/
URL:https://metalexpress.sk/event/thalidomide-marno-samorast-pivnica-na-garazach-v-bratislave/
LOCATION:Garáže pod Prístavným mostom Bratislava\, Prístavná 9\, Bratislava\, Bratislava\, Bratislava\, Slovenská republika
CATEGORIES:Udalosti
ATTACH;FMTTYPE=image/jpeg:https://metalexpress.sk/wp-content/uploads/2023/05/340084991_1570908293395360_1058547995494328928_n.jpg
END:VEVENT
BEGIN:VEVENT
DTSTART;TZID=Europe/Bratislava:20230513T170000
DTEND;TZID=Europe/Bratislava:20230513T213000
DTSTAMP:20260424T014822
CREATED:20230508T092817Z
LAST-MODIFIED:20230508T092817Z
UID:46767-1683997200-1684013400@metalexpress.sk
SUMMARY:
DESCRIPTION:Príď si vychutnať druhé pokračovanie zvukového nákladu do klubu Wake Up vo Zvolene.\nSme radi že pozvanie prijali nasledujúce kapely: \nADACTA (BA) /crustpunk/\nhttps://adactaband.bandcamp.com/ \nTHORWALD (KE) /grindcore/\nhttps://thorwald.bandcamp.com/ \nTHE PUBLIC (CA) /crustpunk/\nhttps://thepublic.bandcamp.com \nRUINEUM (ZV) /death/doom/\nhttps://ruineum.bandcamp.com \nDADCARE (ZV) /blackgrind/\nhttps://dadcare.bandcamp.com/ \nDátum: 13.05.2023\nMiesto: Wake-up\, Zvolen\nVstup: 6€\nFb Udalosť: https://www.facebook.com/events/745200233623408/ \nText prebratý z FB udalosti
URL:https://metalexpress.sk/event/46767/
LOCATION:Wake up\, J. Kozáčeka 8\, Zvolen\, Slovakia\, Zvolen\, Zvolen\, 960 01\, Slovenská republika
CATEGORIES:Udalosti
ATTACH;FMTTYPE=image/jpeg:https://metalexpress.sk/wp-content/uploads/2023/05/338406457_1952759471750427_1675354462844699865_n-1.jpg
END:VEVENT
BEGIN:VEVENT
DTSTART;TZID=Europe/Bratislava:20230513T170000
DTEND;TZID=Europe/Bratislava:20230513T213000
DTSTAMP:20260424T014822
CREATED:20230508T093525Z
LAST-MODIFIED:20230508T093525Z
UID:46771-1683997200-1684013400@metalexpress.sk
SUMMARY:DEATH OVER PRESSBURG už túto sobotu!
DESCRIPTION:DEATH OVER PRESSBURG\nTo najaktuálnejšie z domáceho aj zahraničného undergroundu: \nKrudus (SK)\nhttps://www.facebook.com/krudusband\nMinor (SK)\nhttps://www.facebook.com/profile.php?id=100063892750304\nPlastery (SK)\nhttps://www.facebook.com/plasteryzv\nFatality (CZ)\nhttps://www.facebook.com/fatality.death.metal\nParallel Existence (AT)\nhttps://www.facebook.com/profile.php?id=100083303615517 \nDátum: 13.05.2023\nMiesto: Randal Music Club\, Bratislava\nVstup: 12 €\nFB Udalosť: https://www.facebook.com/events/717444146781066/ \nInformácie prebraté z FB udalosti
URL:https://metalexpress.sk/event/death-over-pressburg-uz-tuto-sobotu/
LOCATION:Randal Music Club\, Karpatská 2\, Bratislava\, Bratislava\, Bratislavský Kraj\, 81105\, Slovenská republika
CATEGORIES:Udalosti
ATTACH;FMTTYPE=image/jpeg:https://metalexpress.sk/wp-content/uploads/2023/05/331283473_596334191890901_5052158302115741797_n-1.jpg
END:VEVENT
END:VCALENDAR