BEGIN:VCALENDAR
VERSION:2.0
PRODID:-//MetalExpress - ECPv6.15.19//NONSGML v1.0//EN
CALSCALE:GREGORIAN
METHOD:PUBLISH
X-WR-CALNAME:MetalExpress
X-ORIGINAL-URL:https://metalexpress.sk
X-WR-CALDESC:Udalosti pre MetalExpress
REFRESH-INTERVAL;VALUE=DURATION:PT1H
X-Robots-Tag:noindex
X-PUBLISHED-TTL:PT1H
BEGIN:VTIMEZONE
TZID:Europe/Bratislava
BEGIN:DAYLIGHT
TZOFFSETFROM:+0100
TZOFFSETTO:+0200
TZNAME:CEST
DTSTART:20220327T010000
END:DAYLIGHT
BEGIN:STANDARD
TZOFFSETFROM:+0200
TZOFFSETTO:+0100
TZNAME:CET
DTSTART:20221030T010000
END:STANDARD
BEGIN:DAYLIGHT
TZOFFSETFROM:+0100
TZOFFSETTO:+0200
TZNAME:CEST
DTSTART:20230326T010000
END:DAYLIGHT
BEGIN:STANDARD
TZOFFSETFROM:+0200
TZOFFSETTO:+0100
TZNAME:CET
DTSTART:20231029T010000
END:STANDARD
BEGIN:DAYLIGHT
TZOFFSETFROM:+0100
TZOFFSETTO:+0200
TZNAME:CEST
DTSTART:20240331T010000
END:DAYLIGHT
BEGIN:STANDARD
TZOFFSETFROM:+0200
TZOFFSETTO:+0100
TZNAME:CET
DTSTART:20241027T010000
END:STANDARD
END:VTIMEZONE
BEGIN:VEVENT
DTSTART;TZID=Europe/Bratislava:20230512T170000
DTEND;TZID=Europe/Bratislava:20230512T210000
DTSTAMP:20260424T014819
CREATED:20230508T090729Z
LAST-MODIFIED:20230508T090729Z
UID:46758-1683910800-1683925200@metalexpress.sk
SUMMARY:FORGOTTEN SILENCE + DEPRESY live 2023 Trenčín!
DESCRIPTION:Už tento piatok predstavia českí FORGOTTEN SILENCE svoj nový album „Vemork Konstrukt“ v Trenčíne. Spolu s nimi vystúpia aj domáci DEPRESY so svojim najnovším albumom „Psycold“\, ale určite zaznejú aj staršie overené kúsky z ich diskografie. Ako prví vystúpia KRUDUS\, aktívna death metalová kapela zo Stupavy. \nDátum: 12.05.2023\nMiesto: Klub Lúč\, Trenčín\nVstup: ?\nFB Udalosť: https://www.facebook.com/events/759614348887373/
URL:https://metalexpress.sk/event/forgotten-silence-depresy-live-2023-trencin/
LOCATION:Klub Lúč\, Mierové námestie 19\, Trencin\, Slovakia\, Trenčín\, Trenčín\, Slovenská republika
CATEGORIES:Udalosti
ATTACH;FMTTYPE=image/jpeg:https://metalexpress.sk/wp-content/uploads/2023/05/338143206_232181099378236_1710150235231344127_n.jpg
END:VEVENT
END:VCALENDAR