BEGIN:VCALENDAR
VERSION:2.0
PRODID:-//MetalExpress - ECPv6.15.19//NONSGML v1.0//EN
CALSCALE:GREGORIAN
METHOD:PUBLISH
X-WR-CALNAME:MetalExpress
X-ORIGINAL-URL:https://metalexpress.sk
X-WR-CALDESC:Udalosti pre MetalExpress
REFRESH-INTERVAL;VALUE=DURATION:PT1H
X-Robots-Tag:noindex
X-PUBLISHED-TTL:PT1H
BEGIN:VTIMEZONE
TZID:Europe/Bratislava
BEGIN:DAYLIGHT
TZOFFSETFROM:+0100
TZOFFSETTO:+0200
TZNAME:CEST
DTSTART:20220327T010000
END:DAYLIGHT
BEGIN:STANDARD
TZOFFSETFROM:+0200
TZOFFSETTO:+0100
TZNAME:CET
DTSTART:20221030T010000
END:STANDARD
BEGIN:DAYLIGHT
TZOFFSETFROM:+0100
TZOFFSETTO:+0200
TZNAME:CEST
DTSTART:20230326T010000
END:DAYLIGHT
BEGIN:STANDARD
TZOFFSETFROM:+0200
TZOFFSETTO:+0100
TZNAME:CET
DTSTART:20231029T010000
END:STANDARD
BEGIN:DAYLIGHT
TZOFFSETFROM:+0100
TZOFFSETTO:+0200
TZNAME:CEST
DTSTART:20240331T010000
END:DAYLIGHT
BEGIN:STANDARD
TZOFFSETFROM:+0200
TZOFFSETTO:+0100
TZNAME:CET
DTSTART:20241027T010000
END:STANDARD
END:VTIMEZONE
BEGIN:VEVENT
DTSTART;TZID=Europe/Bratislava:20230428T170000
DTEND;TZID=Europe/Bratislava:20230428T210000
DTSTAMP:20260424T031514
CREATED:20230424T124446Z
LAST-MODIFIED:20230424T124446Z
UID:46671-1682701200-1682715600@metalexpress.sk
SUMMARY:Predmet: BAMBULKYNE DOBRODRUŽSTVÁ / CANNABEAST / HMYZ na Garážach!
DESCRIPTION:BAMBULKYNE DOBRODRUŽSTVÁ / CANNABEAST / HMYZ alebo Davová Mykóza na GARÁŽACH \nBAMBULKYNE DOBRODRUŽSTVÁ /Praha/\nGrind´n´roll úplne že bez zábran !!!\nhttps://bambulkynedobrodrustva.bandcamp.com/ \nCANNABEAST /Pezinek/\nPrimusPorno a dvaja čarodejníci\nhttps://cannabeast.bandcamp.com/ \nHMYZ /Veľký Pičiprd/\nVyjebaný vrchol hudby\nhttps://hmyz.bandcamp.com/ \nDátum: 28.4.2023\nMiesto: Garáže pod Prístavným mostom\, Bratislava\nVstup: 5 – 10 €\nFB Udalosť: https://www.facebook.com/events/114173128186566
URL:https://metalexpress.sk/event/predmet-bambulkyne-dobrodruzstva-cannabeast-hmyz-na-garazach/
LOCATION:Garáže pod Prístavným mostom Bratislava\, Prístavná 9\, Bratislava\, Bratislava\, Bratislava\, Slovenská republika
CATEGORIES:Udalosti
END:VEVENT
BEGIN:VEVENT
DTSTART;TZID=Europe/Bratislava:20230428T170000
DTEND;TZID=Europe/Bratislava:20230428T213000
DTSTAMP:20260424T031514
CREATED:20230426T073436Z
LAST-MODIFIED:20230426T073506Z
UID:46695-1682701200-1682717400@metalexpress.sk
SUMMARY:Exorcizphobia / Black Light / Refore / Hrobar v piatok v Kulturáku!
DESCRIPTION:Thrash metalový sviatok v Kulturáku v piatok\, 28. apríla. Do tanca hrajú. \nExorcizphobia (CZ)\nhttps://open.spotify.com/artist/4PfnHGwDHavpK4N6xLEghE…\nBlack Light\nhttps://open.spotify.com/artist/3pz6ml471ociD6xIdSCujf…\nRefore (CZ)\nhttps://open.spotify.com/artist/4MmDues4Gop2TTlDJLQNBF…\nHrobar\nhttps://open.spotify.com/artist/0QBUhE9R597SjNJXItaxjJ… \nVegan jedlo bude. \nDátum: 28.04.2023\nMiesto: Kulturák\, Bratislava\nVlez: 10 Eur\nFB Udalosť: https://www.facebook.com/events/944507373325311 \nProgram: \n20:30 Hrobar\n21:00 Refore\n22:00 Black Light\n23:00 Exorcizphobia  \nArtwork by @seeruus\nPoužitý text z FB udalosti
URL:https://metalexpress.sk/event/exorcizphobia-black-light-refore-hrobar-v-piatok-v-kulturaku/
LOCATION:Kulturák\, Štefánikova 47\, Bratislava\, Slovakia\, Bratislava\, Bratislavský Kraj\, 811 04\, Slovenská republika
CATEGORIES:Udalosti
ATTACH;FMTTYPE=image/jpeg:https://metalexpress.sk/wp-content/uploads/2023/04/337555897_770980687931187_8847174325613753590_n.jpg
END:VEVENT
BEGIN:VEVENT
DTSTART;TZID=Europe/Bratislava:20230428T180000
DTEND;TZID=Europe/Bratislava:20230428T213000
DTSTAMP:20260424T031514
CREATED:20230426T070444Z
LAST-MODIFIED:20230426T070444Z
UID:46692-1682704800-1682717400@metalexpress.sk
SUMMARY:Obscene Extreme warm up 2023 BRNO!
DESCRIPTION:DADDIES GO GRINDCORE!!! OBSCENE EXTREME 2023 WARM UP SHOWS!!! Koncem dubna 2023 se Českem prožene krátké\, ale intenzivní tour tří kapel! Čtyři show\, čtyři města\, deset grindcore fotříků s šedými vlasy nebo plešatějícími hlavami a to vše pod vlajkou toho neextremnějšího festivalu planety OBSCENE EXTREME\, jehož tyto čtyři show budou malé zahřívací kolo!!!\nA jedno z nich BRNO! \nINGROWING\, DISFIGURED CORPSE\, SICK SINUS SYNDROME\nSupport – CHOKED BY OWN VOMITS\, KANDAR \nKANDAR\n\nCHOKED BY OWN VOMITS\n\nSICK SINUS SYNDROME\n\nDISFIGURED CORPSE\n\nINGROWING\n\nhttps://www.smsticket.cz/…/32950-obscene-extreme-warm…\nPředprodej – 320\,-\nNa místě – 350\,-\nOpen – 19.30h\nStart – 20.30h nejpozději\nProgram:\n20.30-21.00 – Choked by own Vomits\n21.15-21.45 – Kandar\n22.05-22.35 – Disfigured Corpse\n22.55-23.25 – Sick Sinus Syndrome\n23.45-00.15 – Ingrowing
URL:https://metalexpress.sk/event/obscene-extreme-warm-up-2023-brno/
LOCATION:Melodka\, Kounicova 20/22\, Brno\, Czech Republic\, Brno\, Brno\, Česká republika
CATEGORIES:Udalosti
ATTACH;FMTTYPE=image/jpeg:https://metalexpress.sk/wp-content/uploads/2023/04/324848798_545837197591395_8799638671536857446_n.jpg
END:VEVENT
END:VCALENDAR