BEGIN:VCALENDAR
VERSION:2.0
PRODID:-//MetalExpress - ECPv6.15.19//NONSGML v1.0//EN
CALSCALE:GREGORIAN
METHOD:PUBLISH
X-WR-CALNAME:MetalExpress
X-ORIGINAL-URL:https://metalexpress.sk
X-WR-CALDESC:Udalosti pre MetalExpress
REFRESH-INTERVAL;VALUE=DURATION:PT1H
X-Robots-Tag:noindex
X-PUBLISHED-TTL:PT1H
BEGIN:VTIMEZONE
TZID:Europe/Bratislava
BEGIN:DAYLIGHT
TZOFFSETFROM:+0100
TZOFFSETTO:+0200
TZNAME:CEST
DTSTART:20220327T010000
END:DAYLIGHT
BEGIN:STANDARD
TZOFFSETFROM:+0200
TZOFFSETTO:+0100
TZNAME:CET
DTSTART:20221030T010000
END:STANDARD
BEGIN:DAYLIGHT
TZOFFSETFROM:+0100
TZOFFSETTO:+0200
TZNAME:CEST
DTSTART:20230326T010000
END:DAYLIGHT
BEGIN:STANDARD
TZOFFSETFROM:+0200
TZOFFSETTO:+0100
TZNAME:CET
DTSTART:20231029T010000
END:STANDARD
BEGIN:DAYLIGHT
TZOFFSETFROM:+0100
TZOFFSETTO:+0200
TZNAME:CEST
DTSTART:20240331T010000
END:DAYLIGHT
BEGIN:STANDARD
TZOFFSETFROM:+0200
TZOFFSETTO:+0100
TZNAME:CET
DTSTART:20241027T010000
END:STANDARD
END:VTIMEZONE
BEGIN:VEVENT
DTSTART;TZID=Europe/Bratislava:20230422T170000
DTEND;TZID=Europe/Bratislava:20230422T213000
DTSTAMP:20260424T031513
CREATED:20230419T140638Z
LAST-MODIFIED:20230419T140638Z
UID:46621-1682182800-1682199000@metalexpress.sk
SUMMARY:Besnenie Zbojníkov vol. 11 už túto sobotu v MMC!
DESCRIPTION:Tradičné BESNENIE pod CATASTROFYCKOU taktovkou!\n\nDo tanca i na počúvanie zaihrajú:\nKAZOSTROJ\nhttps://kazostroj.bandcamp.com/\nVYDRAPENÁ BUŽÍRKA PUNK SYSTEM\nhttps://www.facebook.com/vebepees/\nBESNA\nhttps://besna.bandcamp.com/\nCATASTROFY\nhttps://catastrofy.bandcamp.com/\nCelý večer živí zbojníci\, tombola a tony merchu.\n\nFB Udalosť: https://www.facebook.com/events/1088712121807098/\nText prebratý z FB udalosti
URL:https://metalexpress.sk/event/besnenie-zbojnikov-vol-11-uz-tuto-sobotu-v-mmc/
LOCATION:Majestic Music Club\, Karpatská 2\, Bratislava\, Bratislava\, Bratislavský Kraj\, Slovenská republika
CATEGORIES:Udalosti
ATTACH;FMTTYPE=image/jpeg:https://metalexpress.sk/wp-content/uploads/2023/04/317794001_609035931224071_654358882456423912_n.jpg
END:VEVENT
BEGIN:VEVENT
DTSTART;TZID=Europe/Bratislava:20230422T170000
DTEND;TZID=Europe/Bratislava:20230422T213000
DTSTAMP:20260424T031513
CREATED:20230419T143416Z
LAST-MODIFIED:20230419T143416Z
UID:46636-1682182800-1682199000@metalexpress.sk
SUMMARY:DEATH INFERNO túto sobotu v Košiciach!
DESCRIPTION:Štvornásobná dávka poctivého deathmetalu v jeho najrôznejších odtieňoch na vás čaká v apríli v košickom Colloseum Clube. Peklo odpália BRUTE z Vranova\, po nich príde žilinská úderka MINOR\, po dlhom čase sa v metropole východu predstavia martinskí ANTARES a všetko zakončí český NAHUM. \nTu sú ochutnávky:\nBRUTE: \n\nMINOR: \nhttps://www.youtube.com/watch?v=qTZ8cGsLC6c\nANTARES:\n\nNAHUM: \n \nDátum: 22.04.2023\nMiesto: Collosseum Club\, Košice\nVstup:\nFB Udalosť: https://www.facebook.com/events/3087671301526278/ \nPoužitý text pochádza z FB udalosti
URL:https://metalexpress.sk/event/death-inferno-tuto-sobotu-v-kosiciach/
LOCATION:Collosseum\, Dominikánske námestie 35\, Košice\, Košice\, 04001\, Slovenská republika
CATEGORIES:Udalosti
ATTACH;FMTTYPE=image/jpeg:https://metalexpress.sk/wp-content/uploads/2023/04/326802597_734309381315554_4467454733172219583_n.jpg
END:VEVENT
BEGIN:VEVENT
DTSTART;TZID=Europe/Bratislava:20230422T173000
DTEND;TZID=Europe/Bratislava:20230422T213000
DTSTAMP:20260424T031513
CREATED:20230419T141156Z
LAST-MODIFIED:20230419T141156Z
UID:46626-1682184600-1682199000@metalexpress.sk
SUMMARY:Wastage / Gágor / Technology of Death v sobotu v Ružomberku!
DESCRIPTION:WASTAGE – Groove metal – Košice\nWastage opäť po čase v Ružomberku\, vo vynovenej zostave. Mix groove metalu a thrashcoru\, predstavia nové skladby\, ktoré kapela pripravuje na nový album\, odznejú samozrejme aj skladby z posledného albumu.\nhttps://www.youtube.com/watch?v=WSXtdmeB4_I\nhttps://linktr.ee/wastageband\nhttps://www.facebook.com/WastageSK \nGÁGOR – Hard Violence – Banská Bystrica\nNádejná banda zo srdca Slovenska. Mix metalu\, hc\, punku s ženským spevom. Odznejú aj nové skladby z pripravovaného albumu.\nhttps://www.youtube.com/watch?v=zXpAP_KFUh0\nhttps://www.facebook.com/profile.php?id=100087047835954 \nTECHNOLOGY OF DEATH – Thrash metal – Žiar nad Hronom\nOldschool aj new-wave Thrash/Death.\nhttps://bandzone.cz/technologyofdeath\nhttps://www.facebook.com/technologyofdeath \nDátum: 22.04.2023\nVstupné: 3€\nZačiatok: 19:30\nMiesto: Nové Korzo\, Ružomberok\nFB Udalosť: https://www.facebook.com/events/181302488014586/
URL:https://metalexpress.sk/event/wastage-gagor-technology-of-death-v-sobotu-v-ruzomberku/
LOCATION:Nové Korzo\, Panská 2200/5\, 034 01 Ružomberok\, Ružomberok\, 034 01\, Slovakia (Slovak Republic)
CATEGORIES:Udalosti
ATTACH;FMTTYPE=image/jpeg:https://metalexpress.sk/wp-content/uploads/2023/04/336697255_760025465451482_3971516158656056858_n.jpg
END:VEVENT
END:VCALENDAR