BEGIN:VCALENDAR
VERSION:2.0
PRODID:-//MetalExpress - ECPv6.15.19//NONSGML v1.0//EN
CALSCALE:GREGORIAN
METHOD:PUBLISH
X-WR-CALNAME:MetalExpress
X-ORIGINAL-URL:https://metalexpress.sk
X-WR-CALDESC:Udalosti pre MetalExpress
REFRESH-INTERVAL;VALUE=DURATION:PT1H
X-Robots-Tag:noindex
X-PUBLISHED-TTL:PT1H
BEGIN:VTIMEZONE
TZID:Europe/Bratislava
BEGIN:DAYLIGHT
TZOFFSETFROM:+0100
TZOFFSETTO:+0200
TZNAME:CEST
DTSTART:20220327T010000
END:DAYLIGHT
BEGIN:STANDARD
TZOFFSETFROM:+0200
TZOFFSETTO:+0100
TZNAME:CET
DTSTART:20221030T010000
END:STANDARD
BEGIN:DAYLIGHT
TZOFFSETFROM:+0100
TZOFFSETTO:+0200
TZNAME:CEST
DTSTART:20230326T010000
END:DAYLIGHT
BEGIN:STANDARD
TZOFFSETFROM:+0200
TZOFFSETTO:+0100
TZNAME:CET
DTSTART:20231029T010000
END:STANDARD
BEGIN:DAYLIGHT
TZOFFSETFROM:+0100
TZOFFSETTO:+0200
TZNAME:CEST
DTSTART:20240331T010000
END:DAYLIGHT
BEGIN:STANDARD
TZOFFSETFROM:+0200
TZOFFSETTO:+0100
TZNAME:CET
DTSTART:20241027T010000
END:STANDARD
END:VTIMEZONE
BEGIN:VEVENT
DTSTART;TZID=Europe/Bratislava:20230421T160000
DTEND;TZID=Europe/Bratislava:20230421T213000
DTSTAMP:20260424T062712
CREATED:20230419T142639Z
LAST-MODIFIED:20230419T142639Z
UID:46630-1682092800-1682112600@metalexpress.sk
SUMMARY:METAL MADNESS vo Vrútkach!
DESCRIPTION:Vo Vrútkach v legendárnom KC Mlyn sa uskutoční koncert 4 skupín. Zahrá česká black metalová kapela Purnama a český thrash death metal Nahum. Zo slovenských kapiel príde odohrať Besna a takmer domáci death metal Antares.  \nPurnama\nhttps://www.facebook.com/purnamacz\nNahum\nhttps://www.facebook.com/nahummetal\nBesna\nhttps://www.facebook.com/BesnaBand\nAntares\nhttps://www.facebook.com/antaresdeathmetal \nDátum: 21.04.2023\nMiesto: RC Mlyn\, Vrútky\nVstup: 10 €\nZačiatok: 18:00\nFB Udalosť: https://www.facebook.com/events/719773073124300/..
URL:https://metalexpress.sk/event/metal-madness-vo-vrutkach/
LOCATION:RC Mlyn\, Matušovičovský rad 5652\, Vrútky\, Slovakia\, Vrútky\, Vrútky\, 038 61\, Slovenská republika
CATEGORIES:Udalosti
ATTACH;FMTTYPE=image/jpeg:https://metalexpress.sk/wp-content/uploads/2023/04/340985931_179214954941556_321798955133196526_n.jpg
END:VEVENT
END:VCALENDAR