BEGIN:VCALENDAR
VERSION:2.0
PRODID:-//MetalExpress - ECPv6.15.19//NONSGML v1.0//EN
CALSCALE:GREGORIAN
METHOD:PUBLISH
X-ORIGINAL-URL:https://metalexpress.sk
X-WR-CALDESC:Udalosti pre MetalExpress
REFRESH-INTERVAL;VALUE=DURATION:PT1H
X-Robots-Tag:noindex
X-PUBLISHED-TTL:PT1H
BEGIN:VTIMEZONE
TZID:Europe/Bratislava
BEGIN:DAYLIGHT
TZOFFSETFROM:+0100
TZOFFSETTO:+0200
TZNAME:CEST
DTSTART:20220327T010000
END:DAYLIGHT
BEGIN:STANDARD
TZOFFSETFROM:+0200
TZOFFSETTO:+0100
TZNAME:CET
DTSTART:20221030T010000
END:STANDARD
BEGIN:DAYLIGHT
TZOFFSETFROM:+0100
TZOFFSETTO:+0200
TZNAME:CEST
DTSTART:20230326T010000
END:DAYLIGHT
BEGIN:STANDARD
TZOFFSETFROM:+0200
TZOFFSETTO:+0100
TZNAME:CET
DTSTART:20231029T010000
END:STANDARD
BEGIN:DAYLIGHT
TZOFFSETFROM:+0100
TZOFFSETTO:+0200
TZNAME:CEST
DTSTART:20240331T010000
END:DAYLIGHT
BEGIN:STANDARD
TZOFFSETFROM:+0200
TZOFFSETTO:+0100
TZNAME:CET
DTSTART:20241027T010000
END:STANDARD
END:VTIMEZONE
BEGIN:VEVENT
DTSTART;TZID=Europe/Bratislava:20230420T160000
DTEND;TZID=Europe/Bratislava:20230420T213000
DTSTAMP:20260424T031518
CREATED:20230417T154702Z
LAST-MODIFIED:20230417T154702Z
UID:46605-1682006400-1682026200@metalexpress.sk
SUMMARY:MUSICIANS DEFEND UKRAINE/ benefičný koncert Dimenzia X & Cutting Edge & Acornhoek
DESCRIPTION:Cutting Edge\nProgressive / Groove Metal – Bratislava\nKapela Cutting Edge vznikla v roku 2017\, má za sebou debutový album Of Mind Decay (2019). V súčasnosti pracuje na druhom albume\, ktorého produkciu začne už v lete.\nhttps://www.facebook.com/cuttingedgetheband/\nhttps://cuttingedgetheband.bandcamp.com/album/of-mind-decay\n\nAcornhoek\nThrash / Pop – Bratislava\nKapela Acornhoek je stálicou slovenského rockoveho undergroundu. Za 24 rokov existencie\, majú za sebou 3 štúdiove albumy\, 3 EP a koncerty v Slovensku\, Čechách\, ale aj Nemecku.\nhttps://www.facebook.com/profile.php?id=100090121543197\nhttps://bandzone.cz/acornhoek?at=info\n\nDimenzia-X\nPunková kapela z Bratislavy- priľahlých dedín a kopaníc.\nhttps://www.facebook.com/dimenziax.bratislava\nhttps://bandzone.cz/dimenziax\nVstupné odporúčané 6€ a môžeš aj viac\nCelý výťažok zo vstupného bude použitý na nákup humanitárnej a neútočnej pomoci pre Ukrajinskú Armádu prostredníctvom MUSICIANS DEFEND UKRAINE\nhttps://musiciansdefendukraine.com/en\nPred koncertom sa uskutoční premietanie filmu VÝCHODNÝ FRONT a diskusia so zástupcami humanitárnych organizácií a iniciatív.\nInfo tu:\nhttps://fb.me/e/6oP7XV7i5
URL:https://metalexpress.sk/event/musicians-defend-ukraine-beneficny-koncert-dimenzia-x-cutting-edge-acornhoek/
LOCATION:Pink Whale\, Nábrežie armádneho generála Ludvíka Svobodu 1868rkm\, 811 02 Staré Mesto\, Bratislava\, Slovakia 0911 177 172\, Bratislava\, Bratislava\, 81102\, Slovenská republika
CATEGORIES:Udalosti
ATTACH;FMTTYPE=image/jpeg:https://metalexpress.sk/wp-content/uploads/2023/04/339263351_994673545231977_1053329281536625269_n.jpg
END:VEVENT
END:VCALENDAR