BEGIN:VCALENDAR
VERSION:2.0
PRODID:-//MetalExpress - ECPv6.15.19//NONSGML v1.0//EN
CALSCALE:GREGORIAN
METHOD:PUBLISH
X-ORIGINAL-URL:https://metalexpress.sk
X-WR-CALDESC:Udalosti pre MetalExpress
REFRESH-INTERVAL;VALUE=DURATION:PT1H
X-Robots-Tag:noindex
X-PUBLISHED-TTL:PT1H
BEGIN:VTIMEZONE
TZID:Europe/Bratislava
BEGIN:DAYLIGHT
TZOFFSETFROM:+0100
TZOFFSETTO:+0200
TZNAME:CEST
DTSTART:20220327T010000
END:DAYLIGHT
BEGIN:STANDARD
TZOFFSETFROM:+0200
TZOFFSETTO:+0100
TZNAME:CET
DTSTART:20221030T010000
END:STANDARD
BEGIN:DAYLIGHT
TZOFFSETFROM:+0100
TZOFFSETTO:+0200
TZNAME:CEST
DTSTART:20230326T010000
END:DAYLIGHT
BEGIN:STANDARD
TZOFFSETFROM:+0200
TZOFFSETTO:+0100
TZNAME:CET
DTSTART:20231029T010000
END:STANDARD
BEGIN:DAYLIGHT
TZOFFSETFROM:+0100
TZOFFSETTO:+0200
TZNAME:CEST
DTSTART:20240331T010000
END:DAYLIGHT
BEGIN:STANDARD
TZOFFSETFROM:+0200
TZOFFSETTO:+0100
TZNAME:CET
DTSTART:20241027T010000
END:STANDARD
END:VTIMEZONE
BEGIN:VEVENT
DTSTART;TZID=Europe/Bratislava:20230414T170000
DTEND;TZID=Europe/Bratislava:20230414T210000
DTSTAMP:20260424T062737
CREATED:20230411T150709Z
LAST-MODIFIED:20230411T150718Z
UID:46532-1681491600-1681506000@metalexpress.sk
SUMMARY:Dopelord [PL] / Old Tomb / Vesmyr v piatok v Collosseum Clube!
DESCRIPTION:Sacred Audio presents\n✦ DOPELORD (PL)\nSpecial support: ✦ OLD TOMB (SK) ✦ VESMYR (SK)\n______________________________\nPoľská špička doom metalu Dopelord vyráža v apríli na turné\, a svoj prvý rituál odštartujú v Košiciach! Hudba inšpirovaná starými hororovými filmami\, okultizmom a magickými rastlinami ktorá ťa zaručene prenesie do inej dimenzie. Spoločne s nimi privítame opäť to najlepšie\, čo nám domáca psychedélia ponúka – kapelu Vesmyr a ich našliapaný desert rock spoločne s čarodejníkmi Old Tomb!\n*********** Koncert bude prebiehať na dolnom pódiu ***********\n______________________________\nDOPELORD (Stoner / Doom / Occult)\nhttps://dopelord.bandcamp.com/\nhttps://www.facebook.com/Dopelord666\nOLD TOMB (Stoner / Doom / Sludge)\nhttps://oldtomb.bandcamp.com/\nhttps://www.facebook.com/oldtombdoom\nVESMYR (Desert Rock / Stoner Rock)\nhttps://vesmyr.bandcamp.com/\nhttps://www.facebook.com/Vesmyrband\n______________________________\n► Vstupenky:\nNa mieste: 14€\n► Collosseum Club Košice\n► 14.04.2023 • 19:00\n\nPOZOR SÚŤAŽ\n\n\n\n\n\n\nChceš vyhrať 2 lístky na piatkový koncert Dopelord [PL] / Old Tomb / Vesmyr ? Stačí splniť nasledujúce pravidlá a lístky môžu byť tvoje:\n\n\n1. Zdieľaj tento plagát verejne na svojom profile\n2. Do komentára pod tento príspevok napíš „Zdieľam“\n\n\nVo štvrtok vyberieme jedného z Vás\, koho potešíme 2 lístkami na tento koncert!\n\n\nText prebratý z FB udalosti
URL:https://metalexpress.sk/event/dopelord-pl-old-tomb-vesmyr-v-piatok-v-collosseum-clube/
LOCATION:Collosseum\, Dominikánske námestie 35\, Košice\, Košice\, 04001\, Slovenská republika
CATEGORIES:Udalosti
ATTACH;FMTTYPE=image/jpeg:https://metalexpress.sk/wp-content/uploads/2023/04/326534135_1271452306745502_4161752519088391943_n.jpg
END:VEVENT
BEGIN:VEVENT
DTSTART;TZID=Europe/Bratislava:20230414T173000
DTEND;TZID=Europe/Bratislava:20230414T213000
DTSTAMP:20260424T062737
CREATED:20230123T072729Z
LAST-MODIFIED:20230123T072729Z
UID:45768-1681493400-1681507800@metalexpress.sk
SUMMARY:Gitarový mág Steve Vai prichádza na Slovensko!
DESCRIPTION:Steve Vai oznámil návrat do Európy a mieri aj na Slovensko! V piatok 14. apríla 2023 vystúpi v Bratislave v Refinery Gallery v rámci Inviolate World Tour. Vstupenky na koncert sa predávajú od piatka 20. januára 2023 cez listocheck.sk: https://listocheck.sk/detail/steve-vai \nVelikán Steve Vai pokračuje po jesennom turné v Severnej Amerike aj v Európe. “Naše turné v Amerike bolo vynikajúce. Ja a kapela sme “namazaní” a pripravení ako vždy. Som nadšený\, že môžem konečne priniesť gitaru Hydra do Európy\, pretože som to nestihol urobiť na poslednom turné. Odozva od Inviolate bola mimoriadne pozitívna a tak sa veľmi tešíme na toto turné po Európe!” vysvetľuje Steve Vai. \nMinulý rok vydal nový štúdiový album s názvom Inviolate. Podporiť jeho vydanie sa rozhodol zorganizovaním turné. Tento rok plány zavedú gitaristu\, skladateľa\, speváka a producenta so svojou kapelou na väčšinu kontinentov po celom svete. \nZ tohto albumu si veľký úspech zaslúžil oficiálny videoklip k skladbe „Teeth Of The Hydra“\, ktorú si už pozrelo viac ako 5\,3 milióna ľudí. “Bol to nápad hrať na gitare s viacerými krkmi\, kde v podstate všetko\, čo v skladbe počujete – s výnimkou bicích a niektorých klávesov – je táto gitara. Chcel som vytvoriť skladbu\, ktorá využíva všetky krky\, všetky struny a všetky efekty”. opisuje Steve. \nO pár dní\, 27. januára\, vydáva album Vai / Gash\, ktorý má v archíve viac ako tri desaťročia. Bol napísaný a zaznamenaný v časových horizontoch v roku 1991\, kedy mal túžbu mať konkrétny druh hudby\, ktorú by mohol počúvať\, keď jazdil na motocykli Harley Davidson. Tieto nahrávky ležali na poličke viac ako 30 rokov a vychádzajú tento rok. \nSteve Vai je uznávaný gitarista na celom svete a je držiteľom Grammy. Bol súčasťou mnohých projektov\, či kapiel\, aj skupiny Whitesnakes. Po jej opustení sa vydal opäť na sólovú dráhu. \nKoncert v Bratislave nebude mať predkapelu a môžeme sa tešiť na 120 minút skvelej hudby. Okrem klasických lístkov po 49\,50 EUR budú v predaji aj VIP lístky\, ktoré budú obsahovať aj meet & greet\, stage tour a účasť na zvukovke. O bližších informáciach k týmto lístkom bude organizátor informovať na svojich webových a facebookových stránkach. \n  \nVstupenky: https://listocheck.sk/detail/steve-vai \nEvent na FB: https://www.facebook.com/events/3364134970519948 \n  \nSteve Vai – Teeth of the Hydra \nhttps://www.youtube.com/watch?v=46qjDJ0lLdE \nSteve Vai – For The LOve Of God \nhttps://www.youtube.com/watch?v=9IrWyZ0KZuk \nText Octopus Promotion \n 
URL:https://metalexpress.sk/event/gitarovy-mag-steve-vai-prichadza-na-slovensko/
LOCATION:Refinery Gallery\, Vlčie hrdlo\, Bratislava\, Slovakia\, Bratislava\, Bratislavský Kraj\, Slovenská republika
CATEGORIES:Udalosti
ATTACH;FMTTYPE=image/jpeg:https://metalexpress.sk/wp-content/uploads/2023/01/An-Evening-with-Steve-Vai.jpg
END:VEVENT
END:VCALENDAR