BEGIN:VCALENDAR
VERSION:2.0
PRODID:-//MetalExpress - ECPv6.15.19//NONSGML v1.0//EN
CALSCALE:GREGORIAN
METHOD:PUBLISH
X-ORIGINAL-URL:https://metalexpress.sk
X-WR-CALDESC:Udalosti pre MetalExpress
REFRESH-INTERVAL;VALUE=DURATION:PT1H
X-Robots-Tag:noindex
X-PUBLISHED-TTL:PT1H
BEGIN:VTIMEZONE
TZID:Europe/Bratislava
BEGIN:DAYLIGHT
TZOFFSETFROM:+0100
TZOFFSETTO:+0200
TZNAME:CEST
DTSTART:20220327T010000
END:DAYLIGHT
BEGIN:STANDARD
TZOFFSETFROM:+0200
TZOFFSETTO:+0100
TZNAME:CET
DTSTART:20221030T010000
END:STANDARD
BEGIN:DAYLIGHT
TZOFFSETFROM:+0100
TZOFFSETTO:+0200
TZNAME:CEST
DTSTART:20230326T010000
END:DAYLIGHT
BEGIN:STANDARD
TZOFFSETFROM:+0200
TZOFFSETTO:+0100
TZNAME:CET
DTSTART:20231029T010000
END:STANDARD
BEGIN:DAYLIGHT
TZOFFSETFROM:+0100
TZOFFSETTO:+0200
TZNAME:CEST
DTSTART:20240331T010000
END:DAYLIGHT
BEGIN:STANDARD
TZOFFSETFROM:+0200
TZOFFSETTO:+0100
TZNAME:CET
DTSTART:20241027T010000
END:STANDARD
END:VTIMEZONE
BEGIN:VEVENT
DTSTART;TZID=Europe/Bratislava:20230408T170000
DTEND;TZID=Europe/Bratislava:20230408T213000
DTSTAMP:20260424T062739
CREATED:20230403T103611Z
LAST-MODIFIED:20230403T103611Z
UID:46462-1680973200-1680989400@metalexpress.sk
SUMMARY:MaňoFESTácia už túto sobotu v klube Matrix v Kanianke!
DESCRIPTION:Je to tu! MaňoFESTácia! Toto nesmieš zmeškať! Pripravte sa na naložené sety a kopec zábavy. Uvidíme sa v Matrix Clube kde vás obslúži príjemný personál a potešia svojou tvrobou Bloody Redemption\, Breaking the Tarot a Marturos. Extrémne sa na vás tešíme! \nDátum: 08.04.2023\nŠtart: 19:00\nVstup: 8€\nFB Udalosť: https://www.facebook.com/events/739346757750349/\n \nZahrajú\nMarturos\nMetalová kapela zo Slovenska. Mixujeme harmonické elementy old schoolovej metalovej hudby s populárnym a energickým novodobým metalom.\nNaše skladby obsahujú ťažké\, silné a melodické riffy a ostrý ženský vokál.\nhttps://www.facebook.com/marturosofficial/\nBreaking the Tarot\nMetal Core / Košice. Debut album bude vydany v lete 2023. Aktualne je v procese nahravania. Info o vydavatelovi a presnejsi termin vydania zverejnime na prelome februar / marec 2023.\nRovnako tak oznamime aj titul albumu a detaily o skladbach. Pred vydanim albumu planujeme este zverejnit jeden singel + oficialny video klip.\nDva single 2022 na stream mediach (Spotify atd.) Vznik 05/2021.\nhttps://www.facebook.com/breakingthetarot \nBloody Redemption\nOldschool death metal úderka zo stredneho Slovenska. Prezentujeme najnovší album \,\,Hit to the Gore“\nhttps://www.facebook.com/bloodyredemptionRA
URL:https://metalexpress.sk/event/manofestacia-uz-tuto-sobotu-v-klube-matrix-v-kanianke/
LOCATION:Moment Club Kanianka\, SNP 588/2\, Kanianka\, Slovakia\, Kanianka\, Prievidza\, Kanianka\, Slovakia (Slovak Republic)
CATEGORIES:Udalosti
ATTACH;FMTTYPE=image/jpeg:https://metalexpress.sk/wp-content/uploads/2023/04/335610323_238408405197239_6623440424783210085_n.jpg
END:VEVENT
END:VCALENDAR