BEGIN:VCALENDAR
VERSION:2.0
PRODID:-//MetalExpress - ECPv6.15.19//NONSGML v1.0//EN
CALSCALE:GREGORIAN
METHOD:PUBLISH
X-WR-CALNAME:MetalExpress
X-ORIGINAL-URL:https://metalexpress.sk
X-WR-CALDESC:Udalosti pre MetalExpress
REFRESH-INTERVAL;VALUE=DURATION:PT1H
X-Robots-Tag:noindex
X-PUBLISHED-TTL:PT1H
BEGIN:VTIMEZONE
TZID:Europe/Bratislava
BEGIN:DAYLIGHT
TZOFFSETFROM:+0100
TZOFFSETTO:+0200
TZNAME:CEST
DTSTART:20220327T010000
END:DAYLIGHT
BEGIN:STANDARD
TZOFFSETFROM:+0200
TZOFFSETTO:+0100
TZNAME:CET
DTSTART:20221030T010000
END:STANDARD
BEGIN:DAYLIGHT
TZOFFSETFROM:+0100
TZOFFSETTO:+0200
TZNAME:CEST
DTSTART:20230326T010000
END:DAYLIGHT
BEGIN:STANDARD
TZOFFSETFROM:+0200
TZOFFSETTO:+0100
TZNAME:CET
DTSTART:20231029T010000
END:STANDARD
BEGIN:DAYLIGHT
TZOFFSETFROM:+0100
TZOFFSETTO:+0200
TZNAME:CEST
DTSTART:20240331T010000
END:DAYLIGHT
BEGIN:STANDARD
TZOFFSETFROM:+0200
TZOFFSETTO:+0100
TZNAME:CET
DTSTART:20241027T010000
END:STANDARD
END:VTIMEZONE
BEGIN:VEVENT
DTSTART;TZID=Europe/Bratislava:20230407T170000
DTEND;TZID=Europe/Bratislava:20230407T213000
DTSTAMP:20260424T062711
CREATED:20230328T074826Z
LAST-MODIFIED:20230328T074826Z
UID:46398-1680886800-1680903000@metalexpress.sk
SUMMARY:Košice v Ohňu (Cult of Fire\, Mallephyr\, Teufelsmauer)
DESCRIPTION:CULT OF FIRE\nhttps://www.facebook.com/cultoffireofficial\nCult of Fire je atmosférická metalová kapela s hinduistickou a buddhistickou tématikou\, která vzplála v roce 2010. Přestože se v počátcích své existence kapela zaměřovala na jiná témata\, vše se změnilo v roce 2013 s albem „मृत्यु का तापसी अनुध्यान“\, které bylo podle kapely „nejkomplexnějším a nejhlubším uměleckým dílem“\, které doposud vytvořila. Album bylo postaveno na tématech bohyně Kálí\, Aghorů a pohřebních rituálů v Indii a blízkém okolí. Před každým albem Vlad cestuje do Indie\, kde čerpá inspiraci a energii\, kterou pak vkládá do hudby a pódiové prezentace kapely. Z velké části pocházejí pódiové rekvizity z Indie a Nepálu. Cult of Fire je zhudebněná pocta a uctivani Hinduistických a Buddhistických božstev a jejich koncerty jsou jako výstava tantrických rituálů\, Aghorů\, Kali\, Shivy a dalších božstev. Pokud chcete vidět prastaré rituály\, cítit vůni orientu a přenést se tisíce kilometrů na východ\, pak je Cult of Fire to\, co hledáte. \nMALLEPHYR\nhttps://www.facebook.com/mallephyr\nPlzeňská black/death metalová kapela MALLEPHYR vznikla v roce 2014 a od té doby vydala dvě studiové desky. Obě vznikly v pražských KSV Studios pod taktovkou Karla „Sheafraidha“ Švejnohy.\nZa dobu existence MALLEPHYR odehráli desítky koncertů\, například na Brutal Assaultu\, Phantoms of Pilsen nebo Enter the Eternal Fire Festu\, dále zahráli v klubech před kapelami jako DARK FUNERAL\, KRISIUN\, NOCTURNAL DEPRESSION\, FORGOTTEN TOMB\, ORANSSI PAZUZU\, ROTTING CHRIST\, ACHERONTAS nebo THE STONE. Aktuálně mají MALLEPHYR nahránu třetí studiovou desku\, z níž také zazní ukázka. Vznikala v letech 2020 až 2022\, opět byla nahrána v KSV Studios\, mastering tentokrát proběhl v Enormous Door v USA. MALLEPHYR v současnosti hledají label\, který třetí desku vypustí do světa. \nTEUFELSMAUER\nhttps://teufelsmauer.bandcamp.com/\nBlasty\, pivo a zatuchlý black metal zo Svidníka. Nič viac nepotrebuješ vedieť. \nThe poster art was created by Dhomth.\nhttps://www.facebook.com/dhomth \nDátum: 07.04.2023\nMiesto: Collosseum Club\, Košice\nVstup: 16 €\nVstupenky budú len na mieste!\nFB Event: https://www.facebook.com/events/918562282729626/\nText použitý z FB udalosti
URL:https://metalexpress.sk/event/kosice-v-ohnu-cult-of-fire-mallephyr-teufelsmauer/
LOCATION:Collosseum\, Dominikánske námestie 35\, Košice\, Košice\, 04001\, Slovenská republika
CATEGORIES:Udalosti
ATTACH;FMTTYPE=image/jpeg:https://metalexpress.sk/wp-content/uploads/2023/03/331490916_548025447309748_4240218005784290928_n.jpg
END:VEVENT
BEGIN:VEVENT
DTSTART;TZID=Europe/Bratislava:20230407T170000
DTEND;TZID=Europe/Bratislava:20230407T213000
DTSTAMP:20260424T062711
CREATED:20230403T093528Z
LAST-MODIFIED:20230403T093528Z
UID:46458-1680886800-1680903000@metalexpress.sk
SUMMARY:Veľkonočná Šibenica vo Fuge!
DESCRIPTION:Na VEĽKÝ PIATOK bude veľká akcia!! do Fugy v Bratislave prídu nadupaní KONFRONT z Prahy a sprevádzať ich bude znovuzrodená banda ASENTH z Bratislavy a Nitrianske kniežatá hardcoru HEAD2DOWN a TRIBUTEtoFREEDOM. Po večernej omši utekaj rovno do FUGY na šibenicu!! \nKONFRONT\nhttps://www.facebook.com/KonfrontHC\nHEAD2DOWN\nhttps://www.facebook.com/HEAD2DOWN\nASENTH\nhttps://www.facebook.com/asenth\nTRIBUTE to FREEDOM\nhttps://www.facebook.com/tributetofreedomband \nDátum: 07.04.2023\nMiesto: FUGA\, Bratislava\nVstup: ?\nFB Udalosť: https://www.facebook.com/events/617739936358486/\nText z FB Udalosti
URL:https://metalexpress.sk/event/velkonocna-sibenica-vo-fuge/
LOCATION:FUGA\, Námestie SNP 24\, Bratislava\, Bratislavský Kraj\, Slovenská republika
CATEGORIES:Udalosti
ATTACH;FMTTYPE=image/jpeg:https://metalexpress.sk/wp-content/uploads/2023/04/336866377_1455479745191805_8402074809598437790_n.jpg
END:VEVENT
END:VCALENDAR