BEGIN:VCALENDAR
VERSION:2.0
PRODID:-//MetalExpress - ECPv6.15.19//NONSGML v1.0//EN
CALSCALE:GREGORIAN
METHOD:PUBLISH
X-ORIGINAL-URL:https://metalexpress.sk
X-WR-CALDESC:Udalosti pre MetalExpress
REFRESH-INTERVAL;VALUE=DURATION:PT1H
X-Robots-Tag:noindex
X-PUBLISHED-TTL:PT1H
BEGIN:VTIMEZONE
TZID:Europe/Bratislava
BEGIN:DAYLIGHT
TZOFFSETFROM:+0100
TZOFFSETTO:+0200
TZNAME:CEST
DTSTART:20220327T010000
END:DAYLIGHT
BEGIN:STANDARD
TZOFFSETFROM:+0200
TZOFFSETTO:+0100
TZNAME:CET
DTSTART:20221030T010000
END:STANDARD
BEGIN:DAYLIGHT
TZOFFSETFROM:+0100
TZOFFSETTO:+0200
TZNAME:CEST
DTSTART:20230326T010000
END:DAYLIGHT
BEGIN:STANDARD
TZOFFSETFROM:+0200
TZOFFSETTO:+0100
TZNAME:CET
DTSTART:20231029T010000
END:STANDARD
BEGIN:DAYLIGHT
TZOFFSETFROM:+0100
TZOFFSETTO:+0200
TZNAME:CEST
DTSTART:20240331T010000
END:DAYLIGHT
BEGIN:STANDARD
TZOFFSETFROM:+0200
TZOFFSETTO:+0100
TZNAME:CET
DTSTART:20241027T010000
END:STANDARD
END:VTIMEZONE
BEGIN:VEVENT
DTSTART;TZID=Europe/Bratislava:20230401T130000
DTEND;TZID=Europe/Bratislava:20230401T213000
DTSTAMP:20260424T062738
CREATED:20230221T094117Z
LAST-MODIFIED:20230221T094117Z
UID:46061-1680354000-1680384600@metalexpress.sk
SUMMARY:FUNERAL IMPERIAL FEAST na začiatku apríla v Modrej Vopici!
DESCRIPTION:Pantheïst (UK)\, Frowning (Ger)\, Et Moriemur (Cz)\, Gospel of the Future (Cz)\, Námöl (Cz)\, Borne by Tempest (Cz)\n1. 4. 2023 – Praha\, Klub Modrá Vopice \nÚvodní edice žánrového festivalu věnovanému tónům nejpochmurnějším se odehraje přímo na letošní aprílový svátek zlomyslného humoru. Důvody k úsměvu však doom metalem a čerstvě vykopanou hřbitovní hlínou zavánějící slavnost určitě nezavdá. Jedinečná událost v naší metropoli zažehne svíce u čerstvě obsazeného katafalku. V onen smutkem protkaný večer se stane Praha středobodem pohřebního dění lemovaného slzami\, bolestí a zádumčivou melancholií.\nJe nám velkou ctí\, že Funeral Imperial Feast přivítá legendu atmosférického synthezátorového funeral doomu\, hudebníka a spisovatele Kostase Panagiotou s jeho Pantheïst. Kapela z britského Cardiffu se profiluje svébytnou filozofickou formou zhoubné virtuozity a právem je řazena mezi průkopníky stylu. Pamětníci vzpomenou na první dekádu milénia\, kdy jsme měli možnost dvakrát Pantheïst v Praze spatřit po boku souputníků Skepticism. Od poslední návštěvy Česka je tak dělí celých patnáct let. Mezitím se na šestém\, pandemickou situací\, pocity akutní marnosti a izolací poznamenaném albu Closer to God kapela představila v odlišném hávu\, než nabídl jeho předchůdce. O poznání epičtější Seeking Infinity zaznamenala návrat k drsnějším kořenům\, ale i tak v hudbě Pantheïst nadále rezonuje mix progresivních textur\, nekompromisního doomu\, solitérích ambientních\, symfonických a neofolkových nálad. Smuteční průvod par excellence.\nhttps://pantheistuk.bandcamp.com/\nhttps://facebook.com/Pantheistuk\n \nPremiérové vystoupení si u nás v rámci festivalu odbude německý smuteční kult Frowning. Z nejtemnějších tenat\, do nichž jsme byli vtaženi na Death Requiem\, se na novinkovém EP Of Void ohlíží drážďanský funebrák Val Atra Niteris nazpět\, a tedy vstříc krajinám bezbřehé melancholie. Fatální truchlohra v propastně bolestném kabátku rozpláče i největší tvrďáky. Pomalé a intenzivní hudební obrazy se táhnou jako myšlenka na smrt – nekonečný cyklus\, jenž nezná zrození. Chóry ze saské márnice jsou skutečnou exkurzí do úrovní zatěžkaných prožitky z toho nejchmurnějšího\, co se může v lidské mysli i za jejími hranicemi odehrávat.\nhttps://frowning.bandcamp.com/\nhttps://facebook.com/frowning.band \nA všichni zemřeme… Latinské motto Et Moriemur rámuje tvorbu dalších mistrů zkázonosné poetiky. Kapela si právem říká o titul jednoho z předních domácích spolků. Ve svém umění rozprostírá impozantní paletu tísnivě naléhavých pocitů v nejlepší tradici evropského doom metalu. To podtrhuje samotná sestava hudebníků\, jejichž teskná působiště nalezneme v kapelách jako Silent Stream of Godless Elegy\, Somniate\, Sól či zhynulé veličině Dissolving of Prodigy. Není divu\, že si Et Moriemur s aktuálním albem Tamashii No Yama i podruhé vzal po křídla v undergroundu respektovaný indický label Transcending Obscurity. A souhrou náhod není ani to\, že se na předchozím albu Epigrammata svou recitací podílel také Kostas Panagiotou. Přemýšlivá atmosférická hudba šestice vás první dubnovou sobotu provede světem žalostných stavů a nechá nasát smrtící atmosféru posledních okamžiků člověka. Vše v různorodých exteriérech antického dávnověku či paluby letadla japonských aerolinek krátce před katastrofou\, a to v kombinaci s poezií haiku.\nhttps://etmoriemurdoom.bandcamp.com\nhttps://facebook.com/etmoriemur\n \nGospel of the Future aspirují na hybatele znepokojivě silného zemětřesení jež meteorologické stanice zaznamenají ten večer na pomezí Žižkova a Vysočan. Surově a nahlas servírovaný sludge s industriálním akcentem je naživo doslova ultimátní zkušeností. Explozivní kondici\, s jakou dokáží Moravané neúprosně cuchat nervovou soustavu\, zpečetili po dvanácti letech na třetí řadovce Blowtorch Mankind. Depresivnímu hromobití oddaný kvartet je fascinován zlem a okultismem tváří v tvář apokalyptickým výzvám současnosti. Nelze tak čekat slitování\, které by snad posluchače uchránilo od prostupujících kytarových hradeb a dynamických rytmických náloží.\nhttps://gospelofthefuture.bandcamp.com/ \nTakříkajíc přímo z ostatků vsáklých do rakevního dna je nasbíraná kytice písní ve znamení námelové otravy mladého pražského uskupení Námöl. O poznání blíže old school smrtikovu\, mísí čtveřice s bestiálním úšklebkem rozkládající se pohřební sliz s absurdními halucinacemi z alkaloidů. Pomalu nastupující opojení eskaluje v ještě pomalejší drama nevyhnutelného konce v pitoreskním chomáči organických žouželí a holubích exkrementů. Aktuálně kapela zakončuje pohřební práce na obskurním debutním demu Zhouba z rakevního dna. \nhttps://soundcloud.com/khaaoscope-musick/namol-liker-ze-shnilych-holubich-vajec-rehearsal-demo \nDruhou venkovní stage bude během podvečerní literární a výtvarné části programu zvukově ozvláštňovat dvojice Borne by Tempest. Rituálně uchopený paleo-blackened dark ambient je další z tváří lidí stojících za projekty Črná Zem a Rárog. Archetypální rytmy navádějí mentální senzory k archetypům temnot a čímsi nezemským ovládané organice. Kult uhle pod Havraní horou v tribálním obřadu po hlasu proudu.\nhttps://bornebytempest.bandcamp.com/ \nSobotní festival za účasti Pantheïst (UK)\, Frowning (Ger)\, Et Moriemur (Cz)\, Gospel of the Future (Cz)\, Námöl (Cz) a Borne by Tempest (Cz) zpestří autorské čtení a překlady literární sekce. Podobně tak na vás zapůsobí instalovaná díla umělců s tématikou Funeral Imperial Feast spřízněných. Akce je výzvou pro hudební fajnšmekry\, kteří se vyznají v doom metalu a zároveň pokusem oživit (!?) a podpořit scénu specifického metalového stylu\, který má u nás silně zapuštěné kořeny od devadesátých let minulého století. Událost je to jedinečná a počtem osob limitovaná\, a proto příznivcům vřele doporučujeme nákup první edice vstupenek v předprodeji za 650 korun na adrese https://khaaoscope.cz/#/3. \nEvent: https://facebook.com/events/1556662664850083\nText Obscure Promotion
URL:https://metalexpress.sk/event/funeral-imperial-feast-na-zaciatku-aprila-v-modrej-vopici/
LOCATION:Modrá Vopice\, K Žižkovu 1 19000 Prague\, Czech Republic\, Praha\, Praha\, Česká republika
CATEGORIES:Udalosti
ATTACH;FMTTYPE=image/jpeg:https://metalexpress.sk/wp-content/uploads/2023/02/Funeral-Imperial-Feast1.jpg
ORGANIZER;CN="Obscure Promotion":MAILTO:filip@obscure.cz
END:VEVENT
BEGIN:VEVENT
DTSTART;TZID=Europe/Bratislava:20230401T160000
DTEND;TZID=Europe/Bratislava:20230401T210000
DTSTAMP:20260424T062738
CREATED:20230329T115714Z
LAST-MODIFIED:20230329T115714Z
UID:46414-1680364800-1680382800@metalexpress.sk
SUMMARY:IMMORALITY - Posledné Pomazanie v Hoste!
DESCRIPTION:Už je to tady…Týmto vás priatelia naši srdečne pozývame 1.4.2023 (sobota) do KULTÚRNEHO DOMU v HOSTE na posledné finálne srdcervúce-umelecko-zábavné-psychiatricko-šokujúce až romanticko hororové stretnutie s bandou cirkusových estrádnikov a bandy lotrov kapely“Immorality“ na jej poslednej spoločnej 12.rokov trvajúcej kovovej ceste vedúcej do pekla\, či ešte o kus ďalej…možno príde aj kúzelník a nechá nás zmiznúť a ak nie\, zmizneme tak či onak s povrchu zemského ako zoskupenie s názvom IMMORALITY... \nPrineste si dobrú náladu a čo len chcete (babku \,dedka \,veterinára \,psa či mačku \,kanárika \,potvrdenie od zubára či opečiatkovanú PN-ku \,montérky \,smoking či tepláky \,čajové vrecúška \,melóny či gumené medvedíky…medze sa nekladú)…Ohľadom vstupného – samozrejme žiadne vstupné\, občerstvenie – alko tvrdšieho charakter\,nealko pivo\, čapované víno rozlievané bude k dispozícii dostatočne\, upresníme priebežne v čase blízko-budúcom\, čo a ako\, podľa počtu zúčastnených na tejto udalosti zabezpečíme\, aby nikto nezomrel smadom (za hluk \, rámus a psychické problémy nezodpovedáme)…Koniec hlásenia.. \n 
URL:https://metalexpress.sk/event/immorality-posledne-pomazanie-v-hoste/
LOCATION:KD Hoste\, Hoste\, Hoste\, Trnavský kraj\, Slovenská republika
CATEGORIES:Udalosti
ATTACH;FMTTYPE=image/jpeg:https://metalexpress.sk/wp-content/uploads/2023/03/330214100_447790600836379_2238651540092908940_n.jpg
END:VEVENT
BEGIN:VEVENT
DTSTART;TZID=Europe/Bratislava:20230401T170000
DTEND;TZID=Europe/Bratislava:20230401T213000
DTSTAMP:20260424T062738
CREATED:20230328T075718Z
LAST-MODIFIED:20230328T075718Z
UID:46401-1680368400-1680384600@metalexpress.sk
SUMMARY:UG ECSTASY DAY už túto sobotu!
DESCRIPTION:Priznám sa\, že som už stratila trochu prehľad\, koľká UG ECSTASY bude práve táto. Jedno je však isté\, že pôjde o mimoriadnu udalosť\, pretože sa bude krstiť nový album s názvom „Alica“ od miestnej skupiny Constipation. Ako ďalších hostí si organizátori pozvali Craniotomy až z ďalekého Hlohovca a rovnako miestnu HC metal kapelu s názvom Recognition.  \nNa deň bláznov a vtákov vystúpia tieto bandy:\nCRANIOTOMY brutal slamming death metal\n/slovenská kultovica po dlhej dobe v Prešove/\nhttps://www.facebook.com/profile.php?id=100063529032088 \nCONSTIPATION grind death dancing\n/krst albumu „Alica“ a prvý koncert na domácej pôde/\nhttps://www.facebook.com/constipationband \nRECOGNITION metal HC\n/borci prešovskej scény to proste rozbalia/\nhttps://www.facebook.com/recognition.pohc \nDátum: 01.04.2023\nMiesto: Stromoradie\, Prešov\nVstup: 10 €\nFB Udalosť: https://www.facebook.com/events/712380177014650/
URL:https://metalexpress.sk/event/ug-ecstasy-day-uz-tuto-sobotu/
LOCATION:Stromoradie\, Kmeťovo stromoradie\, Presov\, Slovakia\, Prešov\, Prešov\, Slovenská republika
CATEGORIES:Udalosti
ATTACH;FMTTYPE=image/jpeg:https://metalexpress.sk/wp-content/uploads/2023/03/323887472_870411414277241_836148542701726062_n.jpg
END:VEVENT
BEGIN:VEVENT
DTSTART;TZID=Europe/Bratislava:20230401T170000
DTEND;TZID=Europe/Bratislava:20230401T213000
DTSTAMP:20260424T062738
CREATED:20230329T143354Z
LAST-MODIFIED:20230329T143354Z
UID:46430-1680368400-1680384600@metalexpress.sk
SUMMARY:Metal Unleashed už túto sobotu v Leviciach
DESCRIPTION:V sobotu 1.4.2023 sa v Leviciach uskutoční ďalší koncert pod názvom Metal Unleashed. Tentokrát organizátori zavolali štyri slovenské kapely. Vystúpia Marturos\, Down to Hell\, Orkrist a Achsar.  \nZahrajú:\nMarturos\nhttps://www.facebook.com/marturosofficial\nDown to Hell \nhttps://www.facebook.com/downtohell.sk\nOrkrist\nhttps://www.facebook.com/orkristofficial\nAchsar\nhttps://www.facebook.com/achsarofficial \nProgram:\n19:00 Marturos\n20:00 Down To Hell\n21:00 Orkrist\n22:00 Achsar \nDátum: 01.04.2023\nMiesto: ERKO\, Levice\nVstup: 5€\nFB Udalosť: https://www.facebook.com/events/851242992625772
URL:https://metalexpress.sk/event/metal-unleashed-uz-tuto-sobotu-v-leviciach/
LOCATION:ERKO Levice\, Poľná 6\, Levice\, Slovakia\, Levice\, Levice\, Slovenská republika
CATEGORIES:Udalosti
ATTACH;FMTTYPE=image/jpeg:https://metalexpress.sk/wp-content/uploads/2023/03/333315755_735785287908156_5473469746697583678_n.jpg
END:VEVENT
END:VCALENDAR