BEGIN:VCALENDAR
VERSION:2.0
PRODID:-//MetalExpress - ECPv6.15.19//NONSGML v1.0//EN
CALSCALE:GREGORIAN
METHOD:PUBLISH
X-WR-CALNAME:MetalExpress
X-ORIGINAL-URL:https://metalexpress.sk
X-WR-CALDESC:Udalosti pre MetalExpress
REFRESH-INTERVAL;VALUE=DURATION:PT1H
X-Robots-Tag:noindex
X-PUBLISHED-TTL:PT1H
BEGIN:VTIMEZONE
TZID:Europe/Bratislava
BEGIN:DAYLIGHT
TZOFFSETFROM:+0100
TZOFFSETTO:+0200
TZNAME:CEST
DTSTART:20220327T010000
END:DAYLIGHT
BEGIN:STANDARD
TZOFFSETFROM:+0200
TZOFFSETTO:+0100
TZNAME:CET
DTSTART:20221030T010000
END:STANDARD
BEGIN:DAYLIGHT
TZOFFSETFROM:+0100
TZOFFSETTO:+0200
TZNAME:CEST
DTSTART:20230326T010000
END:DAYLIGHT
BEGIN:STANDARD
TZOFFSETFROM:+0200
TZOFFSETTO:+0100
TZNAME:CET
DTSTART:20231029T010000
END:STANDARD
BEGIN:DAYLIGHT
TZOFFSETFROM:+0100
TZOFFSETTO:+0200
TZNAME:CEST
DTSTART:20240331T010000
END:DAYLIGHT
BEGIN:STANDARD
TZOFFSETFROM:+0200
TZOFFSETTO:+0100
TZNAME:CET
DTSTART:20241027T010000
END:STANDARD
END:VTIMEZONE
BEGIN:VEVENT
DTSTART;TZID=Europe/Bratislava:20230331T170000
DTEND;TZID=Europe/Bratislava:20230331T213000
DTSTAMP:20260424T031519
CREATED:20230329T121624Z
LAST-MODIFIED:20230329T121624Z
UID:46424-1680282000-1680298200@metalexpress.sk
SUMMARY:ARAKAIN + JACKER'S  tento piatok v Collosseum Clube!
DESCRIPTION:Konečne po prvýkrát v Collosseu.\n40 rokov na scéne s tak veľkou a vernou fanúšikovskou základňou je úctyhodný výkon pre hudobné teleso hrajúce ľubovoľný hudobný štýl. V tomto roku sa 40-ky dožila tvorba thrash-metalových ARAKAIN. Zakladajúci člen a líder Jiří Urban podotýka\, ARAKAIN venuje rok 2022 „mapovaniu toho najpopulárnejšieho\, a teda i najočakávanejšieho zo svojho repertoáru.“ Po jarnej časti pomenovanej 40 LETour1 a letných festivalových vystúpeniach kapela nadviaže jesenným 40 LETour2\, v rámci ktorého bude na programe 25-ka hitov a pilierov bohatej histórie. Ako support vystúpi skupina Jacker´s.  \nProgram:\n19:00 Otvorenie klubu\n20:00 JACKER’S\n21:15 ARAKAIN \nDátum: 31.03.2023\nMiesto: Collosseum Club\, Košice\nVstupenky:\nPredpredaj v klube 20€\nTicketportal 23€\nNa mieste 28€\nFB Udalosť: https://www.facebook.com/events/5642332959176300/ \nPoužitý text je z FB udalosti
URL:https://metalexpress.sk/event/arakain-jackers-tento-piatok-v-collosseum-clube/
LOCATION:Collosseum\, Dominikánske námestie 35\, Košice\, Košice\, 04001\, Slovenská republika
CATEGORIES:Udalosti
ATTACH;FMTTYPE=image/jpeg:https://metalexpress.sk/wp-content/uploads/2023/03/319314626_10161247057426535_408027009066745923_n.jpg
END:VEVENT
END:VCALENDAR