BEGIN:VCALENDAR
VERSION:2.0
PRODID:-//MetalExpress - ECPv6.15.19//NONSGML v1.0//EN
CALSCALE:GREGORIAN
METHOD:PUBLISH
X-WR-CALNAME:MetalExpress
X-ORIGINAL-URL:https://metalexpress.sk
X-WR-CALDESC:Udalosti pre MetalExpress
REFRESH-INTERVAL;VALUE=DURATION:PT1H
X-Robots-Tag:noindex
X-PUBLISHED-TTL:PT1H
BEGIN:VTIMEZONE
TZID:Europe/Bratislava
BEGIN:DAYLIGHT
TZOFFSETFROM:+0100
TZOFFSETTO:+0200
TZNAME:CEST
DTSTART:20220327T010000
END:DAYLIGHT
BEGIN:STANDARD
TZOFFSETFROM:+0200
TZOFFSETTO:+0100
TZNAME:CET
DTSTART:20221030T010000
END:STANDARD
BEGIN:DAYLIGHT
TZOFFSETFROM:+0100
TZOFFSETTO:+0200
TZNAME:CEST
DTSTART:20230326T010000
END:DAYLIGHT
BEGIN:STANDARD
TZOFFSETFROM:+0200
TZOFFSETTO:+0100
TZNAME:CET
DTSTART:20231029T010000
END:STANDARD
BEGIN:DAYLIGHT
TZOFFSETFROM:+0100
TZOFFSETTO:+0200
TZNAME:CEST
DTSTART:20240331T010000
END:DAYLIGHT
BEGIN:STANDARD
TZOFFSETFROM:+0200
TZOFFSETTO:+0100
TZNAME:CET
DTSTART:20241027T010000
END:STANDARD
END:VTIMEZONE
BEGIN:VEVENT
DTSTART;TZID=Europe/Bratislava:20230329T170000
DTEND;TZID=Europe/Bratislava:20230329T213000
DTSTAMP:20260424T031520
CREATED:20230323T105606Z
LAST-MODIFIED:20230323T105606Z
UID:46364-1680109200-1680125400@metalexpress.sk
SUMMARY:Heagemonie metálovej náladotvorby v Prahe: Cult of Luna spoločne s Russian Cyrcles
DESCRIPTION:CULT OF LUNA\, RUSSIAN CIRCLES\, SVALBARD\n29. 3. 2023 – Praha\, Roxy\nFB event: https://fb.me/e/Ay2X8PXN\ne-TICKET: http://obscure.cz/cs/tickets/detail/id/502 \nNekorunovaní lídři post-metalu ze Švédska do Prahy vezou novou desku a doprovod by lákavější už být nemohl. Dlouhá cesta CULT OF LUNA ze Severu je spojila s legendárním chicagským post-triem RUSSIAN CIRCLES. CULT OF LUNA patří mezi kapely\, které představují celkovou vizi do detailu promyšleného konceptu. Jejich alba tak jsou zážitkem\, který koncerty pro jejich vizuální promyšlenost posunují ještě o úroveň výš. Zvukový i světelný design\, načasování a synchronizace\, rozestavění na pódiu. Vše propojuje idea.\nŠvédský sextet čítající duo bubeníků chce pokaždé přijít s něčím svěžím\, neokoukaným a odhalit předtím neprobádaná místa s cílem posunovat hranice žánru\, kterých za jejich 25letou kariéru ubývá. Loni se vydali na Sever a opět vytvořili zvuk\, který je s ostatními nesrovnatelný. Ambiciózní\, epický a nasycený emocemi\, které v písních se stopáží často přes osm minut explodují nejen v přesně daný okamžik\, ale rezonují každým okamžikem.\nS albem “A Dawn To Fear” (2019) pravděpodobně přinesli vrchol své kariéry a na EP “The Raging River” (2021) v cestě touto deskou započatou pokračovali. Každá cesta má ale svůj konec a cíl. Tím se ukázal Sever. Na loňském albu The Long Road North\, za jednom z nejdynamičtějších a zároveň nejkrásnějších děl atmo-metalových žánrů\, nekorunovaní lídři post-metalu koncept dotahují k dokonalosti.\nNa turné k aktuální desce švédská hegemonie spojuje síly s instrumentálním post-triem RUSSIAN CIRCLES. Tyhle už též legendy na svých předchozích sedmi albech prošli rozmanitou topografií zvuků\, nálad a přístupů\, kde se mísí i drone meditace\, progresivní přístup\, silný riffing\, podmanivá baladičnost i napětím nabitý noise rock. Vždy ale za zachování konzistence.\nNa posledním albu Gnosis však RUSSIAN CIRCLES vinou okolností izolace v covidu přehodnotili proces komponování a namísto skládání z útržkovitých nápadů byly písně napsány a nahrány samostatně\, než se o ně autoři podělili s ostatními členy. Chicagští novou metodou vytvořili své dosud nejvypjatější a nejkoncentrovanější dílo – album\, které upřednostňuje vymítání dvouletého napětí před melancholií a určitou zdrženlivostí\, jež často podbarvovaly jejich minulé počiny. A je to síla! Šňůru s nimi sdílí ještě angličtí SVALBARD\, kteří své atmosférické hudební vize doplněné dvěma hlasy usazují do d-beatového rytmu a ve zvuku u nich lze zaznamenat i euforičtější blackové nebo post-rockové pasáže. \nText Obscure Promotion
URL:https://metalexpress.sk/event/heagemonie-metalovej-naladotvorby-v-prahe-cult-of-luna-spolocne-s-russian-cyrcles/
LOCATION:Roxy Praha\, Dlouhá 33\, Praha 1\, Czech Republic\, Praha\, Praha 1\, Česká republika
CATEGORIES:Udalosti
ATTACH;FMTTYPE=image/jpeg:https://metalexpress.sk/wp-content/uploads/2023/03/story-cult-of-luna-2022-praha.jpg
ORGANIZER;CN="Obscure Promotion":MAILTO:filip@obscure.cz
END:VEVENT
END:VCALENDAR