BEGIN:VCALENDAR
VERSION:2.0
PRODID:-//MetalExpress - ECPv6.15.19//NONSGML v1.0//EN
CALSCALE:GREGORIAN
METHOD:PUBLISH
X-WR-CALNAME:MetalExpress
X-ORIGINAL-URL:https://metalexpress.sk
X-WR-CALDESC:Udalosti pre MetalExpress
REFRESH-INTERVAL;VALUE=DURATION:PT1H
X-Robots-Tag:noindex
X-PUBLISHED-TTL:PT1H
BEGIN:VTIMEZONE
TZID:Europe/Bratislava
BEGIN:DAYLIGHT
TZOFFSETFROM:+0100
TZOFFSETTO:+0200
TZNAME:CEST
DTSTART:20220327T010000
END:DAYLIGHT
BEGIN:STANDARD
TZOFFSETFROM:+0200
TZOFFSETTO:+0100
TZNAME:CET
DTSTART:20221030T010000
END:STANDARD
BEGIN:DAYLIGHT
TZOFFSETFROM:+0100
TZOFFSETTO:+0200
TZNAME:CEST
DTSTART:20230326T010000
END:DAYLIGHT
BEGIN:STANDARD
TZOFFSETFROM:+0200
TZOFFSETTO:+0100
TZNAME:CET
DTSTART:20231029T010000
END:STANDARD
BEGIN:DAYLIGHT
TZOFFSETFROM:+0100
TZOFFSETTO:+0200
TZNAME:CEST
DTSTART:20240331T010000
END:DAYLIGHT
BEGIN:STANDARD
TZOFFSETFROM:+0200
TZOFFSETTO:+0100
TZNAME:CET
DTSTART:20241027T010000
END:STANDARD
END:VTIMEZONE
BEGIN:VEVENT
DTSTART;TZID=Europe/Bratislava:20230324T170000
DTEND;TZID=Europe/Bratislava:20230324T170000
DTSTAMP:20260424T045320
CREATED:20230322T075243Z
LAST-MODIFIED:20230322T075243Z
UID:46348-1679677200-1679677200@metalexpress.sk
SUMMARY:METAL ON METAL - koncert legiend v Banskej Bystrici
DESCRIPTION:METAL ON METAL – koncert legiend \nURBAN SPOT ( bývalé kino Hviezda)\n24.3.2022 (piatok) \n18.00 otvorenie klubu\n19.00 Under My Issue\n20.00 Abstract\n21.20 DEREŠ\n22.45 HEMATIT \nHEMATIT\nReunion legendy v pôvodnej zostave\nDEREŠ\nHard Rock legenda so zbojníckym hitom NA PANSKÉ\nABSTRACT\nBanskobystrická Heavy inštrumentálna legenda \nhosť: Under My Issue\nMladá Metalová krv \nMiesto: URBAN SPOT Banská Bystrica\nTermín: 24.3.2023\nČas: 19.00 h.\nPredpredaj vstupeniek: 12€\nhttps://www.ticketlive.sk/sk/event/metal-on-metal-banska-bystrica-24-03-2023?fbclid=IwAR3kwRWMxN4364-EB4PIfoXkZ2xCGI6wnsOLT1VFWKAXcH4cfvJL1qC9EJ4\nVstupné na mieste: 15€ \nText prebratý z udalosti na FB
URL:https://metalexpress.sk/event/metal-on-metal-koncert-legiend-v-banskej-bystrici/
LOCATION:Urban Spot Banská Bystrica\, Skuteckého 3\, Banská Bystrica\, Banská Bystrica\, Banskobystrický kraj\, Slovenská republika
CATEGORIES:Udalosti
ATTACH;FMTTYPE=image/jpeg:https://metalexpress.sk/wp-content/uploads/2023/03/331082106_995451254752949_8984984939356706669_n.jpg
END:VEVENT
BEGIN:VEVENT
DTSTART;TZID=Europe/Bratislava:20230324T180000
DTEND;TZID=Europe/Bratislava:20230324T210000
DTSTAMP:20260424T045320
CREATED:20230323T104439Z
LAST-MODIFIED:20230323T104439Z
UID:46358-1679680800-1679691600@metalexpress.sk
SUMMARY:Nostalgia ako sa patrí! Iron Maiden Revival v DK Dúbravka tento piatok!
DESCRIPTION:Dom kultúry Dúbravka bol kedysi bratislavskou mekkou tvrdšej hudby. Iron Maiden Revival Bratislava pripravil kompletnú show z rokov 2003-2004 sprevádzajúcu vydanie albumu Dance of Death. Tešiť sa môžete na všetky skladby z daného turné vrátane kulís a ďalších rekvizít…\nIRON MAIDEN REVIVAL BRATISLAVA\nhttps://www.facebook.com/IronMaidenRevivalBratislava \nTento večer otvorí svojím programom kapela AC/DC revival Bratislava.\nhttps://www.facebook.com/Acdcbratislava\nListky na ticketportal predpredaj (7€)\nNa mieste (9€)\nDvere 19:00 \nFB udalosť:\nhttps://fb.me/e/2YUPqa6A5 \nText Iron Maiden Revival
URL:https://metalexpress.sk/event/nostalgia-ako-sa-patri-iron-maiden-revival-v-dk-dubravka-tento-piatok/
LOCATION:DK Dúbravka\, Saratovská 2/A\, Bratislava\, Bratislava\, Bratislavský Kraj\, 841 02\, Slovenská republika
CATEGORIES:Udalosti
ATTACH;FMTTYPE=image/jpeg:https://metalexpress.sk/wp-content/uploads/2023/03/329541672_2244230032435428_5711876482912352907_n.jpg
END:VEVENT
END:VCALENDAR