BEGIN:VCALENDAR
VERSION:2.0
PRODID:-//MetalExpress - ECPv6.15.19//NONSGML v1.0//EN
CALSCALE:GREGORIAN
METHOD:PUBLISH
X-WR-CALNAME:MetalExpress
X-ORIGINAL-URL:https://metalexpress.sk
X-WR-CALDESC:Udalosti pre MetalExpress
REFRESH-INTERVAL;VALUE=DURATION:PT1H
X-Robots-Tag:noindex
X-PUBLISHED-TTL:PT1H
BEGIN:VTIMEZONE
TZID:Europe/Bratislava
BEGIN:DAYLIGHT
TZOFFSETFROM:+0100
TZOFFSETTO:+0200
TZNAME:CEST
DTSTART:20220327T010000
END:DAYLIGHT
BEGIN:STANDARD
TZOFFSETFROM:+0200
TZOFFSETTO:+0100
TZNAME:CET
DTSTART:20221030T010000
END:STANDARD
BEGIN:DAYLIGHT
TZOFFSETFROM:+0100
TZOFFSETTO:+0200
TZNAME:CEST
DTSTART:20230326T010000
END:DAYLIGHT
BEGIN:STANDARD
TZOFFSETFROM:+0200
TZOFFSETTO:+0100
TZNAME:CET
DTSTART:20231029T010000
END:STANDARD
BEGIN:DAYLIGHT
TZOFFSETFROM:+0100
TZOFFSETTO:+0200
TZNAME:CEST
DTSTART:20240331T010000
END:DAYLIGHT
BEGIN:STANDARD
TZOFFSETFROM:+0200
TZOFFSETTO:+0100
TZNAME:CET
DTSTART:20241027T010000
END:STANDARD
END:VTIMEZONE
BEGIN:VEVENT
DTSTART;TZID=Europe/Bratislava:20230310T180000
DTEND;TZID=Europe/Bratislava:20230310T220000
DTSTAMP:20260424T045320
CREATED:20230306T094147Z
LAST-MODIFIED:20230306T094147Z
UID:46208-1678471200-1678485600@metalexpress.sk
SUMMARY:Chliev #1 - Distax\, Rats Get Fat\, Nerva\, Diktät v Collosseum Clube tento piatok!
DESCRIPTION:CHLIEV #1\n10/03/2023 – 19:00!!! (bez sklzu\, neda sa)\n777 – Collosseum Club\, Košice\n———————————–\nDISTAX (neocrust\, Poprad) – 21:20\nhttps://distax.bandcamp.com\nhttps://www.facebook.com/distaxband \nRATS GET FAT (melodic chaotic hardcore\, Žilina) – 20:20\nhttps://ratsgetfat.bandcamp.com\nhttps://www.facebook.com/ratsgetfat \nNERVA (hardcore punk\, Košice) – 19:30\nhttps://nervapunx.bandcamp.com\nhttps://www.facebook.com/nervapunx \nDIKTÄT (d-beat crust\, Poprad) – 19:00\nhttps://diktaat.bandcamp.com \n———————————–\nVSTUP: 5-10€ (rozhodni sa podľa seba\, máš cca predstavu koľko na také akcie chodí ľudí) \nNÁKLADY:\n– 200€ kapely\n– 200€ klub\, ubytovanie..\n– 50€ chalo pre kapely\, chalo pre vás\n– na koncerte bude k dispozícii navareného plno jedla\, za ktoré ak zaplatíš\, pomôžeš tomu\, aby akcia nebola v strate\n– fajči sa na prízemí\n– GNWP\n– prečítaj si „manifest“ Chliev-u \nInformácie prebraté z udalosti na Facebooku
URL:https://metalexpress.sk/event/chliev-1-distax-rats-get-fat-nerva-diktat-v-collosseum-clube-tento-piatok/
LOCATION:Collosseum\, Dominikánske námestie 35\, Košice\, Košice\, 04001\, Slovenská republika
CATEGORIES:Udalosti
ATTACH;FMTTYPE=image/jpeg:https://metalexpress.sk/wp-content/uploads/2023/03/328497783_1141199589895051_839411317539404359_n.jpg
END:VEVENT
BEGIN:VEVENT
DTSTART;TZID=Europe/Bratislava:20230310T180000
DTEND;TZID=Europe/Bratislava:20230310T223000
DTSTAMP:20260424T045320
CREATED:20230306T094752Z
LAST-MODIFIED:20230306T094752Z
UID:46212-1678471200-1678487400@metalexpress.sk
SUMMARY:HYPNOS & DOOMAS + IRDORATH + PATRIARCHA v Nitre!
DESCRIPTION:Česká death metalová skupina HYPNOS\, na čele ktorej stojí bývalý člen Krabathor\, Bruno\, vyráža podporiť svoj posledný album „The Blackcrow“. To síce vyšlo už na jeseň 2020\, ale plánované turné na jeho podporu bolo niekoľkokrát preložené kvôli reštrikciám spojeným s Covidom19. Nová doska svojou koncepciou nadväzuje na svojho predchodcu „The Whitecrow“ z roku 2017 a venuje sa tentoraz temnejším stránkam ľudskej mysle a vzorcom správania. O vydanie CD verzie sa opäť postarala nemecká firma Einheit Produktionen\, LP potom vyšlo u českých Monster Nation.\nNa turné plánovanom naprieč 4 európskymi štátmi – Českou republikou\, Slovenskom\, Rakúskom podpora HYPNOS skúsení Slováci DOOMAS svojou fúziou death a doom metalu\, ktorí tiež na\nkoncertoch predstaví svoj nový album „R´Lyeh“\, ktorý vychádza práce v týchto dňoch u Gothoom Productions.\nAko support k tejto zástavke odohrá slovenská kapela Patriarcha a rakúska black metalová kapela Irdorath.   \nText prebratý z Facebook udalosti
URL:https://metalexpress.sk/event/hypnos-doomas-irdorath-patriarcha-v-nitre/
LOCATION:Frankie Rock Club\, Mostná 42\, Nitra\, Slovakia\, Nitra\, Nitra\, Slovenská republika
CATEGORIES:Udalosti
ATTACH;FMTTYPE=image/jpeg:https://metalexpress.sk/wp-content/uploads/2023/03/333225306_1134542680546939_7363472347504143570_n.jpg
END:VEVENT
END:VCALENDAR