BEGIN:VCALENDAR
VERSION:2.0
PRODID:-//MetalExpress - ECPv6.15.19//NONSGML v1.0//EN
CALSCALE:GREGORIAN
METHOD:PUBLISH
X-WR-CALNAME:MetalExpress
X-ORIGINAL-URL:https://metalexpress.sk
X-WR-CALDESC:Udalosti pre MetalExpress
REFRESH-INTERVAL;VALUE=DURATION:PT1H
X-Robots-Tag:noindex
X-PUBLISHED-TTL:PT1H
BEGIN:VTIMEZONE
TZID:Europe/Bratislava
BEGIN:DAYLIGHT
TZOFFSETFROM:+0100
TZOFFSETTO:+0200
TZNAME:CEST
DTSTART:20220327T010000
END:DAYLIGHT
BEGIN:STANDARD
TZOFFSETFROM:+0200
TZOFFSETTO:+0100
TZNAME:CET
DTSTART:20221030T010000
END:STANDARD
BEGIN:DAYLIGHT
TZOFFSETFROM:+0100
TZOFFSETTO:+0200
TZNAME:CEST
DTSTART:20230326T010000
END:DAYLIGHT
BEGIN:STANDARD
TZOFFSETFROM:+0200
TZOFFSETTO:+0100
TZNAME:CET
DTSTART:20231029T010000
END:STANDARD
BEGIN:DAYLIGHT
TZOFFSETFROM:+0100
TZOFFSETTO:+0200
TZNAME:CEST
DTSTART:20240331T010000
END:DAYLIGHT
BEGIN:STANDARD
TZOFFSETFROM:+0200
TZOFFSETTO:+0100
TZNAME:CET
DTSTART:20241027T010000
END:STANDARD
END:VTIMEZONE
BEGIN:VEVENT
DTSTART;TZID=Europe/Bratislava:20230304T180000
DTEND;TZID=Europe/Bratislava:20230304T223000
DTSTAMP:20260424T045255
CREATED:20230227T183513Z
LAST-MODIFIED:20230227T183513Z
UID:46094-1677952800-1677969000@metalexpress.sk
SUMMARY:Orkrist\, Gloom\, Bloody Redemption v Košiciach!
DESCRIPTION:Prinasame vam pestry koncert troch metalovych skupin a troch roznych metalovych pod-zanrov\, avsak so spolocnou vasnou pre tvrdu muziku\, kde verime\, ze si vyberiete.\nBloody Redemption – classic death metal. Chalani maju na konte 2 albumy a skusenosti s koncertovanim po Slovensku\, v Cechach a v Madarsku. Predskakovali kapelam ako Suffocation\, Vital Remains\, ci Jungle Rot. Kapela je vdaka poslednemu albumu Hit to the Gore z minuleho roku na vzostupe\, cakaju ju festivaly v CR\, ci koncert s Maceration. Mozete sa tesit na kvalitnu naloz poctiveho death metalu.\n \nKapelu Gloom netreba na východnom Slovensku nikomu predstavovať. Na konte majú 3 albumy\, nemálo koncertov a spústu pozitívnych reakcíí za posledný album „Awaken“. Podmanivý melancholický gotický metal s čistým mužským a doplňujúcim ženským spevom si môžete vychnutnať naživo s novou koncertnou posilou na gitare.\n \nOrkrist sú známa kapela hrajúca atmosferický black/doom metal\, kde sa okrem tradičných nástrojov môžete tešiť aj na ženský spev a flautu. Skupina hrala na východe naposledy v júni 2022 na Dobrom Festivale. Koncertný program budú tvoriť skladby z čerstvo vydaného albumu “LUEA”\, ale aj osvedčené stare klasiky z rokov 2002-2003.\n \nDátum: 04.03.2023\nMiesto: Collosseum\, Košice\nVstup: 10 €\nFB Event: https://www.facebook.com/events/1230686704472151/ \nText prebratý z FB udalosti
URL:https://metalexpress.sk/event/orkrist-gloom-bloody-redemption-v-kosiciach/
LOCATION:Collosseum\, Dominikánske námestie 35\, Košice\, Košice\, 04001\, Slovenská republika
CATEGORIES:Udalosti
ATTACH;FMTTYPE=image/jpeg:https://metalexpress.sk/wp-content/uploads/2023/02/317090876_659855978922852_212921910903820984_n.jpg
END:VEVENT
BEGIN:VEVENT
DTSTART;TZID=Europe/Bratislava:20230304T190000
DTEND;TZID=Europe/Bratislava:20230304T223000
DTSTAMP:20260424T045255
CREATED:20230227T213824Z
LAST-MODIFIED:20230227T213824Z
UID:46099-1677956400-1677969000@metalexpress.sk
SUMMARY:Večer HNUSU II v sobotu v Nitre!
DESCRIPTION:Už túto sobotu sa v Nitre v dome podniku DOMOF Creativity uskutoční koncert troch slovenských kapiel. Vystúpi tu death metal v podaní Circular Saw\, black doom drone metal z Nitry s exotickým názvom Samūhaya a Zero Tolerance so svojim HC-nu-metalom z neďalekých Topoľčian. Zvyšok informácií nájdete nižšie\, rovnako ako aj na Facebook udalosti.  \nCircular Saw (Šurany) – Death Metal\nhttps://circularsawsurany.bandcamp.com \nSamūhaya (Nitra) – Black/Doom/Drone Metal \nhttps://samuhaya.bandcamp.com \nZero Tolerance (Topoľčany) – Nu-metal/Hardcore \nhttps://bandzone.cz/zerotolerance \nDátum: 4. 3. 2023\nštart: 20.00\nMiesto: Domof creativity\, Štefánikova tr. 14\, NITRA – pešia zóna\nVstup: 3€\nFB Udalosť: https://www.facebook.com/events/580101433641954/
URL:https://metalexpress.sk/event/vecer-hnusu-ii-v-sobotu-v-nitre/
LOCATION:Domof Creativity Nitra\, Štefánikova tr. 14\, Nitra\, Slovakia\, Nitra\, Nitra\, Slovenská republika
CATEGORIES:Udalosti
ATTACH;FMTTYPE=image/jpeg:https://metalexpress.sk/wp-content/uploads/2023/02/328507653_567848715280146_4641963455326021800_n.jpg
END:VEVENT
END:VCALENDAR