BEGIN:VCALENDAR
VERSION:2.0
PRODID:-//MetalExpress - ECPv6.15.19//NONSGML v1.0//EN
CALSCALE:GREGORIAN
METHOD:PUBLISH
X-ORIGINAL-URL:https://metalexpress.sk
X-WR-CALDESC:Udalosti pre MetalExpress
REFRESH-INTERVAL;VALUE=DURATION:PT1H
X-Robots-Tag:noindex
X-PUBLISHED-TTL:PT1H
BEGIN:VTIMEZONE
TZID:Europe/Bratislava
BEGIN:DAYLIGHT
TZOFFSETFROM:+0100
TZOFFSETTO:+0200
TZNAME:CEST
DTSTART:20220327T010000
END:DAYLIGHT
BEGIN:STANDARD
TZOFFSETFROM:+0200
TZOFFSETTO:+0100
TZNAME:CET
DTSTART:20221030T010000
END:STANDARD
BEGIN:DAYLIGHT
TZOFFSETFROM:+0100
TZOFFSETTO:+0200
TZNAME:CEST
DTSTART:20230326T010000
END:DAYLIGHT
BEGIN:STANDARD
TZOFFSETFROM:+0200
TZOFFSETTO:+0100
TZNAME:CET
DTSTART:20231029T010000
END:STANDARD
BEGIN:DAYLIGHT
TZOFFSETFROM:+0100
TZOFFSETTO:+0200
TZNAME:CEST
DTSTART:20240331T010000
END:DAYLIGHT
BEGIN:STANDARD
TZOFFSETFROM:+0200
TZOFFSETTO:+0100
TZNAME:CET
DTSTART:20241027T010000
END:STANDARD
END:VTIMEZONE
BEGIN:VEVENT
DTSTART;TZID=Europe/Bratislava:20230228T180000
DTEND;TZID=Europe/Bratislava:20230228T223000
DTSTAMP:20260424T045317
CREATED:20230225T105045Z
LAST-MODIFIED:20230225T105045Z
UID:46080-1677607200-1677623400@metalexpress.sk
SUMMARY:BATUSHKA / HATE / SUMMONER'S CIRCLE / PARADISE IN FLAMES v utorok v Randali!
DESCRIPTION:Pravoslávni kňazi black metalu BATUSHKA prichádza počas svojho európskeho turné aj na Slovensko\, kde predstavia svoj nový album „MARIA“! Na cestách po Európe ich budú sprevádzať bratia z Poľského kraja HATE! \nBATUSHKA (PL) – Black Metal\nFB: https://www.facebook.com/Batushkaband\n \nHATE (PL) – Blackened Death Metal\nFB: https://www.facebook.com/HATEOFFICIAL\n \nSUMMONER’S CIRCLE (UK) – Doom metal\nFB: https://www.facebook.com/summonerscircle\nhttps://www.youtube.com/watch?v=J9WRkaIPxi0 \nPARADISE IN FLAMES (BRA) – Black metal\nFB: https://www.facebook.com/paradiseinflamesband\n \nDÁTUM: 28.02.2023\nMIESTO: Randal Music Club\, Bratislava\nVSTUP: 22 € v predpredaji\nhttps://predpredaj.zoznam.sk/sk/listky/batushka-hate-support-2023-02-28/?fbclid=IwAR060pgKl69-WDvKSvdTpl2v0MKIF_FKdUSInsLQi1Iv9fCuvTnSi56XjcY\nFB Udalosť: https://www.facebook.com/events/809558713608192/
URL:https://metalexpress.sk/event/batushka-hate-summoners-circle-paradise-in-flames-v-utorok-v-randali/
LOCATION:Randal Music Club\, Karpatská 2\, Bratislava\, Bratislava\, Bratislavský Kraj\, 81105\, Slovenská republika
CATEGORIES:Udalosti
ATTACH;FMTTYPE=image/jpeg:https://metalexpress.sk/wp-content/uploads/2023/02/326569851_3317881611759078_7882197342291322246_n.jpg
END:VEVENT
END:VCALENDAR