BEGIN:VCALENDAR
VERSION:2.0
PRODID:-//MetalExpress - ECPv6.15.19//NONSGML v1.0//EN
CALSCALE:GREGORIAN
METHOD:PUBLISH
X-ORIGINAL-URL:https://metalexpress.sk
X-WR-CALDESC:Udalosti pre MetalExpress
REFRESH-INTERVAL;VALUE=DURATION:PT1H
X-Robots-Tag:noindex
X-PUBLISHED-TTL:PT1H
BEGIN:VTIMEZONE
TZID:Europe/Bratislava
BEGIN:DAYLIGHT
TZOFFSETFROM:+0100
TZOFFSETTO:+0200
TZNAME:CEST
DTSTART:20220327T010000
END:DAYLIGHT
BEGIN:STANDARD
TZOFFSETFROM:+0200
TZOFFSETTO:+0100
TZNAME:CET
DTSTART:20221030T010000
END:STANDARD
BEGIN:DAYLIGHT
TZOFFSETFROM:+0100
TZOFFSETTO:+0200
TZNAME:CEST
DTSTART:20230326T010000
END:DAYLIGHT
BEGIN:STANDARD
TZOFFSETFROM:+0200
TZOFFSETTO:+0100
TZNAME:CET
DTSTART:20231029T010000
END:STANDARD
BEGIN:DAYLIGHT
TZOFFSETFROM:+0100
TZOFFSETTO:+0200
TZNAME:CEST
DTSTART:20240331T010000
END:DAYLIGHT
BEGIN:STANDARD
TZOFFSETFROM:+0200
TZOFFSETTO:+0100
TZNAME:CET
DTSTART:20241027T010000
END:STANDARD
END:VTIMEZONE
BEGIN:VEVENT
DTSTART;TZID=Europe/Bratislava:20230225T180000
DTEND;TZID=Europe/Bratislava:20230225T180000
DTSTAMP:20260424T075311
CREATED:20230221T091519Z
LAST-MODIFIED:20230221T091519Z
UID:46046-1677348000-1677348000@metalexpress.sk
SUMMARY:Progový atak všetkými farbami v Prahe!
DESCRIPTION:HAKEN & BETWEEN THE BURIED AND ME\, CRYPTODIRA\n25. 2. 2023 – Praha\, Palác Akropolis\nEvent: https://fb.me/e/2agH21ZIF\ne-TICKET: https://obscure.cz/cs/tickets/detail/id/517 \nTo\, čím jsou jsou HAKEN pro Brity\, jsou BETWEEN THE BURIED AND ME pro Američany. Jejich pravděpodobně nejzajímavější a nejúspěšnější progresivní kapely střední generace.\nI když jsou ve svých domovinách oba soubory „nošeny na rukou“\, nemenší popularitě se těší v Evropě a i u nás v Čechách\, kterou si oba spolky během let u posluchačsky náročných fanoušků získaly svými sofistikovanými alby i famózními koncerty.A na turné Island In Limbo s sebou obě kapely přivezou svá nejnovější alba: HAKEN na začátku března vydávají novinku „Fauna“\, z níž poslední měsíce vypouští famózní singly\, BETWEEN THE BURIED AND ME v roce 2021 přesvědčili už desátým dílem „Colors II“\, které vzniklo namísto covidem přerušeného plánovaného turné k jejich 20. výročí.\nTěšte se tedy na průřezy širokou tvorbou obou kapel\, ale též na hudebně nespoutané Američany CRYPTODIRA. Jejich forma experimentálního prog-death metalu umí být jak intenzivní a ostrá\, tak rozvolněná i konejšivá\, kdy často dochází až někam k post-metalu/rocku.Návštěva společného turné HAKEN & BETWEEN THE BURIED AND ME v Paláci Akropolis je absolutní povinnost pro každého fanouška progresivních směrů v současné metalové hudbě.\n\nVstupenky v prodeji i v síti Ticketmaster a GoOut.\nText Obscure Promotion
URL:https://metalexpress.sk/event/progovy-atak-vsetkymi-farbami-v-prahe/
LOCATION:Palac Akropolis Praha\, Kubelíkova 27\, Prague\, Czech Republic\, Praha\, Praha\, Česká republika
CATEGORIES:Udalosti
ATTACH;FMTTYPE=image/jpeg:https://metalexpress.sk/wp-content/uploads/2023/02/poster-haken-2023-praha.jpg
END:VEVENT
BEGIN:VEVENT
DTSTART;TZID=Europe/Bratislava:20230225T180000
DTEND;TZID=Europe/Bratislava:20230225T220000
DTSTAMP:20260424T075311
CREATED:20230221T120613Z
LAST-MODIFIED:20230221T120613Z
UID:46074-1677348000-1677362400@metalexpress.sk
SUMMARY:HYPNOS & DOOMAS v sobotu v Bratislave!
DESCRIPTION:Česká death metalová skupina HYPNOS\, na čele ktorej stojí bývalý člen Krabathor\, Bruno\, vyráža podporiť svoj posledný album „The Blackcrow“. To síce vyšlo už na jeseň 2020\, ale plánované\nturné na jeho podporu bolo niekoľkokrát preložené kvôli reštrikciám spojeným s Covidom19. Nová doska svojou koncepciou nadväzuje na svojho predchodcu „The Whitecrow“ z roku 2017 a venuje sa tentoraz temnejším stránkam ľudskej mysle a vzorcom správania. O vydanie CD verzie sa opäť postarala nemecká firma Einheit Produktionen\, LP potom vyšlo u českých Monster Nation. \nNa turné plánovanom naprieč 4 európskymi štátmi – Českou republikou\, Slovenskom\, Rakúskom podpora HYPNOS skúsení Slováci DOOMAS svojou fúziou death a doom metalu\, ktorí tiež na\nkoncertoch predstaví svoj nový album „R´Lyeh“\, ktorý vychádza práce v týchto dňoch u Gothoom Productions.\nAko support pre toto mesto vystúpi slovenská kapela Patriarcha.  \nDátum: 24.02.2023\nMiesto: Randal Klub\, Bratislava\nVstup: 10 €\nFB Udalosť: https://www.facebook.com/events/1158269884880177/\n\nProgram:\n19:30- PATRIARCHA\n20:30- DOOMAS\n21:30- HYPNOS \nText prebratý z FB udalosti
URL:https://metalexpress.sk/event/hypnos-doomas-v-sobotu-v-bratislave/
LOCATION:Randal Music Club\, Karpatská 2\, Bratislava\, Bratislava\, Bratislavský Kraj\, 81105\, Slovenská republika
CATEGORIES:Udalosti
ATTACH;FMTTYPE=image/jpeg:https://metalexpress.sk/wp-content/uploads/2023/02/332075611_1928826997456644_3091878635466095020_n.jpg
END:VEVENT
BEGIN:VEVENT
DTSTART;TZID=Europe/Bratislava:20230225T180000
DTEND;TZID=Europe/Bratislava:20230225T223000
DTSTAMP:20260424T075311
CREATED:20230221T115305Z
LAST-MODIFIED:20230221T115305Z
UID:46065-1677348000-1677364200@metalexpress.sk
SUMMARY:CrashTest vol. 5 sa uskutoční už túto sobotu v Kulturáku!
DESCRIPTION:Tak a je to tu zas! Úspešne dosviatkované a teraz treba všetky vianočné\, silvestrovské\, novoročné a iné šmaky vypotiť ako inak ako v pite. Už 25. februára sa teda už po piaty krát opäť uvidíme v domovskom Kulturák klube\, kde vás príde rozhýbať tradične pätica nabrúsených kapiel\, ktoré sú tým najlepším\, čo Slovensko a Česko v danom žánri ponúka. A že sa nám tentokrát podaril silný line-up!\nSleduj to:\nSILENT GENERATION (nu-beatdown/deathcore\, Praha)\nhttps://open.spotify.com/artist/2mrqd8oFHS1uk60xeqOW0z…\nABYSS ABOVE (deathcore\, Prešov)\nhttps://open.spotify.com/artist/0scPLkLLKJ1iEr4cnCVQ9m…\nSTERCORE (deathcore\, Prievidza)\nhttps://open.spotify.com/artist/1FaSH1mAXftP0W4txYyOhb…\nSHATTERED MIND (metalcore\, Bratislava)\nhttps://open.spotify.com/artist/6PKWiKKloPc40hmhIcdFII…\nDEFEND YOUR KINGDOM (melodic hardcore/metalcore\, Bratislava)\nhttps://open.spotify.com/artist/4F2nwU424sxQe9kGCyJGSL… \nDátum: 25.02.2023\nMiesto: Kulturák\, Bratislava\nVstup: 10 Eur\nFB Udalosť: https://www.facebook.com/events/535366191886514/\n\nText prebratý z FB udalosti
URL:https://metalexpress.sk/event/crashtest-vol-5-sa-uskutocni-uz-tuto-sobotu-v-kulturaku/
LOCATION:Kulturák\, Štefánikova 47\, Bratislava\, Slovakia\, Bratislava\, Bratislavský Kraj\, 811 04\, Slovenská republika
CATEGORIES:Udalosti
ATTACH;FMTTYPE=image/jpeg:https://metalexpress.sk/wp-content/uploads/2023/02/323008119_6400576243303306_8651052123140269667_n.jpg
END:VEVENT
END:VCALENDAR