BEGIN:VCALENDAR
VERSION:2.0
PRODID:-//MetalExpress - ECPv6.15.19//NONSGML v1.0//EN
CALSCALE:GREGORIAN
METHOD:PUBLISH
X-ORIGINAL-URL:https://metalexpress.sk
X-WR-CALDESC:Udalosti pre MetalExpress
REFRESH-INTERVAL;VALUE=DURATION:PT1H
X-Robots-Tag:noindex
X-PUBLISHED-TTL:PT1H
BEGIN:VTIMEZONE
TZID:Europe/Bratislava
BEGIN:DAYLIGHT
TZOFFSETFROM:+0100
TZOFFSETTO:+0200
TZNAME:CEST
DTSTART:20220327T010000
END:DAYLIGHT
BEGIN:STANDARD
TZOFFSETFROM:+0200
TZOFFSETTO:+0100
TZNAME:CET
DTSTART:20221030T010000
END:STANDARD
BEGIN:DAYLIGHT
TZOFFSETFROM:+0100
TZOFFSETTO:+0200
TZNAME:CEST
DTSTART:20230326T010000
END:DAYLIGHT
BEGIN:STANDARD
TZOFFSETFROM:+0200
TZOFFSETTO:+0100
TZNAME:CET
DTSTART:20231029T010000
END:STANDARD
BEGIN:DAYLIGHT
TZOFFSETFROM:+0100
TZOFFSETTO:+0200
TZNAME:CEST
DTSTART:20240331T010000
END:DAYLIGHT
BEGIN:STANDARD
TZOFFSETFROM:+0200
TZOFFSETTO:+0100
TZNAME:CET
DTSTART:20241027T010000
END:STANDARD
END:VTIMEZONE
BEGIN:VEVENT
DTSTART;TZID=Europe/Bratislava:20230216T180000
DTEND;TZID=Europe/Bratislava:20230216T223000
DTSTAMP:20260424T123128
CREATED:20230213T090910Z
LAST-MODIFIED:20230213T090910Z
UID:45950-1676570400-1676586600@metalexpress.sk
SUMMARY:CUTTING EDGE / ACORNHOEK / HOPE RED vo FUGE v BRATISLAVE!
DESCRIPTION:Dlhý večer plný pestrej\, tvrdej\, gitarovej muziky ti do bratislavskej Fugy prinášajú Cutting Edge\, Acornhoek a Hope Red. Dobré to bude!!!\n> CUTTING EDGE\nprogressive / groove metal\nhttps://www.youtube.com/watch?v=teioV0SDct0\n> ACORNHOEK\ntrash pop\nhttps://www.youtube.com/watch?v=O5dvz7XyPWY\n> HOPE RED\nhttps://www.youtube.com/wearehopered\n\nVideo pozvánka na koncert:\n \n\n\nMiesto: FUGA\, Bratislava\nDátum: 16.02.2023\nVstup: 5 €\nFB Udalosť: https://www.facebook.com/events/907423893779868/\nPoužitý text pochádza z FB udalosti
URL:https://metalexpress.sk/event/cutting-edge-acornhoek-hope-red-vo-fuge-v-bratislave/
LOCATION:FUGA\, Námestie SNP 24\, Bratislava\, Bratislavský Kraj\, Slovenská republika
CATEGORIES:Udalosti
ATTACH;FMTTYPE=image/jpeg:https://metalexpress.sk/wp-content/uploads/2023/02/322401772_6548165241865209_4525143764127124378_n.jpg
END:VEVENT
END:VCALENDAR