BEGIN:VCALENDAR
VERSION:2.0
PRODID:-//MetalExpress - ECPv6.15.19//NONSGML v1.0//EN
CALSCALE:GREGORIAN
METHOD:PUBLISH
X-WR-CALNAME:MetalExpress
X-ORIGINAL-URL:https://metalexpress.sk
X-WR-CALDESC:Udalosti pre MetalExpress
REFRESH-INTERVAL;VALUE=DURATION:PT1H
X-Robots-Tag:noindex
X-PUBLISHED-TTL:PT1H
BEGIN:VTIMEZONE
TZID:Europe/Bratislava
BEGIN:DAYLIGHT
TZOFFSETFROM:+0100
TZOFFSETTO:+0200
TZNAME:CEST
DTSTART:20220327T010000
END:DAYLIGHT
BEGIN:STANDARD
TZOFFSETFROM:+0200
TZOFFSETTO:+0100
TZNAME:CET
DTSTART:20221030T010000
END:STANDARD
BEGIN:DAYLIGHT
TZOFFSETFROM:+0100
TZOFFSETTO:+0200
TZNAME:CEST
DTSTART:20230326T010000
END:DAYLIGHT
BEGIN:STANDARD
TZOFFSETFROM:+0200
TZOFFSETTO:+0100
TZNAME:CET
DTSTART:20231029T010000
END:STANDARD
BEGIN:DAYLIGHT
TZOFFSETFROM:+0100
TZOFFSETTO:+0200
TZNAME:CEST
DTSTART:20240331T010000
END:DAYLIGHT
BEGIN:STANDARD
TZOFFSETFROM:+0200
TZOFFSETTO:+0100
TZNAME:CET
DTSTART:20241027T010000
END:STANDARD
END:VTIMEZONE
BEGIN:VEVENT
DTSTART;TZID=Europe/Bratislava:20230209T180000
DTEND;TZID=Europe/Bratislava:20230209T223000
DTSTAMP:20260424T075225
CREATED:20230202T161201Z
LAST-MODIFIED:20230202T161201Z
UID:45864-1675965600-1675981800@metalexpress.sk
SUMMARY:BULLET FOR MY VALENTINE\, JINJER a ATREYU už čoskoro v Prahe!
DESCRIPTION:BULLET FOR MY VALENTINE\, JINJER\, ATREYU\n9. 2. 2023 – Praha\, Forum Karlín\nFB event: https://fb.me/e/2URNJKWny\nPředprodej: https://ticketmaster.cz/event/40549 \nBULLET FOR MY VALENTINE si na prodejnost nosičů ani nezájem fanoušků nemohou stěžovat. S dnes už předposlední úspěšnou deskou se přesunuli do arén a odjeli ty největší koncerty. ‚Novou‘ deskou se velšský kvartet na fanoušky vrhl jak hladová hyena a aktuálním materiálem je na koncertě ve Foru Karlín zadupe do země. Obzvlášť když s nimi tour jedou ukrajinští JINJER a ATREYU ze Států!\nBULLET FOR MY VALENTINE patří mezi nejpopulárnější metalcorové kapely. Po zásluze. Svými prvními deskami (debutem „The Poison” především) nadefinovali britský metalcore a hlavně k této hudbě dokázali přitáhnout nové fanoušky. Napomohli tak žánr metalcoru zpopularizovat. Ještě dnes i po více než 18 letech si pamatujeme ten ‚wow moment‘\, když jsme poprvé slyšeli „Hand Of Blood” a hlavně „Scream Aim Fire”. Od té doby se BULLET FOR MY VALENTINE stali jednou z největších metalových kapel a prodali miliony alb po celém světě. A jak to o podobně úspěšných kapel bývá\, i BULLET FOR MY VALENTINE průběhem let experimentují se zvukem a dochází u nich k žánrovým přeskokům. Po tvrdším\, kořeny přiznávajícím období (album „Venom”) se BFMV na desce „Gravity“ přiklonili k popovějšímu vyznění a svezli na vlně moderního zvuku elektroniky a synťáků.\nProč sakra mění zvuk? Kam tímhle míří? Takové byly každodenně opakující se otázky fanoušků\, na níž má každý svou odpověď. Nazvat však „Gravity” přešlapem\, by bylo mylné. Ani na ní BFMV neztratili svou tvrdost\, jen na svůj sound pohlížejí jinak. Výsledkem je sice ‚stadiónový metálek’\, ale explozivní kolekce s vymazlenou produkcí má aranže domyšlené a skladby skvěle napsané. A přesně takovéto desky autorům dovolují vystoupit z davu a napomáhají jim se vyvíjet\, aby se pak mohli posunout dál. A tak BULLET FOR MY VALENTINE vydali sedmé\, eponymní album\, které je opět odvážnou kapitolou. Se slovy „bylo na čase\, abychom vydali opravdu naštvanou\, agresivní heavy desku\, s níž lidem\, obrazně řečeno\, urazíme hlavu” bylo vydáno jejich nejtvrdší a nejdivočejší album\, které je opět nabito sóly\, kytarovými vyhrávkami a monstrózními riffy. Forum Karlín tak čeká nespoutaná jízda\, kotel dravých melodií\, sól a nadupané rytmiky\, které k hudbě Velšanů už tradičně patří. \nJako velmi speciální hosté na koncertě vystoupí ukrajinští JINJER a Američané ATREYU!\nJINJER jsou díky neúnavné práci\, nepřetržitému koncertování a kritikou oceňovaným nahrávkám bezpochyby jednou z nejzajímavějších kapel moderního metalu posledních let. I přesto\, že kapela v čele s „andělem s ďáblem v těle“ Tatianou Shmayluk na pódiích tráví prakticky veškerý čas\, dokáže se hudebně posouvat a vyvíjet\, čehož důkazem je i aktuální deska „Wallflowers“.\nTa dokazuje\, že JINJER nejsou náhlý záblesk stavící na své femme fatale\, ale že za kapelou stojí talentovaní a kreativní muzikanti\, kteří v rámci ní vytvořili mnohem vážnější album s dotaženými písněmi. Tím jejich progressive groove metal získal temnější podtón a větší hloubku\, neb také reflektuje trýznivý stav dnešního světa. Vedle tvrdých pasáží jsou tu zajímavé a nevšedně se zaplétající melodie a mezi tyto těžké groovy a rytmické finesy zasazené chytlavé emotivní zpěvy\, které se vám zaryjí do hlavy. JINJER jsou promyšlený a svůdný nářez\, který intenzivně promlouvá vůči mladé metalové generaci.\nATREYU\, pojmenovaní podle hlavní postavy z fantasy Nekonečný příběh\, vznikli v jižní Kalifornii během rapmetalové exploze na přelomu století. Svůj hardcore na začátku nabourali kytarami a vokálem\, jež jejich materiálu dodával výrazný metalcore nádech\, ke kterému se nakonec svým současným post-hardcore výrazem a melodikou opravdu posunuli. Jako poslední na kontě po změně zpěváků mají výtečné album „Baptize“ (2021).\n\nBULLET FROM MY VALENTINE\n\n\n\n\n\n\nJINJER\n\n\n\n \nTlačová správa Obscure Promotion
URL:https://metalexpress.sk/event/bullet-for-my-valentine-jinjer-a-atreyu-uz-coskoro-v-prahe/
LOCATION:Forum Karlin\, Pernerova 51\, Prague\, Czech Republic\, Praha\, Praha\, Česká republika
CATEGORIES:Udalosti
ATTACH;FMTTYPE=image/jpeg:https://metalexpress.sk/wp-content/uploads/2023/02/poster-bullet-for-my-valentine-2023-praha.jpg
ORGANIZER;CN="Obscure Promotion":MAILTO:filip@obscure.cz
END:VEVENT
END:VCALENDAR