BEGIN:VCALENDAR
VERSION:2.0
PRODID:-//MetalExpress - ECPv6.15.19//NONSGML v1.0//EN
CALSCALE:GREGORIAN
METHOD:PUBLISH
X-ORIGINAL-URL:https://metalexpress.sk
X-WR-CALDESC:Udalosti pre MetalExpress
REFRESH-INTERVAL;VALUE=DURATION:PT1H
X-Robots-Tag:noindex
X-PUBLISHED-TTL:PT1H
BEGIN:VTIMEZONE
TZID:Europe/Bratislava
BEGIN:DAYLIGHT
TZOFFSETFROM:+0100
TZOFFSETTO:+0200
TZNAME:CEST
DTSTART:20220327T010000
END:DAYLIGHT
BEGIN:STANDARD
TZOFFSETFROM:+0200
TZOFFSETTO:+0100
TZNAME:CET
DTSTART:20221030T010000
END:STANDARD
BEGIN:DAYLIGHT
TZOFFSETFROM:+0100
TZOFFSETTO:+0200
TZNAME:CEST
DTSTART:20230326T010000
END:DAYLIGHT
BEGIN:STANDARD
TZOFFSETFROM:+0200
TZOFFSETTO:+0100
TZNAME:CET
DTSTART:20231029T010000
END:STANDARD
BEGIN:DAYLIGHT
TZOFFSETFROM:+0100
TZOFFSETTO:+0200
TZNAME:CEST
DTSTART:20240331T010000
END:DAYLIGHT
BEGIN:STANDARD
TZOFFSETFROM:+0200
TZOFFSETTO:+0100
TZNAME:CET
DTSTART:20241027T010000
END:STANDARD
END:VTIMEZONE
BEGIN:VEVENT
DTSTART;TZID=Europe/Bratislava:20230130T180000
DTEND;TZID=Europe/Bratislava:20230130T223000
DTSTAMP:20260424T092233
CREATED:20230125T131056Z
LAST-MODIFIED:20230125T131056Z
UID:45816-1675101600-1675117800@metalexpress.sk
SUMMARY:REVOCATION s GOATWHORE privezú osemdesiatky na ruby!
DESCRIPTION:REVOCATION\, GOATWHORE\, ALLUVIAL\, CREEPING DEATH\n30. 1. 2023 – Praha\, Modrá Vopice\nEvent: https://fb.me/e/3FxSqovFL\nPředprodej: https://obscure.cz/cs/tickets/detail/id/510 \nNewschool metalisté REVOCATION v září vyšla fantastická deska „Netherheaven“\, kterou do Prahy v pondělí přivezou představit. Na turné je v Evropě doprovází oldschool neurvalci GOATWHORE a progresivní ALLUVIAL s ex-členy The Faceless nebo Suffocation. REVOCATION v září vydali novou\, naprosto epesní desku „Netherheaven“. Na poměry produktivních technických death/thrasherů z Massachusetts\, kteří jsou na aktuální metalové scéně poměrně vzácný úkaz\, se na ní čekalo dlouhé čtyři roky. REVOCATION od roku 2006 stihli vydat hned osm řadových počinů\, přitom u nich není znát žádná výraznější únava či hráčské opotřebení. Není tu patrná ani tendence se uchylovat ke svým osvědčeným postupům\, které si už vyzkoušeli. Naopak\, jejich hudební tvář se proměňuje a jejich stylový záběr neustále rozšiřuje. Nechme promluvit zpěváka a kytaristu Dave Davidsona: „Někdy\, když se metalové kapely vydají cestou progresivity\, ztratí něco ze své ostrosti\, ale my jsme chtěli udržet agresivitu i v popředí toho\, co děláme\, a zároveň opět posunout naše hranice.“ A my musíme souhlasit. REVOCATION chytře oscilují mezi tradičními kovovými žánry historicky jdoucími až někam do 80. let a techničtější modernou\, základnou tvorby však zůstává thrash progresivnějšího ražení.\nGOATWHORE jsou kapela\, co už za svých 25 let má něco za sebou. Jejich hrubě znějící thrash/death má výrazný blackový odér\, sem tam sludge tíhu. Moderna se čekat nedá žádná.\nA tak je to i s jejich novým albem „Angels Hung From The Arches Of Heaven“\, které je opět naplněno jejich charakteristickým extrémem\, jež na svých živelných vystoupeních podávají s dechberoucí intenzitou a nelítostnou krvelačností. Dobrý oldschoolový crossover\, ale zábavný\, jak jen může být. Na turné jim v Evropě společnost dělají progresivní atmo-deathmetalisté ALLUVIAL\, v jejichž řadách naleznete ex-členy The Faceless\, Suffocation\, Black Crown Initiate a dalších a oldschool smrťáci CREEPING DEATH z Texasu. \n\nREVOCATION\n\n\n\nGOATWHORE\n\n\nALLUVIAL\n\n\nCREEPING DEATH\n \nTlačová správa Obscure Promotion
URL:https://metalexpress.sk/event/revocation-s-goatwhore-privezu-osemdesiatky-na-ruby/
LOCATION:Modrá Vopice\, K Žižkovu 1 19000 Prague\, Czech Republic\, Praha\, Praha\, Česká republika
CATEGORIES:Udalosti
ATTACH;FMTTYPE=image/jpeg:https://metalexpress.sk/wp-content/uploads/2023/01/instagram-revocation-2023-praha-vopice.jpg
END:VEVENT
END:VCALENDAR