BEGIN:VCALENDAR
VERSION:2.0
PRODID:-//MetalExpress - ECPv6.15.19//NONSGML v1.0//EN
CALSCALE:GREGORIAN
METHOD:PUBLISH
X-ORIGINAL-URL:https://metalexpress.sk
X-WR-CALDESC:Udalosti pre MetalExpress
REFRESH-INTERVAL;VALUE=DURATION:PT1H
X-Robots-Tag:noindex
X-PUBLISHED-TTL:PT1H
BEGIN:VTIMEZONE
TZID:Europe/Bratislava
BEGIN:DAYLIGHT
TZOFFSETFROM:+0100
TZOFFSETTO:+0200
TZNAME:CEST
DTSTART:20220327T010000
END:DAYLIGHT
BEGIN:STANDARD
TZOFFSETFROM:+0200
TZOFFSETTO:+0100
TZNAME:CET
DTSTART:20221030T010000
END:STANDARD
BEGIN:DAYLIGHT
TZOFFSETFROM:+0100
TZOFFSETTO:+0200
TZNAME:CEST
DTSTART:20230326T010000
END:DAYLIGHT
BEGIN:STANDARD
TZOFFSETFROM:+0200
TZOFFSETTO:+0100
TZNAME:CET
DTSTART:20231029T010000
END:STANDARD
BEGIN:DAYLIGHT
TZOFFSETFROM:+0100
TZOFFSETTO:+0200
TZNAME:CEST
DTSTART:20240331T010000
END:DAYLIGHT
BEGIN:STANDARD
TZOFFSETFROM:+0200
TZOFFSETTO:+0100
TZNAME:CET
DTSTART:20241027T010000
END:STANDARD
END:VTIMEZONE
BEGIN:VEVENT
DTSTART;TZID=Europe/Bratislava:20230127T180000
DTEND;TZID=Europe/Bratislava:20230128T230000
DTSTAMP:20260424T092322
CREATED:20230125T110105Z
LAST-MODIFIED:20230125T110105Z
UID:45798-1674842400-1674946800@metalexpress.sk
SUMMARY:Zimní Symbolický Kafe v Hells 2023
DESCRIPTION:„WINTER“ bude … a bude to velké\, neb jsme se (a nevypilo se u toho ani tolik piv) dohodli na spolupráci s panem Kávou a jeho KAFESTEM. Vzniklo tedy něco jako „Zimní Symbolický Kafe v Hells„.\nTermín připadl na pátek a sobotu 27-28.1.2023. Krom světových metalových legend\, které se tradičně objeví na velkém plátně\, zahrají živě Česko/Angličtí SYMBTOMY a Kladenští COMANDER a PRASELIZER. V sobotu vystoupí Force of Hell\, Naurrakar a thrash metalová mašina Sixth Dimension\, namiesto Poppy Seed Grinder.  \nPočet návštěvníků omezujeme tradičně na 100 lidí\, kterým opět vyrobíme památeční kartičky s fotkou\, jménem a line-upem. Objednávky přijímáme přes náš e-shop a jelikož se vše na světě zdražuje\, MY NECHÁVÁME STEJNOU CENU\, jako v roce 2020\, tedy 250 Kč za oba dva dny.\nTěšíme se na Vás! \nDátum: 27.1. – 28.1.2023\nMiesto: Hells Bells\, Praha\nFB Event: https://www.facebook.com/events/1135792690694961/
URL:https://metalexpress.sk/event/zimni-symbolicky-kafe-v-hells-2023/
LOCATION:Hells Bells\, Na Bělidle 27\, Prague\, Czech Republic\, Praha\, Praha\, Česká republika
CATEGORIES:Udalosti
ATTACH;FMTTYPE=image/jpeg:https://metalexpress.sk/wp-content/uploads/2023/01/327356629_883467829662457_516856407892004590_n.jpg
END:VEVENT
BEGIN:VEVENT
DTSTART;TZID=Europe/Bratislava:20230128T180000
DTEND;TZID=Europe/Bratislava:20230128T223000
DTSTAMP:20260424T092322
CREATED:20230125T110646Z
LAST-MODIFIED:20230125T110646Z
UID:45803-1674928800-1674945000@metalexpress.sk
SUMMARY:KATATONIA\, SÓLSTAFIR\, SOM - Praha
DESCRIPTION:Švédská KATATONIA a islandští SÓLSTAFIR oznamují společné turné\, k němuž přizvali post-rockový super-kolektiv SOM složený ze současných i bývalých členů Caspian\, Junius a Constants\, jehož součástí bude i pražská zastávka v legendárním podzemním klubu ROXY!\nDá se tomuto spojení kapel vůbec něco vytknout?\nKde jinde by jedinečné atmosféry všech tří interpretů\, které jsou až po okraj magické číše naplněné melancholií\, zasněností\, vášní i všech temných tužeb\, jež nikdo nevyřkne nahlas\, vyzněly lépe? \nKatatonia\n \nSólstafir\n \n——————————–\nKATATONIA\, SÓLSTAFIR\, SOM\n28. 1. 2023 – PRAHA\, ROXY\nPředprodej: https://obscure.cz/cs/tickets/detail/id/415\nVstupenky dále v síti Ticketmaster.
URL:https://metalexpress.sk/event/katatonia-solstafir-som-praha/
LOCATION:Roxy Praha\, Dlouhá 33\, Praha 1\, Czech Republic\, Praha\, Praha 1\, Česká republika
CATEGORIES:Udalosti
ATTACH;FMTTYPE=image/jpeg:https://metalexpress.sk/wp-content/uploads/2023/01/269832005_4645439098879192_8672898517472615234_n.jpg
END:VEVENT
BEGIN:VEVENT
DTSTART;TZID=Europe/Bratislava:20230128T180000
DTEND;TZID=Europe/Bratislava:20230128T223000
DTSTAMP:20260424T092322
CREATED:20230125T112235Z
LAST-MODIFIED:20230125T112235Z
UID:45808-1674928800-1674945000@metalexpress.sk
SUMMARY:Orkrist - Galadriel - Autumn Nostalgie v sobotu v Randali!
DESCRIPTION:Už túto sobotu 28.1. sa na pódiu v Randal Clube v Bratislave stretnú tri slovenské kapely. Ako prvá vystúpi Autumn Nostalgie\, atmosferický post black metal\, ktorý viac upútal zahraničie\, kde už vystúpili na rôznych miestach. Tento rok sa však predstavili na živo v Trnave a na rad príde v sobotu aj Bratislava. Druhá vystupujúca kapela bude všetkým dobre známy Galadriel\, ktorí nevystupujú už veľmi často\, takže si ich nenechajte ujsť. Na záver večera odohrá Orkrist a zároveň predstavia a pokrstia aj svoj nový album.  \nOrkrist (atmosfericky black/doom metal) – premiéra nového albumu\n\nGaladriel – dark/doom metalova legenda a jej predstavenie sa po istej odmlke domácemu publiku\n\nAutumn Nostalgie – atmosferický post black metal\, úspešná skupina v zahraničí s koncertnými skúsenosťami v Nemecku\, Rakúsku a Maďarsku\, ktorá začala hrávať naživo len pred rokom\n \nMiesto: Randal Music Club\nDátum: 28.1.2023\nVstup: 10 € v predpredaji – https://predpredaj.zoznam.sk/sk/listky/orkrist-galadriel-autumn-nostalgie/\nFB Udalosť: https://www.facebook.com/events/1169662803973415/
URL:https://metalexpress.sk/event/orkrist-galadriel-autumn-nostalgie-v-sobotu-v-randali/
LOCATION:Randal Music Club\, Karpatská 2\, Bratislava\, Bratislava\, Bratislavský Kraj\, 81105\, Slovenská republika
CATEGORIES:Udalosti
ATTACH;FMTTYPE=image/jpeg:https://metalexpress.sk/wp-content/uploads/2023/01/314499404_643006780607772_71823159947991046_n.jpg
END:VEVENT
END:VCALENDAR