BEGIN:VCALENDAR
VERSION:2.0
PRODID:-//MetalExpress - ECPv6.15.19//NONSGML v1.0//EN
CALSCALE:GREGORIAN
METHOD:PUBLISH
X-WR-CALNAME:MetalExpress
X-ORIGINAL-URL:https://metalexpress.sk
X-WR-CALDESC:Udalosti pre MetalExpress
REFRESH-INTERVAL;VALUE=DURATION:PT1H
X-Robots-Tag:noindex
X-PUBLISHED-TTL:PT1H
BEGIN:VTIMEZONE
TZID:Europe/Bratislava
BEGIN:DAYLIGHT
TZOFFSETFROM:+0100
TZOFFSETTO:+0200
TZNAME:CEST
DTSTART:20220327T010000
END:DAYLIGHT
BEGIN:STANDARD
TZOFFSETFROM:+0200
TZOFFSETTO:+0100
TZNAME:CET
DTSTART:20221030T010000
END:STANDARD
BEGIN:DAYLIGHT
TZOFFSETFROM:+0100
TZOFFSETTO:+0200
TZNAME:CEST
DTSTART:20230326T010000
END:DAYLIGHT
BEGIN:STANDARD
TZOFFSETFROM:+0200
TZOFFSETTO:+0100
TZNAME:CET
DTSTART:20231029T010000
END:STANDARD
BEGIN:DAYLIGHT
TZOFFSETFROM:+0100
TZOFFSETTO:+0200
TZNAME:CEST
DTSTART:20240331T010000
END:DAYLIGHT
BEGIN:STANDARD
TZOFFSETFROM:+0200
TZOFFSETTO:+0100
TZNAME:CET
DTSTART:20241027T010000
END:STANDARD
END:VTIMEZONE
BEGIN:VEVENT
DTSTART;TZID=Europe/Bratislava:20230124T160000
DTEND;TZID=Europe/Bratislava:20230124T223000
DTSTAMP:20260424T123350
CREATED:20230111T170105Z
LAST-MODIFIED:20230111T170105Z
UID:45665-1674576000-1674599400@metalexpress.sk
SUMMARY:Elegie za pohasínající svět: supernova SHADOW OF INTENT letí na Evropu
DESCRIPTION:SHADOW OF INTENT\, ENTERPRISE EARTH\, ANGELMAKER\, TO THE GRAVE \n24.1 2023 – Praha\, Futurum \nFB event: https://fb.me/e/2PiESbH6v\ne-TICKET: http://obscure.cz/cs/tickets/detail/id/468 \nSHADOW OF INTENT v Evropě! Fanoušky hutné deathcore moderny potěší i fakt\, že společně s ambiciózními symfoniky se na turné vydají spříznění ENTERPRISE EARTH\, ANGELMAKER a TO THE GRAVE. Deathcore party jak řemen! \nSHADOW OF INTENT vznikli teprve v roce 2014\, a i přesto\, že svou hudbu vydávají nezávisle bez podpory velkého labelu\, jejich hvězda nabírá tak na svitu\, že přes něj na hvězdném deathcore nebi není vidět ani na leckteré již déle zářící kolegy. \nA není divu. Američani z Nové Anglie svou tvorbu pojímají epicky\, chytlavě\, úderně a doplňují ji výraznou symfonickou složkou\, což jejich hutnou modernu vycházející z death metalu stylisticky přibližuje k vyznění symfo-blackových kapel či uznávaným Italům Fleshgod Apocalypse\, což sedí i tematicky. Vše okolo kapely má totiž fantazijní pozadí. To se na začátku inspirovalo\, vč. názvu SHADOW OF INTENT\, v herní sérii Halo\, nicméně průběhem let se témata stala osobnější a potemněla. \nA protože v minulý leden vyšla čtvrtá deska „Elegy“\, SHADOW OF INTENT se na její podporu vydají na turné. Z důvodu pandemie si však všichni ještě rok počkáme\, neb to je ohlášeno až na leden 2023. \nNa velmi lukrativní kvartet tohle tažení Evropou rozšiřují tři další populární deathcore spolky: ENTERPRISE EARTH z Ameriky\, ANGELMAKER z Kanady a  TO THE GRAVE z Austrálie. \nSHADOW OF INTENT\nhttps://youtu.be/w04vygx0ApI\nhttps://youtu.be/XTETqt-mA2I\nhttps://youtu.be/s4bGyDHTD5s\nhttps://youtu.be/t3zgCYe3HCI \nENTERPRISE EARTH\nhttps://youtu.be/LeekED8EAV4\nhttps://youtu.be/KKcNhBxfExM\nhttps://youtu.be/H1Xtp7E16as \nANGELMAKER\nhttps://youtu.be/-iXLcyNs7LE\nhttps://youtu.be/9y9R2cQyVvs\nhttps://youtu.be/5Hba6abi1eg \nTO THE GRAVE\nhttps://youtu.be/_eVHPX18kPc\nhttps://youtu.be/jY67FPBNQRE\nhttps://youtu.be/rDNX2BGnKAA\nhttps://youtu.be/7o1FW6jJP0I \nPředprodej viz e-TICKET výše\, dále pak v síti Ticketmaster. \nTlačová správa Obscure Promotion
URL:https://metalexpress.sk/event/elegie-za-pohasinajici-svet-supernova-shadow-of-intent-leti-na-evropu/
LOCATION:Futurum Music Club\, Zborovská 7\, Prague\, Czech Republic\, Praha\, Praha\, Česká republika
CATEGORIES:Udalosti
ATTACH;FMTTYPE=image/jpeg:https://metalexpress.sk/wp-content/uploads/2023/01/story-shadow-of-intent-2023-new-lineup.jpg
END:VEVENT
BEGIN:VEVENT
DTSTART;TZID=Europe/Bratislava:20230124T180000
DTEND;TZID=Europe/Bratislava:20230124T223000
DTSTAMP:20260424T123350
CREATED:20230116T142900Z
LAST-MODIFIED:20230116T142900Z
UID:45682-1674583200-1674599400@metalexpress.sk
SUMMARY:Monstrosity / Origin / Reject the Sickness / Intrepid v Randal Music Clube!
DESCRIPTION:Ako už všetci vieme\, Florida je miesto\, kde sa rodia death metalové legendy a práve jedna z týchto mieri začiatkom budúceho roka na Slovensko.\nDeath metalová legenda MONSTROSITY v plnej sile mieria na Slovensko\, aby predstavili svoju novú tvorbu a tak isto aj skladby z kultových albumov ako „The Passage Of Existence“\, „Imperiál Doom“ a „In Dark Purity“.\nNa ceste po Európe ich bude sprevádzať technická death metalová legenda ORIGIN\, ktorá sa k nám vracia po 5 rokoch s nový album menom „Chaosmos“. Naposledy v Banskej Bystrici predviedli ukážkovú show a dokázali\, že sú to majstri svojho remesla!\nAkciu otvoria melodicky death metalisti z Belgicka Reject the Sickness a death metalisti z Estónska menom Intrepid.\n____________________________________________\nMONSTROSITY (USA) – Death Metal\nFB: https://www.facebook.com/MonstrosityOfficial\nYT: https://youtu.be/KcHGRzm9oOI\nORIGIN (USA) – Technical Brutal Death Metal\nFB: https://www.facebook.com/Origin/\nYT: https://youtu.be/CdHV0E7qyJ0\nReject The Sickness (BE) – Melodic Death Metal\nFB: https://www.facebook.com/rejectthesickness\nYT: https://www.youtube.com/watch?v=ZdfwonMI7MU\nIntrepid (EST) – Death Metal\nFB: https://www.facebook.com/IntrepidEST/\nYT: https://youtu.be/LNz7LEaBSSg\n____________________________________________\nPredpredaj:\nhttps://predpredaj.zoznam.sk/…/monstrosity-origin…/\nLink na udalosť: https://www.facebook.com/events/704547647682837/\n\nText pochádza z udalosti na FB
URL:https://metalexpress.sk/event/monstrosity-origin-reject-the-sickness-intrepid-v-randal-music-clube/
LOCATION:Randal Music Club\, Karpatská 2\, Bratislava\, Bratislava\, Bratislavský Kraj\, 81105\, Slovenská republika
CATEGORIES:Udalosti
ATTACH;FMTTYPE=image/jpeg:https://metalexpress.sk/wp-content/uploads/2022/12/314361335_817844756298083_2249123198910161432_n.jpg
END:VEVENT
END:VCALENDAR