BEGIN:VCALENDAR
VERSION:2.0
PRODID:-//MetalExpress - ECPv6.15.19//NONSGML v1.0//EN
CALSCALE:GREGORIAN
METHOD:PUBLISH
X-ORIGINAL-URL:https://metalexpress.sk
X-WR-CALDESC:Udalosti pre MetalExpress
REFRESH-INTERVAL;VALUE=DURATION:PT1H
X-Robots-Tag:noindex
X-PUBLISHED-TTL:PT1H
BEGIN:VTIMEZONE
TZID:Europe/Bratislava
BEGIN:DAYLIGHT
TZOFFSETFROM:+0100
TZOFFSETTO:+0200
TZNAME:CEST
DTSTART:20220327T010000
END:DAYLIGHT
BEGIN:STANDARD
TZOFFSETFROM:+0200
TZOFFSETTO:+0100
TZNAME:CET
DTSTART:20221030T010000
END:STANDARD
BEGIN:DAYLIGHT
TZOFFSETFROM:+0100
TZOFFSETTO:+0200
TZNAME:CEST
DTSTART:20230326T010000
END:DAYLIGHT
BEGIN:STANDARD
TZOFFSETFROM:+0200
TZOFFSETTO:+0100
TZNAME:CET
DTSTART:20231029T010000
END:STANDARD
BEGIN:DAYLIGHT
TZOFFSETFROM:+0100
TZOFFSETTO:+0200
TZNAME:CEST
DTSTART:20240331T010000
END:DAYLIGHT
BEGIN:STANDARD
TZOFFSETFROM:+0200
TZOFFSETTO:+0100
TZNAME:CET
DTSTART:20241027T010000
END:STANDARD
END:VTIMEZONE
BEGIN:VEVENT
DTSTART;TZID=Europe/Bratislava:20230121T070000
DTEND;TZID=Europe/Bratislava:20230121T160000
DTSTAMP:20260424T121713
CREATED:20230116T150411Z
LAST-MODIFIED:20230116T150411Z
UID:45701-1674284400-1674316800@metalexpress.sk
SUMMARY:Unleash The Beast 2023 v Barrák Music Clube túto sobotu!
DESCRIPTION:Druhý ročník zimního metalového minifestivalu je zpět s našlapaným programem. Lineup bude zveřejněn brzy.  \nPotvrzené kapely jsou:\n– Innersphere \nhttps://www.facebook.com/innerspheremetal\n– Vanguard \nhttps://www.facebook.com/vanguardbandofficialpage\n– Tartaros \n\n– Madrain \nhttps://www.facebook.com/profile.php?id=100049553059518\n– Headlock \nhttps://www.facebook.com/head.lock.metal\n– Praselizer \nhttps://www.facebook.com/profile.php?id=100050318417842\n\n\n\nDátum: 21.01.2023\nMiesto: Barrák Music Club\, Ostrava\nVstup: 200 CZK\nFB Event: https://www.facebook.com/events/659154422371230/\nText z udalosti na Facebooku.
URL:https://metalexpress.sk/event/unleash-the-beast-2023-v-barrak-music-clube-tuto-sobotu/
LOCATION:Barrák\, Havlíčkovo nábřeží 28\, Ostrava\, Czech Republic\, Ostrava\, Ostrava\, Česká republika
CATEGORIES:Udalosti
ATTACH;FMTTYPE=image/jpeg:https://metalexpress.sk/wp-content/uploads/2023/01/318350871_525689129576996_3943393712695656295_n.jpg
END:VEVENT
BEGIN:VEVENT
DTSTART;TZID=Europe/Bratislava:20230121T180000
DTEND;TZID=Europe/Bratislava:20230121T223000
DTSTAMP:20260424T121713
CREATED:20230116T145010Z
LAST-MODIFIED:20230116T145010Z
UID:45691-1674324000-1674340200@metalexpress.sk
SUMMARY:Cranial Massacre VII. v klube Mír v Uherskom Hradišti už túto sobotu!
DESCRIPTION:MORDUM – technický DM\, projekt členů CARNAL\, INFER\, CONTEMPT!\nhttps://www.metal-archives.com/bands/Mordum/23216\nhttps://www.facebook.com/mordumsk\n\nREALMS OF CHAOS – DM buldozer\, projekt lidí z DEMENTOR\, IMPERIUM\, PORENUT!\nhttps://www.metal-archives.com/…/Realms_of…/3540461886\nhttps://www.facebook.com/RealmsOfChaosSVK\n\nDYSANGELIUM – česká stálice Death Metalu\, kolegové a dobří přátelé\, pozor nová sestava!\nhttps://www.metal-archives.com/bands/Dysangelium/3540358521\nhttps://www.facebook.com/profile.php?id=100086397441918\n\nCRANIAL CARNAGE – zahrajeme poprvé v UH novou desku a nějaké nové\, nikým neslyšené songy!\nhttps://www.metal-archives.com/…/Cranial…/3540408797\nhttps://www.facebook.com/cranialcarnage.uh.o\n\nSEE YOU DIE – kámoši z Ostroh city! Řízný a dynamický hardcore-punk!\nhttps://bandzone.cz/seeyoudie\n\nDátum: 21.1.2023\nVstup: 200 CZK\nMiesto: Klub Mír\, Uherské Hradište\nFB Event: https://www.facebook.com/events/773533320408888/\n\nText prebratý z FB eventu
URL:https://metalexpress.sk/event/cranial-massacre-vii-v-klube-mir-v-uherskom-hradisti-uz-tuto-sobotu/
LOCATION:Klub Mír\, Nám. Míru 765\, Uherske Hradiste\, Czech Republic\, Uherske Hradište\, Česká republika
CATEGORIES:Udalosti
ATTACH;FMTTYPE=image/jpeg:https://metalexpress.sk/wp-content/uploads/2023/01/312232123_10225675075137414_7669336837730890792_n.jpg
END:VEVENT
BEGIN:VEVENT
DTSTART;TZID=Europe/Bratislava:20230121T180000
DTEND;TZID=Europe/Bratislava:20230121T223000
DTSTAMP:20260424T121713
CREATED:20230116T145321Z
LAST-MODIFIED:20230116T145321Z
UID:45695-1674324000-1674340200@metalexpress.sk
SUMMARY:Číra Zloba vol.4 - Zmyrna\, Prediction\, Solipsism\, Otras\, Pakosteň v Kulturák Klube!
DESCRIPTION:Ďalší black metalový sviatok nás čaká v sobotu 21. januára. V našej kulturáckej kobke sa opäť stretne 5 kapiel\, ktoré sú tým najlepším\, čo v našom okolí máme. Bratislavu na jeden večer opäť zahalí temnota.\nZmyrna (medieval black metal\, Praha)\nhttps://zmyrnablackmetal.bandcamp.com/album/zmyrna\n\nPrediction (black-thrash metal\, Upper Austria)\nhttps://www.youtube.com/channel/UCDj2rBrQs5DjBFXq7Rwzr9A\n\nOtras (black metal-punk\, Košice)\nhttps://otraspunx.bandcamp.com\n\nPakosteň (black metal-punk\, Praha)\nhttps://pakosten.bandcamp.com/…/adca-from-otras-pakoste…\n\nSolipsism (negative black metal\, Banská Bystrica)\nhttps://solipsismband.bandcamp.com\nPlagát: @seeruus\n\nDátum: 21.01.2023\nMiesto: Kulturák Klub\, Bratislava\nVstup: 7 – 10 €\nFB Event: https://www.facebook.com/events/926945958271050/
URL:https://metalexpress.sk/event/cira-zloba-vol-4-zmyrna-prediction-solipsism-otras-pakosten-v-kulturak-klube/
LOCATION:Kulturák\, Štefánikova 47\, Bratislava\, Slovakia\, Bratislava\, Bratislavský Kraj\, 811 04\, Slovenská republika
CATEGORIES:Udalosti
ATTACH;FMTTYPE=image/jpeg:https://metalexpress.sk/wp-content/uploads/2023/01/319945454_540753591281304_9092276681383792193_n.jpg
END:VEVENT
BEGIN:VEVENT
DTSTART;TZID=Europe/Bratislava:20230121T180000
DTEND;TZID=Europe/Bratislava:20230121T223000
DTSTAMP:20260424T121713
CREATED:20230116T145556Z
LAST-MODIFIED:20230116T145556Z
UID:45698-1674324000-1674340200@metalexpress.sk
SUMMARY:Layers | Krst albumu v Košiciach!
DESCRIPTION:Košická kapela All The Fury prezentujúca najmä škandinávsku vlnu melodického death metalu vydala svoj druhý album pod titulom Layers\, ktorý bude pokrstený na tomto podujatí.\nhttps://allthefury.bandcamp.com/album/layers\nKrstiť bude osobnosť košického undergroundu Martin Lukáč.\n\nŠpeciálnym hosťom akcie bude personálne spriaznená kapela Wastage.\nhttps://youtu.be/WSXtdmeB4_I\n\nPrídte sa zabaviť\, užiť si našľapanú muziku a vytvoriť príjemnú atmosféru. Tešíme sa na Vás 21. januára 2023 o 19:30 v košickom Collosseu\, klube 777.\nVstupné: 5 EUR\nFB Udalosť: https://www.facebook.com/events/672754047684672/\n\nText prebratý z FB Udalosti.
URL:https://metalexpress.sk/event/layers-krst-albumu-v-kosiciach/
LOCATION:Collosseum\, Dominikánske námestie 35\, Košice\, Košice\, 04001\, Slovenská republika
CATEGORIES:Udalosti
ATTACH;FMTTYPE=image/jpeg:https://metalexpress.sk/wp-content/uploads/2023/01/322456072_1157299991843268_4885217475012067055_n.jpg
END:VEVENT
END:VCALENDAR